BEGIN:VCALENDAR
VERSION:2.0
PRODID:-//Downtown Glendale - ECPv6.15.20//NONSGML v1.0//EN
CALSCALE:GREGORIAN
METHOD:PUBLISH
X-WR-CALNAME:Downtown Glendale
X-ORIGINAL-URL:https://downtownglendale.com
X-WR-CALDESC:Events for Downtown Glendale
REFRESH-INTERVAL;VALUE=DURATION:PT1H
X-Robots-Tag:noindex
X-PUBLISHED-TTL:PT1H
BEGIN:VTIMEZONE
TZID:America/Los_Angeles
BEGIN:DAYLIGHT
TZOFFSETFROM:-0800
TZOFFSETTO:-0700
TZNAME:PDT
DTSTART:20130310T100000
END:DAYLIGHT
BEGIN:STANDARD
TZOFFSETFROM:-0700
TZOFFSETTO:-0800
TZNAME:PST
DTSTART:20131103T090000
END:STANDARD
BEGIN:DAYLIGHT
TZOFFSETFROM:-0800
TZOFFSETTO:-0700
TZNAME:PDT
DTSTART:20140309T100000
END:DAYLIGHT
BEGIN:STANDARD
TZOFFSETFROM:-0700
TZOFFSETTO:-0800
TZNAME:PST
DTSTART:20141102T090000
END:STANDARD
BEGIN:DAYLIGHT
TZOFFSETFROM:-0800
TZOFFSETTO:-0700
TZNAME:PDT
DTSTART:20150308T100000
END:DAYLIGHT
BEGIN:STANDARD
TZOFFSETFROM:-0700
TZOFFSETTO:-0800
TZNAME:PST
DTSTART:20151101T090000
END:STANDARD
END:VTIMEZONE
BEGIN:VEVENT
DTSTART;TZID=America/Los_Angeles:20140531T193000
DTEND;TZID=America/Los_Angeles:20140531T193000
DTSTAMP:20260420T225321
CREATED:20140403T073254Z
LAST-MODIFIED:20140403T073254Z
UID:10003056-1401564600-1401564600@downtownglendale.com
SUMMARY:La Rubia Productions Presents Herencia Flamenca
DESCRIPTION:Experience the thunderous\, soulful and expressive dance that originated in the Andalusia region of southern Spain. \nSpontaneous\, authentic and impassioned – raw emotion is on tap this spring when ‘Herencia Flamenca’ returns with a full line-up of artists from the heartland of Spain for two shows only at the Alex Theatre Saturday\, May 31\, at 7:30 pm and Sunday\, June 1\, 2014 at 2:30 pm. \nThe company’s unrestrained energy\, raw emotion and commanding virtuosity have elicited overwhelming responses from international audiences and reviewers alike. This dynamic company represents the finest of traditional and contemporary trends in flamenco. \nThis year’s line-up includes two elegant and refined yet explosive dancers\, Barcelona-born Yolanda Arroyo\, and\, making her U.S debut\, Dolores Gimenez. Each dancer brings her own innovative choreography to challenge and honor traditional flamenco expression. Stunning costumes and rapid-fire footwork are punctuated by moments of stillness throughout the two-hour program. With expressive hands and fiery feet\, both command a full range of emotional intensity. The bailaoras will share the stage in a virtuosic display of styles from the Gypsy roots of flamenco innovations. \nFor all of these artists\, Flamenco is a deeply rooted tradition\, and what they bring to the stage is nourished by those who came before them. Cordoba-born Flamenco guitarist Paco Arroyo spearheads this program of original music. A gifted guitarist\, Paco skillfully delivers attack and grace\, combining his natural sense of modern Flamenco with traditional forms. Veteran guitarist Fernando Mejias joins Paco with his own expressive style and impressive technique. \nThis powerful collaboration includes singer Vicente Gelo direct from Sevilla. This superstar vocalist from Spain returns to Glendale’s Alex Theatre for the first time since his 2010 debut. Gelo will be joined by Madrid-based cantaora Sonia Berbel\, a singer of immense rhythmic style and sensitivity. Together these two will fill the auditorium with their powerful cante. \nThe cast will be joined by a ‘fiestero’ (a special saucy flamenco singer who mixes styles) and percussion to provide explosive rhythmic strength and inspiration for all. \nThis powerhouse of inspired flamenco returns to its roots\, providing audiences with a rare chance to witness fierce\, blazing renditions of flamenco puro on stage and experience a dynamic vision of a life of pride\, passion\, honor\, sorrow\, and love.
URL:https://downtownglendale.com/event/la-rubia-productions-presents-herencia-flamenca/
LOCATION:Alex Theatre\, 216 N. Brand Blvd.\, Glendale\, CA\, 91203\, United States
GEO:34.148864;-118.254095
X-APPLE-STRUCTURED-LOCATION;VALUE=URI;X-ADDRESS=Alex Theatre 216 N. Brand Blvd. Glendale CA 91203 United States;X-APPLE-RADIUS=500;X-TITLE=216 N. Brand Blvd.:geo:-118.254095,34.148864
END:VEVENT
END:VCALENDAR