BEGIN:VCALENDAR
VERSION:2.0
PRODID:-//Downtown Glendale - ECPv6.15.20//NONSGML v1.0//EN
CALSCALE:GREGORIAN
METHOD:PUBLISH
X-WR-CALNAME:Downtown Glendale
X-ORIGINAL-URL:https://downtownglendale.com
X-WR-CALDESC:Events for Downtown Glendale
REFRESH-INTERVAL;VALUE=DURATION:PT1H
X-Robots-Tag:noindex
X-PUBLISHED-TTL:PT1H
BEGIN:VTIMEZONE
TZID:America/Los_Angeles
BEGIN:DAYLIGHT
TZOFFSETFROM:-0800
TZOFFSETTO:-0700
TZNAME:PDT
DTSTART:20180311T100000
END:DAYLIGHT
BEGIN:STANDARD
TZOFFSETFROM:-0700
TZOFFSETTO:-0800
TZNAME:PST
DTSTART:20181104T090000
END:STANDARD
BEGIN:DAYLIGHT
TZOFFSETFROM:-0800
TZOFFSETTO:-0700
TZNAME:PDT
DTSTART:20190310T100000
END:DAYLIGHT
BEGIN:STANDARD
TZOFFSETFROM:-0700
TZOFFSETTO:-0800
TZNAME:PST
DTSTART:20191103T090000
END:STANDARD
BEGIN:DAYLIGHT
TZOFFSETFROM:-0800
TZOFFSETTO:-0700
TZNAME:PDT
DTSTART:20200308T100000
END:DAYLIGHT
BEGIN:STANDARD
TZOFFSETFROM:-0700
TZOFFSETTO:-0800
TZNAME:PST
DTSTART:20201101T090000
END:STANDARD
END:VTIMEZONE
BEGIN:VEVENT
DTSTART;TZID=America/Los_Angeles:20190804T190000
DTEND;TZID=America/Los_Angeles:20190804T190000
DTSTAMP:20260421T062714
CREATED:20190724T153628Z
LAST-MODIFIED:20190724T154039Z
UID:10004090-1564945200-1564945200@downtownglendale.com
SUMMARY:DEMQ Inc. Presents A DEMQ Show Film Honest Thieves
DESCRIPTION:A DEMQ Show Film – HONEST THIEVES \nA new Armenian comedy film with English subtitles.\nDirected by Gor Kirakosian. \nSynopsis: Five misfits attempt to steal an antique heirloom so that they can turn it in to the police and collect the reward. \n5:30 PM – Red Carpet\n7:00 PM – Film Screening
URL:https://downtownglendale.com/event/demq-inc-presents-a-demq-show-film-honest-thieves/
LOCATION:Alex Theatre\, 216 N. Brand Blvd.\, Glendale\, CA\, 91203\, United States
GEO:34.148864;-118.254095
X-APPLE-STRUCTURED-LOCATION;VALUE=URI;X-ADDRESS=Alex Theatre 216 N. Brand Blvd. Glendale CA 91203 United States;X-APPLE-RADIUS=500;X-TITLE=216 N. Brand Blvd.:geo:-118.254095,34.148864
END:VEVENT
END:VCALENDAR