BEGIN:VCALENDAR
VERSION:2.0
PRODID:-//Downtown Glendale - ECPv6.15.20//NONSGML v1.0//EN
CALSCALE:GREGORIAN
METHOD:PUBLISH
X-ORIGINAL-URL:https://downtownglendale.com
X-WR-CALDESC:Events for Downtown Glendale
REFRESH-INTERVAL;VALUE=DURATION:PT1H
X-Robots-Tag:noindex
X-PUBLISHED-TTL:PT1H
BEGIN:VTIMEZONE
TZID:America/Los_Angeles
BEGIN:DAYLIGHT
TZOFFSETFROM:-0800
TZOFFSETTO:-0700
TZNAME:PDT
DTSTART:20180311T100000
END:DAYLIGHT
BEGIN:STANDARD
TZOFFSETFROM:-0700
TZOFFSETTO:-0800
TZNAME:PST
DTSTART:20181104T090000
END:STANDARD
BEGIN:DAYLIGHT
TZOFFSETFROM:-0800
TZOFFSETTO:-0700
TZNAME:PDT
DTSTART:20190310T100000
END:DAYLIGHT
BEGIN:STANDARD
TZOFFSETFROM:-0700
TZOFFSETTO:-0800
TZNAME:PST
DTSTART:20191103T090000
END:STANDARD
BEGIN:DAYLIGHT
TZOFFSETFROM:-0800
TZOFFSETTO:-0700
TZNAME:PDT
DTSTART:20200308T100000
END:DAYLIGHT
BEGIN:STANDARD
TZOFFSETFROM:-0700
TZOFFSETTO:-0800
TZNAME:PST
DTSTART:20201101T090000
END:STANDARD
END:VTIMEZONE
BEGIN:VEVENT
DTSTART;TZID=America/Los_Angeles:20191110T190000
DTEND;TZID=America/Los_Angeles:20191110T190000
DTSTAMP:20260424T041607
CREATED:20191104T090551Z
LAST-MODIFIED:20191104T090551Z
UID:10004099-1573412400-1573412400@downtownglendale.com
SUMMARY:Musical Theatre Guild Presents The Goodbye Girl
DESCRIPTION:Musical Theatre Guild presents a Staged Concert Version of\nTHE GOODBYE GIRL \nMusic: Marvin Hamlisch\nLyrics: David Zippel\nBook: Neil Simon\nBased on Simon’s 1977 award-winning screenplay of the same name \nBased on Neil Simon’s 1977 award-winning film\, THE GOODBYE GIRL follows the unlikely comic romance between Paula\, a bitter single mother and former Broadway dancer who has been jilted one too many times\, and Elliot\, an opinionated actor who shows up unexpectedly with a lease to sublet her apartment. Musical sparks ensue. Simon’s collaborators for the musical were the legendary Marvin Hamlisch (A Chorus Line) and David Zippel (City of Angels).\nAfter an out-of-town tryout in Chicago\, THE GOODBYE GIRL opened on Broadway in 1993 starring Bernadette Peters and\, in his Broadway debut\, Martin Short. It ran for 188 performances\, was nominated for 5 Tony® Awards and won the Drama Desk Award for Mr. Hamlisch’s brassy\, giddy and rhythmic score.
URL:https://downtownglendale.com/event/musical-theatre-guild-presents-the-goodbye-girl/
LOCATION:Alex Theatre\, 216 N. Brand Blvd.\, Glendale\, CA\, 91203\, United States
GEO:34.148864;-118.254095
X-APPLE-STRUCTURED-LOCATION;VALUE=URI;X-ADDRESS=Alex Theatre 216 N. Brand Blvd. Glendale CA 91203 United States;X-APPLE-RADIUS=500;X-TITLE=216 N. Brand Blvd.:geo:-118.254095,34.148864
END:VEVENT
END:VCALENDAR