BEGIN:VCALENDAR
VERSION:2.0
PRODID:-//Downtown Glendale - ECPv6.15.20//NONSGML v1.0//EN
CALSCALE:GREGORIAN
METHOD:PUBLISH
X-ORIGINAL-URL:https://downtownglendale.com
X-WR-CALDESC:Events for Downtown Glendale
REFRESH-INTERVAL;VALUE=DURATION:PT1H
X-Robots-Tag:noindex
X-PUBLISHED-TTL:PT1H
BEGIN:VTIMEZONE
TZID:America/Los_Angeles
BEGIN:DAYLIGHT
TZOFFSETFROM:-0800
TZOFFSETTO:-0700
TZNAME:PDT
DTSTART:20200308T100000
END:DAYLIGHT
BEGIN:STANDARD
TZOFFSETFROM:-0700
TZOFFSETTO:-0800
TZNAME:PST
DTSTART:20201101T090000
END:STANDARD
BEGIN:DAYLIGHT
TZOFFSETFROM:-0800
TZOFFSETTO:-0700
TZNAME:PDT
DTSTART:20210314T100000
END:DAYLIGHT
BEGIN:STANDARD
TZOFFSETFROM:-0700
TZOFFSETTO:-0800
TZNAME:PST
DTSTART:20211107T090000
END:STANDARD
BEGIN:DAYLIGHT
TZOFFSETFROM:-0800
TZOFFSETTO:-0700
TZNAME:PDT
DTSTART:20220313T100000
END:DAYLIGHT
BEGIN:STANDARD
TZOFFSETFROM:-0700
TZOFFSETTO:-0800
TZNAME:PST
DTSTART:20221106T090000
END:STANDARD
END:VTIMEZONE
BEGIN:VEVENT
DTSTART;TZID=America/Los_Angeles:20211009T160000
DTEND;TZID=America/Los_Angeles:20211009T180000
DTSTAMP:20260421T001734
CREATED:20211206T075951Z
LAST-MODIFIED:20211206T075951Z
UID:10003594-1633795200-1633802400@downtownglendale.com
SUMMARY:222 East Concert Series: MoForro
DESCRIPTION:MoForro plays triangle-driven\, hip-swiveling dance music in the traditional\, rootsy\, “pé de serra” style of forró. A music that was born out of the countryside of the dry Northeast\, forró is now one of the most popular rhythms to come from Brazil. Since forming in late 2012\, MoForro–along with the Forró in L.A. collective–has been integral to the growing popularity of forró as a dance-music genre throughout Southern California.
URL:https://downtownglendale.com/event/222-east-concert-series-moforro/
LOCATION:Downtown Central Library\, 222 E. Harvard St.\, Glendale\, CA\, 91205\, United States
GEO:34.1441907;-118.253502
X-APPLE-STRUCTURED-LOCATION;VALUE=URI;X-ADDRESS=Downtown Central Library 222 E. Harvard St. Glendale CA 91205 United States;X-APPLE-RADIUS=500;X-TITLE=222 E. Harvard St.:geo:-118.253502,34.1441907
END:VEVENT
END:VCALENDAR