BEGIN:VCALENDAR
VERSION:2.0
PRODID:-//Downtown Glendale - ECPv6.15.20//NONSGML v1.0//EN
CALSCALE:GREGORIAN
METHOD:PUBLISH
X-WR-CALNAME:Downtown Glendale
X-ORIGINAL-URL:https://downtownglendale.com
X-WR-CALDESC:Events for Downtown Glendale
REFRESH-INTERVAL;VALUE=DURATION:PT1H
X-Robots-Tag:noindex
X-PUBLISHED-TTL:PT1H
BEGIN:VTIMEZONE
TZID:America/Los_Angeles
BEGIN:DAYLIGHT
TZOFFSETFROM:-0800
TZOFFSETTO:-0700
TZNAME:PDT
DTSTART:20200308T100000
END:DAYLIGHT
BEGIN:STANDARD
TZOFFSETFROM:-0700
TZOFFSETTO:-0800
TZNAME:PST
DTSTART:20201101T090000
END:STANDARD
BEGIN:DAYLIGHT
TZOFFSETFROM:-0800
TZOFFSETTO:-0700
TZNAME:PDT
DTSTART:20210314T100000
END:DAYLIGHT
BEGIN:STANDARD
TZOFFSETFROM:-0700
TZOFFSETTO:-0800
TZNAME:PST
DTSTART:20211107T090000
END:STANDARD
BEGIN:DAYLIGHT
TZOFFSETFROM:-0800
TZOFFSETTO:-0700
TZNAME:PDT
DTSTART:20220313T100000
END:DAYLIGHT
BEGIN:STANDARD
TZOFFSETFROM:-0700
TZOFFSETTO:-0800
TZNAME:PST
DTSTART:20221106T090000
END:STANDARD
END:VTIMEZONE
BEGIN:VEVENT
DTSTART;TZID=America/Los_Angeles:20211022T100000
DTEND;TZID=America/Los_Angeles:20211022T110000
DTSTAMP:20260421T004507
CREATED:20211006T171539Z
LAST-MODIFIED:20211006T171539Z
UID:10003592-1634896800-1634900400@downtownglendale.com
SUMMARY:Storytime on The Green with Barnes & Noble
DESCRIPTION:Get whisked away every Friday morning with storytime on The Green! Kids\, parents and caregivers are invited to join Barnes & Noble for a safe and special reading. \nSpace is limited\, so be sure to RSVP prior to the event! \nPlease maintain proper physical distancing.
URL:https://downtownglendale.com/event/storytime-on-the-green-with-barnes-noble-7/
LOCATION:The Americana at Brand\, 889 Americana Way\, Glendale\, CA\, 91210\, United States
GEO:34.1445873;-118.2576743
X-APPLE-STRUCTURED-LOCATION;VALUE=URI;X-ADDRESS=The Americana at Brand 889 Americana Way Glendale CA 91210 United States;X-APPLE-RADIUS=500;X-TITLE=889 Americana Way:geo:-118.2576743,34.1445873
END:VEVENT
END:VCALENDAR