BEGIN:VCALENDAR
VERSION:2.0
PRODID:-//Downtown Glendale - ECPv6.15.20//NONSGML v1.0//EN
CALSCALE:GREGORIAN
METHOD:PUBLISH
X-WR-CALNAME:Downtown Glendale
X-ORIGINAL-URL:https://downtownglendale.com
X-WR-CALDESC:Events for Downtown Glendale
REFRESH-INTERVAL;VALUE=DURATION:PT1H
X-Robots-Tag:noindex
X-PUBLISHED-TTL:PT1H
BEGIN:VTIMEZONE
TZID:America/Los_Angeles
BEGIN:DAYLIGHT
TZOFFSETFROM:-0800
TZOFFSETTO:-0700
TZNAME:PDT
DTSTART:20210314T100000
END:DAYLIGHT
BEGIN:STANDARD
TZOFFSETFROM:-0700
TZOFFSETTO:-0800
TZNAME:PST
DTSTART:20211107T090000
END:STANDARD
BEGIN:DAYLIGHT
TZOFFSETFROM:-0800
TZOFFSETTO:-0700
TZNAME:PDT
DTSTART:20220313T100000
END:DAYLIGHT
BEGIN:STANDARD
TZOFFSETFROM:-0700
TZOFFSETTO:-0800
TZNAME:PST
DTSTART:20221106T090000
END:STANDARD
BEGIN:DAYLIGHT
TZOFFSETFROM:-0800
TZOFFSETTO:-0700
TZNAME:PDT
DTSTART:20230312T100000
END:DAYLIGHT
BEGIN:STANDARD
TZOFFSETFROM:-0700
TZOFFSETTO:-0800
TZNAME:PST
DTSTART:20231105T090000
END:STANDARD
END:VTIMEZONE
BEGIN:VEVENT
DTSTART;TZID=America/Los_Angeles:20221019T100000
DTEND;TZID=America/Los_Angeles:20221019T200000
DTSTAMP:20260421T073356
CREATED:20220912T025626Z
LAST-MODIFIED:20220912T025713Z
UID:10004145-1666173600-1666209600@downtownglendale.com
SUMMARY:Glendale Tech Week Machine Learning\, Artificial Intelligence\, and Cloud Computing
DESCRIPTION:
URL:https://downtownglendale.com/event/glendale-tech-week-machine-learning-artificial-intelligence-and-cloud-computing/
LOCATION:Hero House Glendale\, 326 Mira Loma Ave.\, Glendale\, CA\, 91204\, United States
GEO:34.1236925;-118.2564539
X-APPLE-STRUCTURED-LOCATION;VALUE=URI;X-ADDRESS=Hero House Glendale 326 Mira Loma Ave. Glendale CA 91204 United States;X-APPLE-RADIUS=500;X-TITLE=326 Mira Loma Ave.:geo:-118.2564539,34.1236925
END:VEVENT
BEGIN:VEVENT
DTSTART;TZID=America/Los_Angeles:20221019T150000
DTEND;TZID=America/Los_Angeles:20221019T180000
DTSTAMP:20260421T073356
CREATED:20220912T025847Z
LAST-MODIFIED:20220912T025847Z
UID:10004147-1666191600-1666202400@downtownglendale.com
SUMMARY:Glendale Tech Week Career Fair Hosted by the Verdugo Jobs Center & Glendale Unified School District
DESCRIPTION:
URL:https://downtownglendale.com/event/glendale-tech-week-career-fair-hosted-by-the-verdugo-jobs-center-glendale-unified-school-district/
LOCATION:CA
END:VEVENT
BEGIN:VEVENT
DTSTART;TZID=America/Los_Angeles:20221019T170000
DTEND;TZID=America/Los_Angeles:20221019T200000
DTSTAMP:20260421T073356
CREATED:20220912T030444Z
LAST-MODIFIED:20220912T030444Z
UID:10004146-1666198800-1666209600@downtownglendale.com
SUMMARY:Glendale Tech Week Women in Tech Panel
DESCRIPTION:
URL:https://downtownglendale.com/event/glendale-tech-week-women-in-tech-panel/
LOCATION:Phonexa\, 505 N. Brand Blvd.\, Suite 1600\, Glendale\, CA\, 91203\, United States
GEO:34.1532908;-118.2554735
X-APPLE-STRUCTURED-LOCATION;VALUE=URI;X-ADDRESS=Phonexa 505 N. Brand Blvd. Suite 1600 Glendale CA 91203 United States;X-APPLE-RADIUS=500;X-TITLE=505 N. Brand Blvd.\, Suite 1600:geo:-118.2554735,34.1532908
END:VEVENT
END:VCALENDAR