BEGIN:VCALENDAR
VERSION:2.0
PRODID:-//Downtown Glendale - ECPv6.15.20//NONSGML v1.0//EN
CALSCALE:GREGORIAN
METHOD:PUBLISH
X-WR-CALNAME:Downtown Glendale
X-ORIGINAL-URL:https://downtownglendale.com
X-WR-CALDESC:Events for Downtown Glendale
REFRESH-INTERVAL;VALUE=DURATION:PT1H
X-Robots-Tag:noindex
X-PUBLISHED-TTL:PT1H
BEGIN:VTIMEZONE
TZID:America/Los_Angeles
BEGIN:DAYLIGHT
TZOFFSETFROM:-0800
TZOFFSETTO:-0700
TZNAME:PDT
DTSTART:20210314T100000
END:DAYLIGHT
BEGIN:STANDARD
TZOFFSETFROM:-0700
TZOFFSETTO:-0800
TZNAME:PST
DTSTART:20211107T090000
END:STANDARD
BEGIN:DAYLIGHT
TZOFFSETFROM:-0800
TZOFFSETTO:-0700
TZNAME:PDT
DTSTART:20220313T100000
END:DAYLIGHT
BEGIN:STANDARD
TZOFFSETFROM:-0700
TZOFFSETTO:-0800
TZNAME:PST
DTSTART:20221106T090000
END:STANDARD
BEGIN:DAYLIGHT
TZOFFSETFROM:-0800
TZOFFSETTO:-0700
TZNAME:PDT
DTSTART:20230312T100000
END:DAYLIGHT
BEGIN:STANDARD
TZOFFSETFROM:-0700
TZOFFSETTO:-0800
TZNAME:PST
DTSTART:20231105T090000
END:STANDARD
END:VTIMEZONE
BEGIN:VEVENT
DTSTART;TZID=America/Los_Angeles:20221020T120000
DTEND;TZID=America/Los_Angeles:20221020T150000
DTSTAMP:20260421T091416
CREATED:20220912T030609Z
LAST-MODIFIED:20220912T030609Z
UID:10004148-1666267200-1666278000@downtownglendale.com
SUMMARY:Glendale Tech Week Pitchfest & Keynote Speaker
DESCRIPTION:
URL:https://downtownglendale.com/event/glendale-tech-week-pitchfest-keynote-speaker/
LOCATION:Brandview Ballroom\, 111 E. Harvard St.\, Glendale\, CA\, 91205\, United States
GEO:34.1446759;-118.254151
X-APPLE-STRUCTURED-LOCATION;VALUE=URI;X-ADDRESS=Brandview Ballroom 111 E. Harvard St. Glendale CA 91205 United States;X-APPLE-RADIUS=500;X-TITLE=111 E. Harvard St.:geo:-118.254151,34.1446759
END:VEVENT
BEGIN:VEVENT
DTSTART;TZID=America/Los_Angeles:20221020T160000
DTEND;TZID=America/Los_Angeles:20221020T180000
DTSTAMP:20260421T091416
CREATED:20220912T030749Z
LAST-MODIFIED:20220912T030749Z
UID:10003604-1666281600-1666288800@downtownglendale.com
SUMMARY:Glendale Tech Week Closing Awards
DESCRIPTION:
URL:https://downtownglendale.com/event/glendale-tech-week-closing-awards/
LOCATION:Brandview Ballroom\, 111 E. Harvard St.\, Glendale\, CA\, 91205\, United States
GEO:34.1446759;-118.254151
X-APPLE-STRUCTURED-LOCATION;VALUE=URI;X-ADDRESS=Brandview Ballroom 111 E. Harvard St. Glendale CA 91205 United States;X-APPLE-RADIUS=500;X-TITLE=111 E. Harvard St.:geo:-118.254151,34.1446759
END:VEVENT
END:VCALENDAR