BEGIN:VCALENDAR
VERSION:2.0
PRODID:-//Downtown Glendale - ECPv6.15.20//NONSGML v1.0//EN
CALSCALE:GREGORIAN
METHOD:PUBLISH
X-ORIGINAL-URL:https://downtownglendale.com
X-WR-CALDESC:Events for Downtown Glendale
REFRESH-INTERVAL;VALUE=DURATION:PT1H
X-Robots-Tag:noindex
X-PUBLISHED-TTL:PT1H
BEGIN:VTIMEZONE
TZID:America/Los_Angeles
BEGIN:DAYLIGHT
TZOFFSETFROM:-0800
TZOFFSETTO:-0700
TZNAME:PDT
DTSTART:20210314T100000
END:DAYLIGHT
BEGIN:STANDARD
TZOFFSETFROM:-0700
TZOFFSETTO:-0800
TZNAME:PST
DTSTART:20211107T090000
END:STANDARD
BEGIN:DAYLIGHT
TZOFFSETFROM:-0800
TZOFFSETTO:-0700
TZNAME:PDT
DTSTART:20220313T100000
END:DAYLIGHT
BEGIN:STANDARD
TZOFFSETFROM:-0700
TZOFFSETTO:-0800
TZNAME:PST
DTSTART:20221106T090000
END:STANDARD
BEGIN:DAYLIGHT
TZOFFSETFROM:-0800
TZOFFSETTO:-0700
TZNAME:PDT
DTSTART:20230312T100000
END:DAYLIGHT
BEGIN:STANDARD
TZOFFSETFROM:-0700
TZOFFSETTO:-0800
TZNAME:PST
DTSTART:20231105T090000
END:STANDARD
END:VTIMEZONE
BEGIN:VEVENT
DTSTART;VALUE=DATE:20221119
DTEND;VALUE=DATE:20221225
DTSTAMP:20260420T011725
CREATED:20221122T063141Z
LAST-MODIFIED:20221122T063320Z
UID:10003622-1668816000-1671926399@downtownglendale.com
SUMMARY:The Americana at Brand Meet Santa
DESCRIPTION:Make the season extra merry and bright with a visit to Santa’s House! \nCome celebrate the holidays at our winter wonderland\, share your Christmas wishlist with Santa himself\, and take home a keepsake photo. \nLocated on The Green. \nLimited Walk-in Reservations available.
URL:https://downtownglendale.com/event/the-americana-at-brand-meet-santa/
LOCATION:The Americana at Brand\, 889 Americana Way\, Glendale\, CA\, 91210\, United States
GEO:34.1445873;-118.2576743
X-APPLE-STRUCTURED-LOCATION;VALUE=URI;X-ADDRESS=The Americana at Brand 889 Americana Way Glendale CA 91210 United States;X-APPLE-RADIUS=500;X-TITLE=889 Americana Way:geo:-118.2576743,34.1445873
END:VEVENT
BEGIN:VEVENT
DTSTART;VALUE=DATE:20221121
DTEND;VALUE=DATE:20221225
DTSTAMP:20260420T011725
CREATED:20221122T063928Z
LAST-MODIFIED:20221122T063928Z
UID:10003628-1668988800-1671926399@downtownglendale.com
SUMMARY:Glendale Galleria Pictures with Santa
DESCRIPTION:Visit Glendale Galleria for Pictures with Santa \nMacy’s Court Ground Level \nSanta Claus is in town! \nEmbark on an enchanted adventure to take pictures with Santa. Join him to create magical memories you and your family will always remember!
URL:https://downtownglendale.com/event/glendale-galleria-pictures-with-santa/
LOCATION:Glendale Galleria\, 100 W. Broadway\, Glendale\, CA\, 91210\, United States
GEO:34.1460878;-118.2561731
X-APPLE-STRUCTURED-LOCATION;VALUE=URI;X-ADDRESS=Glendale Galleria 100 W. Broadway Glendale CA 91210 United States;X-APPLE-RADIUS=500;X-TITLE=100 W. Broadway:geo:-118.2561731,34.1460878
END:VEVENT
BEGIN:VEVENT
DTSTART;TZID=America/Los_Angeles:20221202T110000
DTEND;TZID=America/Los_Angeles:20221202T130000
DTSTAMP:20260420T011725
CREATED:20221122T064219Z
LAST-MODIFIED:20221122T064219Z
UID:10003630-1669978800-1669986000@downtownglendale.com
SUMMARY:Glendale Galleria Hunger Free Holidays Food Drive
DESCRIPTION:Visit Glendale Galleria for Hunger Free Holidays Food Drive \nCenter Court\, Outside of JCPenney \nGet in the Holiday mood and donate some food \nJoin us for our special one day only food drive event. Hunger Free Holidays is a holiday food drive at the Glendale Galleria in partnership with the Salvation Army. The drop off bin will be located in JCPenney court. Those who are feeling extra generous and bring 4 or more canned goods\, will be receiving a special treat from one of our local retail partners: Mrs. Fields Cookies\, Dunkin Donuts\, and Beard Papa’s. The food drive will be held on 12/2/22 starting at 11 pm and ending at 1 pm. Let’s all get into the holiday mood and donate some food. Every little bit helps those in need!
URL:https://downtownglendale.com/event/glendale-galleria-hunger-free-holidays-food-drive/
LOCATION:Glendale Galleria\, 100 W. Broadway\, Glendale\, CA\, 91210\, United States
GEO:34.1460878;-118.2561731
X-APPLE-STRUCTURED-LOCATION;VALUE=URI;X-ADDRESS=Glendale Galleria 100 W. Broadway Glendale CA 91210 United States;X-APPLE-RADIUS=500;X-TITLE=100 W. Broadway:geo:-118.2561731,34.1460878
END:VEVENT
END:VCALENDAR