BEGIN:VCALENDAR
VERSION:2.0
PRODID:-//Downtown Glendale - ECPv6.15.20//NONSGML v1.0//EN
CALSCALE:GREGORIAN
METHOD:PUBLISH
X-WR-CALNAME:Downtown Glendale
X-ORIGINAL-URL:https://downtownglendale.com
X-WR-CALDESC:Events for Downtown Glendale
REFRESH-INTERVAL;VALUE=DURATION:PT1H
X-Robots-Tag:noindex
X-PUBLISHED-TTL:PT1H
BEGIN:VTIMEZONE
TZID:America/Los_Angeles
BEGIN:DAYLIGHT
TZOFFSETFROM:-0800
TZOFFSETTO:-0700
TZNAME:PDT
DTSTART:20210314T100000
END:DAYLIGHT
BEGIN:STANDARD
TZOFFSETFROM:-0700
TZOFFSETTO:-0800
TZNAME:PST
DTSTART:20211107T090000
END:STANDARD
BEGIN:DAYLIGHT
TZOFFSETFROM:-0800
TZOFFSETTO:-0700
TZNAME:PDT
DTSTART:20220313T100000
END:DAYLIGHT
BEGIN:STANDARD
TZOFFSETFROM:-0700
TZOFFSETTO:-0800
TZNAME:PST
DTSTART:20221106T090000
END:STANDARD
BEGIN:DAYLIGHT
TZOFFSETFROM:-0800
TZOFFSETTO:-0700
TZNAME:PDT
DTSTART:20230312T100000
END:DAYLIGHT
BEGIN:STANDARD
TZOFFSETFROM:-0700
TZOFFSETTO:-0800
TZNAME:PST
DTSTART:20231105T090000
END:STANDARD
END:VTIMEZONE
BEGIN:VEVENT
DTSTART;TZID=America/Los_Angeles:20221229T180000
DTEND;TZID=America/Los_Angeles:20221229T180000
DTSTAMP:20260422T230556
CREATED:20221122T072250Z
LAST-MODIFIED:20221122T072250Z
UID:10004159-1672336800-1672336800@downtownglendale.com
SUMMARY:Taline & Santa Christmas Show
DESCRIPTION:Taline presented her first Armenian Children’s Christmas Concert in 2003 at the Alex Theatre in Glendale. \nSince then\, the Taline\, Friends & Santa Show has traveled to many venues and cities around the world\, including New York\, Boston\, Toronto\, London & Paris. The Alex is one of Taline’s favorite venues\, and this year’s 20th Anniversary concert promises to be another exciting event with lots of singing\, dancing\, and Holiday fun. \nThis year’s show will feature new songs\, Taline’s most popular hits\, and Armenian Christmas songs. The show will also feature two dance groups\, Lilia Dance from Glendale and Patille Dance Studio from Pasadena\, along with other guests.
URL:https://downtownglendale.com/event/taline-santa-christmas-show/
LOCATION:Alex Theatre\, 216 N. Brand Blvd.\, Glendale\, CA\, 91203\, United States
GEO:34.148864;-118.254095
X-APPLE-STRUCTURED-LOCATION;VALUE=URI;X-ADDRESS=Alex Theatre 216 N. Brand Blvd. Glendale CA 91203 United States;X-APPLE-RADIUS=500;X-TITLE=216 N. Brand Blvd.:geo:-118.254095,34.148864
END:VEVENT
END:VCALENDAR