BEGIN:VCALENDAR
VERSION:2.0
PRODID:-//Downtown Glendale - ECPv6.15.20//NONSGML v1.0//EN
CALSCALE:GREGORIAN
METHOD:PUBLISH
X-ORIGINAL-URL:https://downtownglendale.com
X-WR-CALDESC:Events for Downtown Glendale
REFRESH-INTERVAL;VALUE=DURATION:PT1H
X-Robots-Tag:noindex
X-PUBLISHED-TTL:PT1H
BEGIN:VTIMEZONE
TZID:America/Los_Angeles
BEGIN:DAYLIGHT
TZOFFSETFROM:-0800
TZOFFSETTO:-0700
TZNAME:PDT
DTSTART:20230312T100000
END:DAYLIGHT
BEGIN:STANDARD
TZOFFSETFROM:-0700
TZOFFSETTO:-0800
TZNAME:PST
DTSTART:20231105T090000
END:STANDARD
BEGIN:DAYLIGHT
TZOFFSETFROM:-0800
TZOFFSETTO:-0700
TZNAME:PDT
DTSTART:20240310T100000
END:DAYLIGHT
BEGIN:STANDARD
TZOFFSETFROM:-0700
TZOFFSETTO:-0800
TZNAME:PST
DTSTART:20241103T090000
END:STANDARD
BEGIN:DAYLIGHT
TZOFFSETFROM:-0800
TZOFFSETTO:-0700
TZNAME:PDT
DTSTART:20250309T100000
END:DAYLIGHT
BEGIN:STANDARD
TZOFFSETFROM:-0700
TZOFFSETTO:-0800
TZNAME:PST
DTSTART:20251102T090000
END:STANDARD
END:VTIMEZONE
BEGIN:VEVENT
DTSTART;TZID=America/Los_Angeles:20240330T200000
DTEND;TZID=America/Los_Angeles:20240330T200000
DTSTAMP:20260419T111437
CREATED:20240216T065604Z
LAST-MODIFIED:20240216T065604Z
UID:10004206-1711828800-1711828800@downtownglendale.com
SUMMARY:LACO Presents Traditions: Pergolesi's Stabat Mater
DESCRIPTION:WHAT ENDURES ACROSS TIME AND SPACE? Join us for a series of timeless works that spotlight singular voices within the collective music-making experience. Revisit memories and create new ones together with LACO and guest artists John Holiday and Amanda Forsythe. \nPERGOLESI’S STABAT MATER is made possible\, in part\, with the generous support from Cheryl K. Petersen + Roger H. Lustberg.
URL:https://downtownglendale.com/event/laco-presents-traditions-pergolesis-stabat-mater/
LOCATION:Alex Theatre\, 216 N. Brand Blvd.\, Glendale\, CA\, 91203\, United States
GEO:34.148864;-118.254095
X-APPLE-STRUCTURED-LOCATION;VALUE=URI;X-ADDRESS=Alex Theatre 216 N. Brand Blvd. Glendale CA 91203 United States;X-APPLE-RADIUS=500;X-TITLE=216 N. Brand Blvd.:geo:-118.254095,34.148864
END:VEVENT
END:VCALENDAR