BEGIN:VCALENDAR
VERSION:2.0
PRODID:-//Downtown Glendale - ECPv6.15.20//NONSGML v1.0//EN
CALSCALE:GREGORIAN
METHOD:PUBLISH
X-WR-CALNAME:Downtown Glendale
X-ORIGINAL-URL:https://downtownglendale.com
X-WR-CALDESC:Events for Downtown Glendale
REFRESH-INTERVAL;VALUE=DURATION:PT1H
X-Robots-Tag:noindex
X-PUBLISHED-TTL:PT1H
BEGIN:VTIMEZONE
TZID:America/Los_Angeles
BEGIN:DAYLIGHT
TZOFFSETFROM:-0800
TZOFFSETTO:-0700
TZNAME:PDT
DTSTART:20230312T100000
END:DAYLIGHT
BEGIN:STANDARD
TZOFFSETFROM:-0700
TZOFFSETTO:-0800
TZNAME:PST
DTSTART:20231105T090000
END:STANDARD
BEGIN:DAYLIGHT
TZOFFSETFROM:-0800
TZOFFSETTO:-0700
TZNAME:PDT
DTSTART:20240310T100000
END:DAYLIGHT
BEGIN:STANDARD
TZOFFSETFROM:-0700
TZOFFSETTO:-0800
TZNAME:PST
DTSTART:20241103T090000
END:STANDARD
BEGIN:DAYLIGHT
TZOFFSETFROM:-0800
TZOFFSETTO:-0700
TZNAME:PDT
DTSTART:20250309T100000
END:DAYLIGHT
BEGIN:STANDARD
TZOFFSETFROM:-0700
TZOFFSETTO:-0800
TZNAME:PST
DTSTART:20251102T090000
END:STANDARD
END:VTIMEZONE
BEGIN:VEVENT
DTSTART;TZID=America/Los_Angeles:20241115T100000
DTEND;TZID=America/Los_Angeles:20241224T210000
DTSTAMP:20260421T133755
CREATED:20241105T232521Z
LAST-MODIFIED:20241105T232521Z
UID:10004240-1731664800-1735074000@downtownglendale.com
SUMMARY:The Americana at Brand Santa's House
DESCRIPTION:Embrace the magic of the season with a visit to Santa’s House! \nMeet Santa\, share your wishlist\, and capture the experience with keepsake photos to treasure. \nIn collaboration with Disney+ and Children’s Hospital Los Angeles. \nPet Nights\nNovember 19 & 26\, 4PM – 9PM \nLocated near The Fountain. \nReservations are recommended. Walk-ups are welcome based on availability.
URL:https://downtownglendale.com/event/the-americana-at-brand-santas-house/
LOCATION:The Americana at Brand\, 889 Americana Way\, Glendale\, CA\, 91210\, United States
GEO:34.1445873;-118.2576743
X-APPLE-STRUCTURED-LOCATION;VALUE=URI;X-ADDRESS=The Americana at Brand 889 Americana Way Glendale CA 91210 United States;X-APPLE-RADIUS=500;X-TITLE=889 Americana Way:geo:-118.2576743,34.1445873
END:VEVENT
BEGIN:VEVENT
DTSTART;TZID=America/Los_Angeles:20241121T100000
DTEND;TZID=America/Los_Angeles:20241224T210000
DTSTAMP:20260421T133755
CREATED:20241105T232747Z
LAST-MODIFIED:20241105T232747Z
UID:10004241-1732183200-1735074000@downtownglendale.com
SUMMARY:Glendale Galleria Santa Photos
DESCRIPTION:Santa Claus is in town! \nHe’s traveled all the way from the North Pole to spread holiday cheer and take pictures with kids of all ages. \nDon’t miss your chance to make holiday memories and to let Santa know what you want this Christmas. \nGet on Santa’s nice list and make your reservation today.
URL:https://downtownglendale.com/event/glendale-galleria-santa-photos-2/
LOCATION:Glendale Galleria\, 100 W. Broadway\, Glendale\, CA\, 91210\, United States
GEO:34.1460878;-118.2561731
X-APPLE-STRUCTURED-LOCATION;VALUE=URI;X-ADDRESS=Glendale Galleria 100 W. Broadway Glendale CA 91210 United States;X-APPLE-RADIUS=500;X-TITLE=100 W. Broadway:geo:-118.2561731,34.1460878
END:VEVENT
END:VCALENDAR