BEGIN:VCALENDAR
VERSION:2.0
PRODID:-//Downtown Glendale - ECPv6.15.20//NONSGML v1.0//EN
CALSCALE:GREGORIAN
METHOD:PUBLISH
X-WR-CALNAME:Downtown Glendale
X-ORIGINAL-URL:https://downtownglendale.com
X-WR-CALDESC:Events for Downtown Glendale
REFRESH-INTERVAL;VALUE=DURATION:PT1H
X-Robots-Tag:noindex
X-PUBLISHED-TTL:PT1H
BEGIN:VTIMEZONE
TZID:America/Los_Angeles
BEGIN:DAYLIGHT
TZOFFSETFROM:-0800
TZOFFSETTO:-0700
TZNAME:PDT
DTSTART:20240310T100000
END:DAYLIGHT
BEGIN:STANDARD
TZOFFSETFROM:-0700
TZOFFSETTO:-0800
TZNAME:PST
DTSTART:20241103T090000
END:STANDARD
BEGIN:DAYLIGHT
TZOFFSETFROM:-0800
TZOFFSETTO:-0700
TZNAME:PDT
DTSTART:20250309T100000
END:DAYLIGHT
BEGIN:STANDARD
TZOFFSETFROM:-0700
TZOFFSETTO:-0800
TZNAME:PST
DTSTART:20251102T090000
END:STANDARD
BEGIN:DAYLIGHT
TZOFFSETFROM:-0800
TZOFFSETTO:-0700
TZNAME:PDT
DTSTART:20260308T100000
END:DAYLIGHT
BEGIN:STANDARD
TZOFFSETFROM:-0700
TZOFFSETTO:-0800
TZNAME:PST
DTSTART:20261101T090000
END:STANDARD
END:VTIMEZONE
BEGIN:VEVENT
DTSTART;TZID=America/Los_Angeles:20250405T110000
DTEND;TZID=America/Los_Angeles:20250405T120000
DTSTAMP:20260421T100538
CREATED:20250321T185441Z
LAST-MODIFIED:20250321T185441Z
UID:10004276-1743850800-1743854400@downtownglendale.com
SUMMARY:Bunny Brunch at Trattoria Amici
DESCRIPTION:Join us for a festive and delicious family feast at Trattoria Amici\, featuring an exclusive visit from the Easter Bunny! Making the celebration even sweeter\, they’re offering bottomless mimosas for the adults and goodie bags for the kids. \n$69 per standard ticket. Ages 13+.\n$36 per child. Ages 12 and younger. \nTax and tip are included in pricing
URL:https://downtownglendale.com/event/bunny-brunch-at-trattoria-amici/
LOCATION:Trattoria Amici\, 783 Americana Way\, Glendale\, CA\, 91210\, United States
GEO:34.143721;-118.256334
X-APPLE-STRUCTURED-LOCATION;VALUE=URI;X-ADDRESS=Trattoria Amici 783 Americana Way Glendale CA 91210 United States;X-APPLE-RADIUS=500;X-TITLE=783 Americana Way:geo:-118.256334,34.143721
END:VEVENT
END:VCALENDAR