BEGIN:VCALENDAR
VERSION:2.0
PRODID:-//Downtown Glendale - ECPv6.15.20//NONSGML v1.0//EN
CALSCALE:GREGORIAN
METHOD:PUBLISH
X-WR-CALNAME:Downtown Glendale
X-ORIGINAL-URL:https://downtownglendale.com
X-WR-CALDESC:Events for Downtown Glendale
REFRESH-INTERVAL;VALUE=DURATION:PT1H
X-Robots-Tag:noindex
X-PUBLISHED-TTL:PT1H
BEGIN:VTIMEZONE
TZID:America/Los_Angeles
BEGIN:DAYLIGHT
TZOFFSETFROM:-0800
TZOFFSETTO:-0700
TZNAME:PDT
DTSTART:20240310T100000
END:DAYLIGHT
BEGIN:STANDARD
TZOFFSETFROM:-0700
TZOFFSETTO:-0800
TZNAME:PST
DTSTART:20241103T090000
END:STANDARD
BEGIN:DAYLIGHT
TZOFFSETFROM:-0800
TZOFFSETTO:-0700
TZNAME:PDT
DTSTART:20250309T100000
END:DAYLIGHT
BEGIN:STANDARD
TZOFFSETFROM:-0700
TZOFFSETTO:-0800
TZNAME:PST
DTSTART:20251102T090000
END:STANDARD
BEGIN:DAYLIGHT
TZOFFSETFROM:-0800
TZOFFSETTO:-0700
TZNAME:PDT
DTSTART:20260308T100000
END:DAYLIGHT
BEGIN:STANDARD
TZOFFSETFROM:-0700
TZOFFSETTO:-0800
TZNAME:PST
DTSTART:20261101T090000
END:STANDARD
END:VTIMEZONE
BEGIN:VEVENT
DTSTART;TZID=America/Los_Angeles:20250412T110000
DTEND;TZID=America/Los_Angeles:20250412T160000
DTSTAMP:20260421T184955
CREATED:20250321T185624Z
LAST-MODIFIED:20250321T185624Z
UID:10004277-1744455600-1744473600@downtownglendale.com
SUMMARY:Spring Soirée
DESCRIPTION:Join us for our annual Easter celebration! Packed with plenty of family-friendly activities\, this year’s event will feature a petting zoo\, live music by The BeatBuds\, crafting stations\, face painters and balloon artists. Enjoy complimentary light bites from your favorite restaurants at The Americana at Brand and tons of photo opportunities. \n$30 Per Ticket\, Ages 12+\n$25 Per Ticket\, Ages 3 – 11\nKids under 2 are complimentary \nLocated on The Green.
URL:https://downtownglendale.com/event/spring-soiree/
LOCATION:The Americana at Brand\, 889 Americana Way\, Glendale\, CA\, 91210\, United States
GEO:34.1445873;-118.2576743
X-APPLE-STRUCTURED-LOCATION;VALUE=URI;X-ADDRESS=The Americana at Brand 889 Americana Way Glendale CA 91210 United States;X-APPLE-RADIUS=500;X-TITLE=889 Americana Way:geo:-118.2576743,34.1445873
END:VEVENT
END:VCALENDAR