BEGIN:VCALENDAR
VERSION:2.0
PRODID:-//Downtown Glendale - ECPv6.15.20//NONSGML v1.0//EN
CALSCALE:GREGORIAN
METHOD:PUBLISH
X-ORIGINAL-URL:https://downtownglendale.com
X-WR-CALDESC:Events for Downtown Glendale
REFRESH-INTERVAL;VALUE=DURATION:PT1H
X-Robots-Tag:noindex
X-PUBLISHED-TTL:PT1H
BEGIN:VTIMEZONE
TZID:America/Los_Angeles
BEGIN:DAYLIGHT
TZOFFSETFROM:-0800
TZOFFSETTO:-0700
TZNAME:PDT
DTSTART:20240310T100000
END:DAYLIGHT
BEGIN:STANDARD
TZOFFSETFROM:-0700
TZOFFSETTO:-0800
TZNAME:PST
DTSTART:20241103T090000
END:STANDARD
BEGIN:DAYLIGHT
TZOFFSETFROM:-0800
TZOFFSETTO:-0700
TZNAME:PDT
DTSTART:20250309T100000
END:DAYLIGHT
BEGIN:STANDARD
TZOFFSETFROM:-0700
TZOFFSETTO:-0800
TZNAME:PST
DTSTART:20251102T090000
END:STANDARD
BEGIN:DAYLIGHT
TZOFFSETFROM:-0800
TZOFFSETTO:-0700
TZNAME:PDT
DTSTART:20260308T100000
END:DAYLIGHT
BEGIN:STANDARD
TZOFFSETFROM:-0700
TZOFFSETTO:-0800
TZNAME:PST
DTSTART:20261101T090000
END:STANDARD
END:VTIMEZONE
BEGIN:VEVENT
DTSTART;TZID=America/Los_Angeles:20250902T100000
DTEND;TZID=America/Los_Angeles:20250902T120000
DTSTAMP:20260422T141650
CREATED:20250901T082815Z
LAST-MODIFIED:20250901T082815Z
UID:10004324-1756807200-1756814400@downtownglendale.com
SUMMARY:Kids Club in Collaboration with Apple TV+
DESCRIPTION:Kids\, parents and caregivers are invited to experience a weekly dose of fun\, featuring live music\, storytelling\, puppet shows and so much more! \n9/2: ATV+ Presents: Shape Island featuring Love Bug & Me\n9/9: B-Music\n9/16: The BeatBuds\n9/23: Jam with Jamie\n9/30: MiniBop
URL:https://downtownglendale.com/event/kids-club-in-collaboration-with-apple-tv-14/
LOCATION:The Americana at Brand\, 889 Americana Way\, Glendale\, CA\, 91210\, United States
GEO:34.1445873;-118.2576743
X-APPLE-STRUCTURED-LOCATION;VALUE=URI;X-ADDRESS=The Americana at Brand 889 Americana Way Glendale CA 91210 United States;X-APPLE-RADIUS=500;X-TITLE=889 Americana Way:geo:-118.2576743,34.1445873
END:VEVENT
BEGIN:VEVENT
DTSTART;TZID=America/Los_Angeles:20250902T100000
DTEND;TZID=America/Los_Angeles:20250902T120000
DTSTAMP:20260422T141650
CREATED:20250901T083836Z
LAST-MODIFIED:20250901T083836Z
UID:10004329-1756807200-1756814400@downtownglendale.com
SUMMARY:Shape Island Kids Club
DESCRIPTION:Celebrate Season 2 of Shape Island and join serious Square\, intrepid Circle and tricky Triangle as they dig up some fun\, search for answers and build on their friendship — all while learning how to navigate each other’s differences. Presented in collaboration with Apple TV+. \nLocated on The Green.\nStream Shape Island on Apple TV+.
URL:https://downtownglendale.com/event/shape-island-kids-club/
LOCATION:The Americana at Brand\, 889 Americana Way\, Glendale\, CA\, 91210\, United States
GEO:34.1445873;-118.2576743
X-APPLE-STRUCTURED-LOCATION;VALUE=URI;X-ADDRESS=The Americana at Brand 889 Americana Way Glendale CA 91210 United States;X-APPLE-RADIUS=500;X-TITLE=889 Americana Way:geo:-118.2576743,34.1445873
END:VEVENT
END:VCALENDAR