BEGIN:VCALENDAR
VERSION:2.0
PRODID:-//Downtown Glendale - ECPv6.15.20//NONSGML v1.0//EN
CALSCALE:GREGORIAN
METHOD:PUBLISH
X-ORIGINAL-URL:https://downtownglendale.com
X-WR-CALDESC:Events for Downtown Glendale
REFRESH-INTERVAL;VALUE=DURATION:PT1H
X-Robots-Tag:noindex
X-PUBLISHED-TTL:PT1H
BEGIN:VTIMEZONE
TZID:America/Los_Angeles
BEGIN:DAYLIGHT
TZOFFSETFROM:-0800
TZOFFSETTO:-0700
TZNAME:PDT
DTSTART:20200308T100000
END:DAYLIGHT
BEGIN:STANDARD
TZOFFSETFROM:-0700
TZOFFSETTO:-0800
TZNAME:PST
DTSTART:20201101T090000
END:STANDARD
BEGIN:DAYLIGHT
TZOFFSETFROM:-0800
TZOFFSETTO:-0700
TZNAME:PDT
DTSTART:20210314T100000
END:DAYLIGHT
BEGIN:STANDARD
TZOFFSETFROM:-0700
TZOFFSETTO:-0800
TZNAME:PST
DTSTART:20211107T090000
END:STANDARD
BEGIN:DAYLIGHT
TZOFFSETFROM:-0800
TZOFFSETTO:-0700
TZNAME:PDT
DTSTART:20220313T100000
END:DAYLIGHT
BEGIN:STANDARD
TZOFFSETFROM:-0700
TZOFFSETTO:-0800
TZNAME:PST
DTSTART:20221106T090000
END:STANDARD
END:VTIMEZONE
BEGIN:VEVENT
DTSTART;TZID=America/Los_Angeles:20210917T100000
DTEND;TZID=America/Los_Angeles:20210917T100000
DTSTAMP:20260421T001744
CREATED:20210912T012525Z
LAST-MODIFIED:20210912T012525Z
UID:10004125-1631872800-1631872800@downtownglendale.com
SUMMARY:Storytime on The Green with Barnes & Noble
DESCRIPTION:Join us Fridays at 10:00am. \nPlease RSVP to each event. Attendees can check in on The Green upon arrival. \nHealth & Safety Rules: \nNo more than 6 guests per group. \nAll guests must maintain a proper physical distance of 6 ft or more.
URL:https://downtownglendale.com/event/storytime-on-the-green-with-barnes-noble-3/
LOCATION:The Americana at Brand\, 889 Americana Way\, Glendale\, CA\, 91210\, United States
GEO:34.1445873;-118.2576743
X-APPLE-STRUCTURED-LOCATION;VALUE=URI;X-ADDRESS=The Americana at Brand 889 Americana Way Glendale CA 91210 United States;X-APPLE-RADIUS=500;X-TITLE=889 Americana Way:geo:-118.2576743,34.1445873
END:VEVENT
BEGIN:VEVENT
DTSTART;TZID=America/Los_Angeles:20210920T160000
DTEND;TZID=America/Los_Angeles:20210920T180000
DTSTAMP:20260421T001744
CREATED:20210912T014803Z
LAST-MODIFIED:20210912T014803Z
UID:10003582-1632153600-1632160800@downtownglendale.com
SUMMARY:Glendale Tech Week: Meet the Funders
DESCRIPTION:Calling all fledgling founders\, emerging entrepreneurs\, and intrepid innovators! Arrive with your product pitch polished at Glendale Tech Week’s virtual speed-networking event\, Meet the Funders\, where you’ll connect with a lineup of investors representing some of the most established firms. This could be your big break! \nFunders: \nAshot Arzumanyan\, Co-Founder and Partner at SmartgateVC \nArmine Galstyan\, Principal at SmartGateVC and Managing Director at Hero House Glendale \nMaureen Klewicki\, Principal at Crosscut Ventures \nZarik Megerdichian\, Founder of HyeRise Investments \nJane Rho\, Investor at DaVita’s Venture Fund \nJim Schaefer\, Managing partner of Mark Schaefer Associates and Founding member of the Pasadena Angels \nDavid Tonoyan\, President and Founder of dot818 \nArmen Vartanian\, Founder of Oceanview Capital Advisors\, Inc.
URL:https://downtownglendale.com/event/glendale-tech-week-meet-the-funders/
LOCATION:CA
END:VEVENT
BEGIN:VEVENT
DTSTART;TZID=America/Los_Angeles:20210921T090000
DTEND;TZID=America/Los_Angeles:20210921T120000
DTSTAMP:20260421T001744
CREATED:20210912T014912Z
LAST-MODIFIED:20210912T014912Z
UID:10003584-1632214800-1632225600@downtownglendale.com
SUMMARY:Glendale Tech Week: Career Fair Hosted by Verdugo Jobs Center
DESCRIPTION:Score the career of your dreams at our Career Fair\, hosted by the Verdugo Jobs Center. Network with prospective employers and learn about jobs offered by companies looking to hire technology skilled job seekers.
URL:https://downtownglendale.com/event/glendale-tech-week-career-fair-hosted-by-verdugo-jobs-center/
LOCATION:CA
END:VEVENT
BEGIN:VEVENT
DTSTART;TZID=America/Los_Angeles:20210921T123000
DTEND;TZID=America/Los_Angeles:20210921T133000
DTSTAMP:20260421T001744
CREATED:20210912T015024Z
LAST-MODIFIED:20210912T015024Z
UID:10003586-1632227400-1632231000@downtownglendale.com
SUMMARY:Glendale Tech Week: E-Commerce Explained Hosted by Glendale Community College
DESCRIPTION:Join us on September 21 for a lively discussion with William Lee\, Founder of Abrupt Collective\, for an in-depth discussion on what it takes to start an e-commerce business\, industry misconceptions\, and best practices! The event will be hosted by the Glendale Community College’s Business Club. \nBusiness Club Mission: \nThe purpose of Glendale Community College’s Business Club is to generate a platform for students to network\, discover\, and start. As a club\, we aim to unify students from all walks of life and allow each other to share their business knowledge by collaborating and networking with like-minded\, ambitious students\, faculty\, advisors\, staff\, and the community.
URL:https://downtownglendale.com/event/glendale-tech-week-e-commerce-explained-hosted-by-glendale-community-college/
LOCATION:CA
END:VEVENT
BEGIN:VEVENT
DTSTART;TZID=America/Los_Angeles:20210921T170000
DTEND;TZID=America/Los_Angeles:20210921T183000
DTSTAMP:20260421T001744
CREATED:20210912T015200Z
LAST-MODIFIED:20210912T015200Z
UID:10003588-1632243600-1632249000@downtownglendale.com
SUMMARY:Glendale Tech Week: Tech on Tap – SoCal’s Investment Landscape and How to Access It
DESCRIPTION:Want to learn more about the funding landscape in Southern California? Are you seeking new ways to access capital and practical tips for pitching investors? \nPlease join for a discussion with Eric Eide and Raychel Espiritu from The Alliance for SoCal Innovation\, a non-profit that works across the region with various stakeholders and investors to help support founders. Eric and Raychel will survey recent national and regional funding trends\, highlight funding gaps in the SoCal ecosystem and strategies and programs that can help overcome those challenges. Part of the discussion will zero in on what investors look for from founders who are seeking their first institutional round (typically “series A”) and practical tips that can buoy chances of securing that term sheet. Sign up today!
URL:https://downtownglendale.com/event/glendale-tech-week-tech-on-tap-socals-investment-landscape-and-how-to-access-it/
LOCATION:CA
END:VEVENT
BEGIN:VEVENT
DTSTART;TZID=America/Los_Angeles:20210922T170000
DTEND;TZID=America/Los_Angeles:20210922T200000
DTSTAMP:20260421T001744
CREATED:20210912T015352Z
LAST-MODIFIED:20210912T015352Z
UID:10003589-1632330000-1632340800@downtownglendale.com
SUMMARY:Glendale Tech Week: Pitchfest & Closing Awards Party
DESCRIPTION:First\, watch 10 finalists compete for a prize package in front of a live virtual audience and our panel of judges including angel investors VCS. Each finalist will have 3 minutes to complete their elevator pitch followed by a brief Q&A by our judges.
URL:https://downtownglendale.com/event/glendale-tech-week-pitchfest-closing-awards-party/
LOCATION:CA
END:VEVENT
BEGIN:VEVENT
DTSTART;TZID=America/Los_Angeles:20210924T100000
DTEND;TZID=America/Los_Angeles:20210924T100000
DTSTAMP:20260421T001744
CREATED:20210912T012635Z
LAST-MODIFIED:20210912T012635Z
UID:10004126-1632477600-1632477600@downtownglendale.com
SUMMARY:Storytime on The Green with Barnes & Noble
DESCRIPTION:Join us Fridays at 10:00am. \nPlease RSVP to each event. Attendees can check in on The Green upon arrival. \nHealth & Safety Rules: \nNo more than 6 guests per group. \nAll guests must maintain a proper physical distance of 6 ft or more.
URL:https://downtownglendale.com/event/storytime-on-the-green-with-barnes-noble-4/
LOCATION:The Americana at Brand\, 889 Americana Way\, Glendale\, CA\, 91210\, United States
GEO:34.1445873;-118.2576743
X-APPLE-STRUCTURED-LOCATION;VALUE=URI;X-ADDRESS=The Americana at Brand 889 Americana Way Glendale CA 91210 United States;X-APPLE-RADIUS=500;X-TITLE=889 Americana Way:geo:-118.2576743,34.1445873
END:VEVENT
END:VCALENDAR