BEGIN:VCALENDAR
VERSION:2.0
PRODID:-//Downtown Glendale - ECPv6.15.20//NONSGML v1.0//EN
CALSCALE:GREGORIAN
METHOD:PUBLISH
X-ORIGINAL-URL:https://downtownglendale.com
X-WR-CALDESC:Events for Downtown Glendale
REFRESH-INTERVAL;VALUE=DURATION:PT1H
X-Robots-Tag:noindex
X-PUBLISHED-TTL:PT1H
BEGIN:VTIMEZONE
TZID:America/Los_Angeles
BEGIN:DAYLIGHT
TZOFFSETFROM:-0800
TZOFFSETTO:-0700
TZNAME:PDT
DTSTART:20210314T100000
END:DAYLIGHT
BEGIN:STANDARD
TZOFFSETFROM:-0700
TZOFFSETTO:-0800
TZNAME:PST
DTSTART:20211107T090000
END:STANDARD
BEGIN:DAYLIGHT
TZOFFSETFROM:-0800
TZOFFSETTO:-0700
TZNAME:PDT
DTSTART:20220313T100000
END:DAYLIGHT
BEGIN:STANDARD
TZOFFSETFROM:-0700
TZOFFSETTO:-0800
TZNAME:PST
DTSTART:20221106T090000
END:STANDARD
BEGIN:DAYLIGHT
TZOFFSETFROM:-0800
TZOFFSETTO:-0700
TZNAME:PDT
DTSTART:20230312T100000
END:DAYLIGHT
BEGIN:STANDARD
TZOFFSETFROM:-0700
TZOFFSETTO:-0800
TZNAME:PST
DTSTART:20231105T090000
END:STANDARD
END:VTIMEZONE
BEGIN:VEVENT
DTSTART;TZID=America/Los_Angeles:20220904T150000
DTEND;TZID=America/Los_Angeles:20220904T180000
DTSTAMP:20260420T124556
CREATED:20240130T074434Z
LAST-MODIFIED:20240130T074434Z
UID:10003617-1662303600-1662314400@downtownglendale.com
SUMMARY:The Americana at Brand Live Weekend Entertainment
DESCRIPTION:Live Weekend Entertainment Through September 30\, 2022 \nCue the music! Join us every Friday\, Saturday and Sunday\, for live entertainment as talented musicians make their way through The Americana at Brand. \nListen and dance to the beat\, then be sure to share your musical moment by tagging us: @AmericanaBrand. \nFridays & Saturdays: 6PM – 9PM \nSundays: 3PM – 6PM \nLabor Day: 4PM – 7PM
URL:https://downtownglendale.com/event/the-americana-at-brand-live-weekend-entertainment/2022-09-04/
LOCATION:The Americana at Brand\, 889 Americana Way\, Glendale\, CA\, 91210\, United States
GEO:34.1445873;-118.2576743
X-APPLE-STRUCTURED-LOCATION;VALUE=URI;X-ADDRESS=The Americana at Brand 889 Americana Way Glendale CA 91210 United States;X-APPLE-RADIUS=500;X-TITLE=889 Americana Way:geo:-118.2576743,34.1445873
END:VEVENT
BEGIN:VEVENT
DTSTART;TZID=America/Los_Angeles:20220911T150000
DTEND;TZID=America/Los_Angeles:20220911T180000
DTSTAMP:20260420T124556
CREATED:20240130T074434Z
LAST-MODIFIED:20240130T074434Z
UID:10003618-1662908400-1662919200@downtownglendale.com
SUMMARY:The Americana at Brand Live Weekend Entertainment
DESCRIPTION:Live Weekend Entertainment Through September 30\, 2022 \nCue the music! Join us every Friday\, Saturday and Sunday\, for live entertainment as talented musicians make their way through The Americana at Brand. \nListen and dance to the beat\, then be sure to share your musical moment by tagging us: @AmericanaBrand. \nFridays & Saturdays: 6PM – 9PM \nSundays: 3PM – 6PM \nLabor Day: 4PM – 7PM
URL:https://downtownglendale.com/event/the-americana-at-brand-live-weekend-entertainment/2022-09-11/
LOCATION:The Americana at Brand\, 889 Americana Way\, Glendale\, CA\, 91210\, United States
GEO:34.1445873;-118.2576743
X-APPLE-STRUCTURED-LOCATION;VALUE=URI;X-ADDRESS=The Americana at Brand 889 Americana Way Glendale CA 91210 United States;X-APPLE-RADIUS=500;X-TITLE=889 Americana Way:geo:-118.2576743,34.1445873
END:VEVENT
BEGIN:VEVENT
DTSTART;TZID=America/Los_Angeles:20220918T150000
DTEND;TZID=America/Los_Angeles:20220918T180000
DTSTAMP:20260420T124556
CREATED:20240130T074434Z
LAST-MODIFIED:20240130T074434Z
UID:10003619-1663513200-1663524000@downtownglendale.com
SUMMARY:The Americana at Brand Live Weekend Entertainment
DESCRIPTION:Live Weekend Entertainment Through September 30\, 2022 \nCue the music! Join us every Friday\, Saturday and Sunday\, for live entertainment as talented musicians make their way through The Americana at Brand. \nListen and dance to the beat\, then be sure to share your musical moment by tagging us: @AmericanaBrand. \nFridays & Saturdays: 6PM – 9PM \nSundays: 3PM – 6PM \nLabor Day: 4PM – 7PM
URL:https://downtownglendale.com/event/the-americana-at-brand-live-weekend-entertainment/2022-09-18/
LOCATION:The Americana at Brand\, 889 Americana Way\, Glendale\, CA\, 91210\, United States
GEO:34.1445873;-118.2576743
X-APPLE-STRUCTURED-LOCATION;VALUE=URI;X-ADDRESS=The Americana at Brand 889 Americana Way Glendale CA 91210 United States;X-APPLE-RADIUS=500;X-TITLE=889 Americana Way:geo:-118.2576743,34.1445873
END:VEVENT
BEGIN:VEVENT
DTSTART;TZID=America/Los_Angeles:20220925T150000
DTEND;TZID=America/Los_Angeles:20220925T180000
DTSTAMP:20260420T124556
CREATED:20240130T074434Z
LAST-MODIFIED:20240130T074434Z
UID:10003620-1664118000-1664128800@downtownglendale.com
SUMMARY:The Americana at Brand Live Weekend Entertainment
DESCRIPTION:Live Weekend Entertainment Through September 30\, 2022 \nCue the music! Join us every Friday\, Saturday and Sunday\, for live entertainment as talented musicians make their way through The Americana at Brand. \nListen and dance to the beat\, then be sure to share your musical moment by tagging us: @AmericanaBrand. \nFridays & Saturdays: 6PM – 9PM \nSundays: 3PM – 6PM \nLabor Day: 4PM – 7PM
URL:https://downtownglendale.com/event/the-americana-at-brand-live-weekend-entertainment/2022-09-25/
LOCATION:The Americana at Brand\, 889 Americana Way\, Glendale\, CA\, 91210\, United States
GEO:34.1445873;-118.2576743
X-APPLE-STRUCTURED-LOCATION;VALUE=URI;X-ADDRESS=The Americana at Brand 889 Americana Way Glendale CA 91210 United States;X-APPLE-RADIUS=500;X-TITLE=889 Americana Way:geo:-118.2576743,34.1445873
END:VEVENT
BEGIN:VEVENT
DTSTART;VALUE=DATE:20220929
DTEND;VALUE=DATE:20221007
DTSTAMP:20260420T124556
CREATED:20220625T063007Z
LAST-MODIFIED:20220625T063007Z
UID:10004140-1664409600-1665100799@downtownglendale.com
SUMMARY:International Film Festival Presented by Glendale Arts
DESCRIPTION:
URL:https://downtownglendale.com/event/international-film-festival-presented-by-glendale-arts/
LOCATION:Downtown Glendale\, 216 N. Brand Blvd.\, Glendale\, CA\, 91203\, United States
GEO:34.148864;-118.254095
X-APPLE-STRUCTURED-LOCATION;VALUE=URI;X-ADDRESS=Downtown Glendale 216 N. Brand Blvd. Glendale CA 91203 United States;X-APPLE-RADIUS=500;X-TITLE=216 N. Brand Blvd.:geo:-118.254095,34.148864
END:VEVENT
END:VCALENDAR