BEGIN:VCALENDAR
VERSION:2.0
PRODID:-//Downtown Glendale - ECPv6.15.20//NONSGML v1.0//EN
CALSCALE:GREGORIAN
METHOD:PUBLISH
X-WR-CALNAME:Downtown Glendale
X-ORIGINAL-URL:https://downtownglendale.com
X-WR-CALDESC:Events for Downtown Glendale
REFRESH-INTERVAL;VALUE=DURATION:PT1H
X-Robots-Tag:noindex
X-PUBLISHED-TTL:PT1H
BEGIN:VTIMEZONE
TZID:America/Los_Angeles
BEGIN:DAYLIGHT
TZOFFSETFROM:-0800
TZOFFSETTO:-0700
TZNAME:PDT
DTSTART:20230312T100000
END:DAYLIGHT
BEGIN:STANDARD
TZOFFSETFROM:-0700
TZOFFSETTO:-0800
TZNAME:PST
DTSTART:20231105T090000
END:STANDARD
BEGIN:DAYLIGHT
TZOFFSETFROM:-0800
TZOFFSETTO:-0700
TZNAME:PDT
DTSTART:20240310T100000
END:DAYLIGHT
BEGIN:STANDARD
TZOFFSETFROM:-0700
TZOFFSETTO:-0800
TZNAME:PST
DTSTART:20241103T090000
END:STANDARD
BEGIN:DAYLIGHT
TZOFFSETFROM:-0800
TZOFFSETTO:-0700
TZNAME:PDT
DTSTART:20250309T100000
END:DAYLIGHT
BEGIN:STANDARD
TZOFFSETFROM:-0700
TZOFFSETTO:-0800
TZNAME:PST
DTSTART:20251102T090000
END:STANDARD
END:VTIMEZONE
BEGIN:VEVENT
DTSTART;TZID=America/Los_Angeles:20240303T180000
DTEND;TZID=America/Los_Angeles:20240303T180000
DTSTAMP:20260419T093005
CREATED:20240216T065158Z
LAST-MODIFIED:20240216T065158Z
UID:10004204-1709488800-1709488800@downtownglendale.com
SUMMARY:Glendale Youth Orchestra Presents Scheherazade
DESCRIPTION:Glendale Youth Orchestra presents as part of the 35th Anniversary Season Rimsky-Korsakov’s Scheherazade\, a grand symphonic poem featuring various members and sections of the orchestra.
URL:https://downtownglendale.com/event/glendale-youth-orchestra-presents-scheherazade/
LOCATION:Alex Theatre\, 216 N. Brand Blvd.\, Glendale\, CA\, 91203\, United States
GEO:34.148864;-118.254095
X-APPLE-STRUCTURED-LOCATION;VALUE=URI;X-ADDRESS=Alex Theatre 216 N. Brand Blvd. Glendale CA 91203 United States;X-APPLE-RADIUS=500;X-TITLE=216 N. Brand Blvd.:geo:-118.254095,34.148864
END:VEVENT
BEGIN:VEVENT
DTSTART;TZID=America/Los_Angeles:20240308T140000
DTEND;TZID=America/Los_Angeles:20240308T170000
DTSTAMP:20260419T093005
CREATED:20230925T203629Z
LAST-MODIFIED:20240308T072834Z
UID:10004193-1709906400-1709917200@downtownglendale.com
SUMMARY:International Women's Day Presented by Greater Downtown Glendale Association
DESCRIPTION:[vc_row css_animation=”” row_type=”row” use_row_as_full_screen_section=”no” type=”full_width” angled_section=”no” text_align=”left” background_image_as_pattern=”without_pattern”][vc_column][vc_column_text]International Women’s Day (IWD) is celebrated annually on March 8\, and has occurred for over 100 years. This is a day to celebrate the cultural\, social\, economic and political achievements of women while also making it a call to action for continuing to forge a gender-balanced world. For the fourth year\, Glendale is taking part in this global celebration! \nThe Greater Downtown Glendale Association would like to invite you to their celebration of International Women’s Day! Please join us on Friday\, March 8th at MYA Rooftop at Glenmark Hotel for a conversation about embracing inclusion\, followed by a reception where guests can network and mingle with the speaker. Each ticket includes drinks and appetizers.[/vc_column_text][/vc_column][/vc_row][vc_row css_animation=”” row_type=”row” use_row_as_full_screen_section=”no” type=”full_width” angled_section=”no” text_align=”left” background_image_as_pattern=”without_pattern”][vc_column][vc_empty_space height=”30px”][/vc_column][/vc_row][vc_row css_animation=”” row_type=”row” use_row_as_full_screen_section=”no” type=”full_width” angled_section=”no” text_align=”left” background_image_as_pattern=”without_pattern”][vc_column][vc_column_text] \nMeet the Speaker\nCorinne Verdery\nChief Executive Officer\, Caruso \nCorinne Verdery assumed the role of Chief Executive Officer of Caruso\, one of the largest and most admired privately held real estate development and management companies in the U.S.\, in September 2022. As CEO\, Verdery is focused on continuing the stellar performance and growth the company has achieved since it was founded 36 years ago. \nVerdery joined Caruso in 2016 and was previously Chief Development Officer\, overseeing Caruso’s development business which includes acquisitions\, design\, construction and tenant services. Focusing on doubling the size of the company and its offerings in Southern California\, she oversaw the development of the Forbes triple five-star resort Rosewood Miramar Beach in Montecito and Palisades Village\, a first of its kind mixed-use project in Pacific Palisades\, as well as the acquisition of new Caruso properties. In addition\, she managed new zoning approvals for 333 La Cienega\, expansion of The Lakes in Thousand Oaks and directed the renovation of significant tenant spaces across the Caruso portfolio. \nVerdery has more than 30 years of experience specializing in the industry. She joined Caruso from NBCUniversal\, where she was the Chief Real Estate Development Officer. In that position\, she was responsible for overseeing the 25-year multibillion-dollar NBCUniversal Evolution Plan\, a vital component to the company’s overall long-term growth and success. Prior to that role\, Verdery held various executive positions within the company for well over a decade\, including a global role where she planned and built new developments in major cities worldwide. \nVerdery was also SVP of Oasis West Realty/Alagem Capital Group\, where she successfully spearheaded the development and entitlement process of The Beverly Hilton and the five-star Waldorf Astoria Hotel in Beverly Hills\, which included the passage of a citywide ballot\, 19 public hearings and a voter referendum. \nVerdery graduated magna cum laude from Pepperdine University Graziadio Business School and cum laude from USC School of Architecture\, where she was the recipient of the 2019 Distinguished Alumni Award. She is a 2023 Coro Crystal Eagle Award Honoree\, given to visionary leaders for their impact across Southern California\, and currently serves on the Board of Adventist Health Glendale Foundation and the Board of Trustees for The Archer School for Girls\, where her twin daughters graduated from this past Spring.[/vc_column_text][/vc_column][/vc_row][vc_row css_animation=”” row_type=”row” use_row_as_full_screen_section=”no” type=”full_width” angled_section=”no” text_align=”left” background_image_as_pattern=”without_pattern”][vc_column][vc_empty_space height=”30px”][/vc_column][/vc_row][vc_row css_animation=”” row_type=”row” use_row_as_full_screen_section=”no” type=”full_width” angled_section=”no” text_align=”left” background_image_as_pattern=”without_pattern”][vc_column][vc_column_text] \nPartners & Sponsors\n[/vc_column_text][/vc_column][/vc_row][vc_row css_animation=”” row_type=”row” use_row_as_full_screen_section=”no” type=”full_width” angled_section=”no” text_align=”left” background_image_as_pattern=”without_pattern”][vc_column][vc_empty_space height=”20px”][/vc_column][/vc_row][vc_row css_animation=”” row_type=”row” use_row_as_full_screen_section=”no” type=”full_width” angled_section=”no” text_align=”center” background_image_as_pattern=”without_pattern” z_index=””][vc_column width=”1/4″ css=”.vc_custom_1709882758545{padding-top: 20px !important;}”][vc_column_text][/vc_column_text][/vc_column][vc_column width=”1/4″ css=”.vc_custom_1709882764512{padding-top: 20px !important;}”][vc_column_text][/vc_column_text][/vc_column][vc_column width=”1/4″ css=”.vc_custom_1709882885450{padding-top: 10px !important;}”][vc_column_text][/vc_column_text][/vc_column][vc_column width=”1/4″][vc_column_text][/vc_column_text][/vc_column][/vc_row][vc_row css_animation=”” row_type=”row” use_row_as_full_screen_section=”no” type=”full_width” angled_section=”no” text_align=”left” background_image_as_pattern=”without_pattern”][vc_column][vc_empty_space height=”50px”][/vc_column][/vc_row][vc_row css_animation=”” row_type=”row” use_row_as_full_screen_section=”no” type=”full_width” angled_section=”no” text_align=”center” background_image_as_pattern=”without_pattern” z_index=””][vc_column][vc_column_text]Purchase Tickets \n(Limited Availability)[/vc_column_text][/vc_column][/vc_row]
URL:https://downtownglendale.com/event/international-womens-day-presented-by-greater-downtown-glendale-association-2024/
LOCATION:The Glenmark Hotel\, 1100 N. Brand Blvd.\, Glendale\, CA\, 91202\, United States
ATTACH;FMTTYPE=image/jpeg:https://downtownglendale.com/wp-content/uploads/International-Womens-Day-2024.jpg
END:VEVENT
BEGIN:VEVENT
DTSTART;TZID=America/Los_Angeles:20240323T200000
DTEND;TZID=America/Los_Angeles:20240323T200000
DTSTAMP:20260419T093005
CREATED:20240216T065303Z
LAST-MODIFIED:20240216T065303Z
UID:10004205-1711224000-1711224000@downtownglendale.com
SUMMARY:Tigran Hamasyan Trio
DESCRIPTION:
URL:https://downtownglendale.com/event/tigran-hamasyan-trio/
LOCATION:Alex Theatre\, 216 N. Brand Blvd.\, Glendale\, CA\, 91203\, United States
GEO:34.148864;-118.254095
X-APPLE-STRUCTURED-LOCATION;VALUE=URI;X-ADDRESS=Alex Theatre 216 N. Brand Blvd. Glendale CA 91203 United States;X-APPLE-RADIUS=500;X-TITLE=216 N. Brand Blvd.:geo:-118.254095,34.148864
END:VEVENT
BEGIN:VEVENT
DTSTART;TZID=America/Los_Angeles:20240330T200000
DTEND;TZID=America/Los_Angeles:20240330T200000
DTSTAMP:20260419T093005
CREATED:20240216T065604Z
LAST-MODIFIED:20240216T065604Z
UID:10004206-1711828800-1711828800@downtownglendale.com
SUMMARY:LACO Presents Traditions: Pergolesi's Stabat Mater
DESCRIPTION:WHAT ENDURES ACROSS TIME AND SPACE? Join us for a series of timeless works that spotlight singular voices within the collective music-making experience. Revisit memories and create new ones together with LACO and guest artists John Holiday and Amanda Forsythe. \nPERGOLESI’S STABAT MATER is made possible\, in part\, with the generous support from Cheryl K. Petersen + Roger H. Lustberg.
URL:https://downtownglendale.com/event/laco-presents-traditions-pergolesis-stabat-mater/
LOCATION:Alex Theatre\, 216 N. Brand Blvd.\, Glendale\, CA\, 91203\, United States
GEO:34.148864;-118.254095
X-APPLE-STRUCTURED-LOCATION;VALUE=URI;X-ADDRESS=Alex Theatre 216 N. Brand Blvd. Glendale CA 91203 United States;X-APPLE-RADIUS=500;X-TITLE=216 N. Brand Blvd.:geo:-118.254095,34.148864
END:VEVENT
END:VCALENDAR