BEGIN:VCALENDAR
VERSION:2.0
PRODID:-//Downtown Glendale - ECPv6.15.20//NONSGML v1.0//EN
CALSCALE:GREGORIAN
METHOD:PUBLISH
X-WR-CALNAME:Downtown Glendale
X-ORIGINAL-URL:https://downtownglendale.com
X-WR-CALDESC:Events for Downtown Glendale
REFRESH-INTERVAL;VALUE=DURATION:PT1H
X-Robots-Tag:noindex
X-PUBLISHED-TTL:PT1H
BEGIN:VTIMEZONE
TZID:America/Los_Angeles
BEGIN:DAYLIGHT
TZOFFSETFROM:-0800
TZOFFSETTO:-0700
TZNAME:PDT
DTSTART:20240310T100000
END:DAYLIGHT
BEGIN:STANDARD
TZOFFSETFROM:-0700
TZOFFSETTO:-0800
TZNAME:PST
DTSTART:20241103T090000
END:STANDARD
BEGIN:DAYLIGHT
TZOFFSETFROM:-0800
TZOFFSETTO:-0700
TZNAME:PDT
DTSTART:20250309T100000
END:DAYLIGHT
BEGIN:STANDARD
TZOFFSETFROM:-0700
TZOFFSETTO:-0800
TZNAME:PST
DTSTART:20251102T090000
END:STANDARD
BEGIN:DAYLIGHT
TZOFFSETFROM:-0800
TZOFFSETTO:-0700
TZNAME:PDT
DTSTART:20260308T100000
END:DAYLIGHT
BEGIN:STANDARD
TZOFFSETFROM:-0700
TZOFFSETTO:-0800
TZNAME:PST
DTSTART:20261101T090000
END:STANDARD
END:VTIMEZONE
BEGIN:VEVENT
DTSTART;TZID=America/Los_Angeles:20250504T133000
DTEND;TZID=America/Los_Angeles:20250504T153000
DTSTAMP:20260422T071830
CREATED:20250321T182351Z
LAST-MODIFIED:20250321T182351Z
UID:10004267-1746365400-1746372600@downtownglendale.com
SUMMARY:The Nocturne Theatre Presents Little Shop of Horrors Closing Night
DESCRIPTION:
URL:https://downtownglendale.com/event/the-nocturne-theatre-presents-little-shop-of-horrors-closing-night/
LOCATION:The Nocturne Theatre\, 324 N. Orange St.\, Glendale\, CA\, 91203\, United States
END:VEVENT
BEGIN:VEVENT
DTSTART;TZID=America/Los_Angeles:20250504T153000
DTEND;TZID=America/Los_Angeles:20250504T153000
DTSTAMP:20260422T071830
CREATED:20250213T173808Z
LAST-MODIFIED:20250213T173808Z
UID:10004260-1746372600-1746372600@downtownglendale.com
SUMMARY:The Magical Music of Harry Potter
DESCRIPTION:
URL:https://downtownglendale.com/event/the-magical-music-of-harry-potter/
LOCATION:Alex Theatre\, 216 N. Brand Blvd.\, Glendale\, CA\, 91203\, United States
GEO:34.148864;-118.254095
X-APPLE-STRUCTURED-LOCATION;VALUE=URI;X-ADDRESS=Alex Theatre 216 N. Brand Blvd. Glendale CA 91203 United States;X-APPLE-RADIUS=500;X-TITLE=216 N. Brand Blvd.:geo:-118.254095,34.148864
END:VEVENT
BEGIN:VEVENT
DTSTART;TZID=America/Los_Angeles:20250506T100000
DTEND;TZID=America/Los_Angeles:20250506T120000
DTSTAMP:20260422T071830
CREATED:20250520T165014Z
LAST-MODIFIED:20250520T165014Z
UID:10004288-1746525600-1746532800@downtownglendale.com
SUMMARY:Kids Club in Collaboration with Apple TV+
DESCRIPTION:May 6-27\, 2025From 10am-12pm \nEvery Tuesday on The Green | 10AM & 11AM \nKids\, parents and caregivers are invited to experience a weekly dose of fun\, featuring live music\, storytelling\, puppet shows and so much more! \n5/6: B-MUSIC\n5/13: Jammin with Jared\n5/20: The BeatBuds\n5/27: Wild Child Gym
URL:https://downtownglendale.com/event/kids-club-in-collaboration-with-apple-tv-10/
LOCATION:The Americana at Brand\, 889 Americana Way\, Glendale\, CA\, 91210\, United States
GEO:34.1445873;-118.2576743
X-APPLE-STRUCTURED-LOCATION;VALUE=URI;X-ADDRESS=The Americana at Brand 889 Americana Way Glendale CA 91210 United States;X-APPLE-RADIUS=500;X-TITLE=889 Americana Way:geo:-118.2576743,34.1445873
END:VEVENT
BEGIN:VEVENT
DTSTART;TZID=America/Los_Angeles:20250507T193000
DTEND;TZID=America/Los_Angeles:20250507T193000
DTSTAMP:20260422T071830
CREATED:20250213T174000Z
LAST-MODIFIED:20250213T174000Z
UID:10004261-1746646200-1746646200@downtownglendale.com
SUMMARY:The Music of Hans Zimmer & Others - A Celebration of Film Music
DESCRIPTION:
URL:https://downtownglendale.com/event/the-music-of-hans-zimmer-others-a-celebration-of-film-music/
LOCATION:Alex Theatre\, 216 N. Brand Blvd.\, Glendale\, CA\, 91203\, United States
GEO:34.148864;-118.254095
X-APPLE-STRUCTURED-LOCATION;VALUE=URI;X-ADDRESS=Alex Theatre 216 N. Brand Blvd. Glendale CA 91203 United States;X-APPLE-RADIUS=500;X-TITLE=216 N. Brand Blvd.:geo:-118.254095,34.148864
END:VEVENT
BEGIN:VEVENT
DTSTART;TZID=America/Los_Angeles:20250513T100000
DTEND;TZID=America/Los_Angeles:20250513T120000
DTSTAMP:20260422T071830
CREATED:20250520T165125Z
LAST-MODIFIED:20250520T165125Z
UID:10004289-1747130400-1747137600@downtownglendale.com
SUMMARY:Kids Club in Collaboration with Apple TV+
DESCRIPTION:May 6-27\, 2025From 10am-12pm \nEvery Tuesday on The Green | 10AM & 11AM \nKids\, parents and caregivers are invited to experience a weekly dose of fun\, featuring live music\, storytelling\, puppet shows and so much more! \n5/6: B-MUSIC\n5/13: Jammin with Jared\n5/20: The BeatBuds\n5/27: Wild Child Gym
URL:https://downtownglendale.com/event/kids-club-in-collaboration-with-apple-tv-11/
LOCATION:The Americana at Brand\, 889 Americana Way\, Glendale\, CA\, 91210\, United States
GEO:34.1445873;-118.2576743
X-APPLE-STRUCTURED-LOCATION;VALUE=URI;X-ADDRESS=The Americana at Brand 889 Americana Way Glendale CA 91210 United States;X-APPLE-RADIUS=500;X-TITLE=889 Americana Way:geo:-118.2576743,34.1445873
END:VEVENT
BEGIN:VEVENT
DTSTART;TZID=America/Los_Angeles:20250517T200000
DTEND;TZID=America/Los_Angeles:20250517T200000
DTSTAMP:20260422T071830
CREATED:20250213T174157Z
LAST-MODIFIED:20250213T174157Z
UID:10004262-1747512000-1747512000@downtownglendale.com
SUMMARY:Jack Assadourian Jr.
DESCRIPTION:
URL:https://downtownglendale.com/event/jack-assadourian-jr/
LOCATION:Alex Theatre\, 216 N. Brand Blvd.\, Glendale\, CA\, 91203\, United States
GEO:34.148864;-118.254095
X-APPLE-STRUCTURED-LOCATION;VALUE=URI;X-ADDRESS=Alex Theatre 216 N. Brand Blvd. Glendale CA 91203 United States;X-APPLE-RADIUS=500;X-TITLE=216 N. Brand Blvd.:geo:-118.254095,34.148864
END:VEVENT
BEGIN:VEVENT
DTSTART;TZID=America/Los_Angeles:20250520T100000
DTEND;TZID=America/Los_Angeles:20250520T120000
DTSTAMP:20260422T071830
CREATED:20250520T165230Z
LAST-MODIFIED:20250520T165230Z
UID:10004290-1747735200-1747742400@downtownglendale.com
SUMMARY:Kids Club in Collaboration with Apple TV+
DESCRIPTION:May 6-27\, 2025\nFrom 10am-12pm \nEvery Tuesday on The Green | 10AM & 11AM \nKids\, parents and caregivers are invited to experience a weekly dose of fun\, featuring live music\, storytelling\, puppet shows and so much more! \n5/6: B-MUSIC\n5/13: Jammin with Jared\n5/20: The BeatBuds\n5/27: Wild Child Gym
URL:https://downtownglendale.com/event/kids-club-in-collaboration-with-apple-tv-12/
LOCATION:The Americana at Brand\, 889 Americana Way\, Glendale\, CA\, 91210\, United States
GEO:34.1445873;-118.2576743
X-APPLE-STRUCTURED-LOCATION;VALUE=URI;X-ADDRESS=The Americana at Brand 889 Americana Way Glendale CA 91210 United States;X-APPLE-RADIUS=500;X-TITLE=889 Americana Way:geo:-118.2576743,34.1445873
END:VEVENT
BEGIN:VEVENT
DTSTART;TZID=America/Los_Angeles:20250523T100000
DTEND;TZID=America/Los_Angeles:20250523T190000
DTSTAMP:20260422T071830
CREATED:20250520T165518Z
LAST-MODIFIED:20250520T165518Z
UID:10004292-1747994400-1748026800@downtownglendale.com
SUMMARY:GM EV Drive Event
DESCRIPTION:May 23-25\, 2025 \nElectrify your holiday plans. Join us this weekend for an EV Drive Event with General Motors. They’re bringing in the broadest portfolio of EVs in the industry\, and test-drive participants will receive a $25 gift card. \nFriday & Saturday\, 10AM – 7PM\nSunday\, 11AM – 7PM
URL:https://downtownglendale.com/event/gm-ev-drive-event/
LOCATION:The Americana at Brand\, 889 Americana Way\, Glendale\, CA\, 91210\, United States
GEO:34.1445873;-118.2576743
X-APPLE-STRUCTURED-LOCATION;VALUE=URI;X-ADDRESS=The Americana at Brand 889 Americana Way Glendale CA 91210 United States;X-APPLE-RADIUS=500;X-TITLE=889 Americana Way:geo:-118.2576743,34.1445873
END:VEVENT
BEGIN:VEVENT
DTSTART;TZID=America/Los_Angeles:20250524T100000
DTEND;TZID=America/Los_Angeles:20250524T190000
DTSTAMP:20260422T071830
CREATED:20250520T165630Z
LAST-MODIFIED:20250520T165630Z
UID:10004293-1748080800-1748113200@downtownglendale.com
SUMMARY:GM EV Drive Event
DESCRIPTION:May 23-25\, 2025 \nElectrify your holiday plans. Join us this weekend for an EV Drive Event with General Motors. They’re bringing in the broadest portfolio of EVs in the industry\, and test-drive participants will receive a $25 gift card. \nFriday & Saturday\, 10AM – 7PM\nSunday\, 11AM – 7PM
URL:https://downtownglendale.com/event/gm-ev-drive-event-2/
LOCATION:The Americana at Brand\, 889 Americana Way\, Glendale\, CA\, 91210\, United States
GEO:34.1445873;-118.2576743
X-APPLE-STRUCTURED-LOCATION;VALUE=URI;X-ADDRESS=The Americana at Brand 889 Americana Way Glendale CA 91210 United States;X-APPLE-RADIUS=500;X-TITLE=889 Americana Way:geo:-118.2576743,34.1445873
END:VEVENT
BEGIN:VEVENT
DTSTART;TZID=America/Los_Angeles:20250525T110000
DTEND;TZID=America/Los_Angeles:20250525T190000
DTSTAMP:20260422T071830
CREATED:20250520T165747Z
LAST-MODIFIED:20250520T165747Z
UID:10004294-1748170800-1748199600@downtownglendale.com
SUMMARY:GM EV Drive Event
DESCRIPTION:May 23-25\, 2025 \nElectrify your holiday plans. Join us this weekend for an EV Drive Event with General Motors. They’re bringing in the broadest portfolio of EVs in the industry\, and test-drive participants will receive a $25 gift card. \nFriday & Saturday\, 10AM – 7PM\nSunday\, 11AM – 7PM
URL:https://downtownglendale.com/event/gm-ev-drive-event-3/
LOCATION:The Americana at Brand\, 889 Americana Way\, Glendale\, CA\, 91210\, United States
GEO:34.1445873;-118.2576743
X-APPLE-STRUCTURED-LOCATION;VALUE=URI;X-ADDRESS=The Americana at Brand 889 Americana Way Glendale CA 91210 United States;X-APPLE-RADIUS=500;X-TITLE=889 Americana Way:geo:-118.2576743,34.1445873
END:VEVENT
BEGIN:VEVENT
DTSTART;TZID=America/Los_Angeles:20250527T100000
DTEND;TZID=America/Los_Angeles:20250527T120000
DTSTAMP:20260422T071830
CREATED:20250520T165333Z
LAST-MODIFIED:20250520T165333Z
UID:10004291-1748340000-1748347200@downtownglendale.com
SUMMARY:Kids Club in Collaboration with Apple TV+
DESCRIPTION:May 6-27\, 2025\nFrom 10am-12pm \nEvery Tuesday on The Green | 10AM & 11AM \nKids\, parents and caregivers are invited to experience a weekly dose of fun\, featuring live music\, storytelling\, puppet shows and so much more! \n5/6: B-MUSIC\n5/13: Jammin with Jared\n5/20: The BeatBuds\n5/27: Wild Child Gym
URL:https://downtownglendale.com/event/kids-club-in-collaboration-with-apple-tv-13/
LOCATION:The Americana at Brand\, 889 Americana Way\, Glendale\, CA\, 91210\, United States
GEO:34.1445873;-118.2576743
X-APPLE-STRUCTURED-LOCATION;VALUE=URI;X-ADDRESS=The Americana at Brand 889 Americana Way Glendale CA 91210 United States;X-APPLE-RADIUS=500;X-TITLE=889 Americana Way:geo:-118.2576743,34.1445873
END:VEVENT
END:VCALENDAR