BEGIN:VCALENDAR
VERSION:2.0
PRODID:-//Downtown Glendale - ECPv6.15.20//NONSGML v1.0//EN
CALSCALE:GREGORIAN
METHOD:PUBLISH
X-ORIGINAL-URL:https://downtownglendale.com
X-WR-CALDESC:Events for Downtown Glendale
REFRESH-INTERVAL;VALUE=DURATION:PT1H
X-Robots-Tag:noindex
X-PUBLISHED-TTL:PT1H
BEGIN:VTIMEZONE
TZID:America/Los_Angeles
BEGIN:DAYLIGHT
TZOFFSETFROM:-0800
TZOFFSETTO:-0700
TZNAME:PDT
DTSTART:20240310T100000
END:DAYLIGHT
BEGIN:STANDARD
TZOFFSETFROM:-0700
TZOFFSETTO:-0800
TZNAME:PST
DTSTART:20241103T090000
END:STANDARD
BEGIN:DAYLIGHT
TZOFFSETFROM:-0800
TZOFFSETTO:-0700
TZNAME:PDT
DTSTART:20250309T100000
END:DAYLIGHT
BEGIN:STANDARD
TZOFFSETFROM:-0700
TZOFFSETTO:-0800
TZNAME:PST
DTSTART:20251102T090000
END:STANDARD
BEGIN:DAYLIGHT
TZOFFSETFROM:-0800
TZOFFSETTO:-0700
TZNAME:PDT
DTSTART:20260308T100000
END:DAYLIGHT
BEGIN:STANDARD
TZOFFSETFROM:-0700
TZOFFSETTO:-0800
TZNAME:PST
DTSTART:20261101T090000
END:STANDARD
END:VTIMEZONE
BEGIN:VEVENT
DTSTART;TZID=America/Los_Angeles:20250719T173000
DTEND;TZID=America/Los_Angeles:20250719T223000
DTSTAMP:20260422T105256
CREATED:20250520T170123Z
LAST-MODIFIED:20250520T170123Z
UID:10004295-1752946200-1752964200@downtownglendale.com
SUMMARY:30th Annual Cruise Night
DESCRIPTION:One of Glendale’s longest running (and coolest) events comes to the Jewel City on Saturday July 19\, 2025\, bringing together some of the finest looking vintage and unique automobiles in sunny Southern California. \nNestled in the heart of Glendale\, Brand Blvd. will be lined with approximately 300-400 pre -1985 classic cars & modified imports and exotic cars\, and over 45\,000 in attendance admiring them\, listening to live music and enjoying the festivities.  Modified Import and Exotic cars will be accepted and on display!  \nMany would be surprised to know that the first ever Cruise Night in July 1994 was held in tandem with the World Cup Soccer Event hosted at the Rose Bowl in Pasadena. \nThe event was such a success that the City of Glendale decided to host it on the 3rd Saturday in July every year since\, and years later it has been distinguished as producing the “largest draw” of individuals to the Downtown Glendale area.
URL:https://downtownglendale.com/event/30th-annual-cruise-night/
LOCATION:Downtown Glendale\, 216 N. Brand Blvd.\, Glendale\, CA\, 91203\, United States
GEO:34.148864;-118.254095
X-APPLE-STRUCTURED-LOCATION;VALUE=URI;X-ADDRESS=Downtown Glendale 216 N. Brand Blvd. Glendale CA 91203 United States;X-APPLE-RADIUS=500;X-TITLE=216 N. Brand Blvd.:geo:-118.254095,34.148864
END:VEVENT
END:VCALENDAR