BEGIN:VCALENDAR
VERSION:2.0
PRODID:-//Downtown Glendale - ECPv6.15.20//NONSGML v1.0//EN
CALSCALE:GREGORIAN
METHOD:PUBLISH
X-WR-CALNAME:Downtown Glendale
X-ORIGINAL-URL:https://downtownglendale.com
X-WR-CALDESC:Events for Downtown Glendale
REFRESH-INTERVAL;VALUE=DURATION:PT1H
X-Robots-Tag:noindex
X-PUBLISHED-TTL:PT1H
BEGIN:VTIMEZONE
TZID:America/Los_Angeles
BEGIN:DAYLIGHT
TZOFFSETFROM:-0800
TZOFFSETTO:-0700
TZNAME:PDT
DTSTART:20240310T100000
END:DAYLIGHT
BEGIN:STANDARD
TZOFFSETFROM:-0700
TZOFFSETTO:-0800
TZNAME:PST
DTSTART:20241103T090000
END:STANDARD
BEGIN:DAYLIGHT
TZOFFSETFROM:-0800
TZOFFSETTO:-0700
TZNAME:PDT
DTSTART:20250309T100000
END:DAYLIGHT
BEGIN:STANDARD
TZOFFSETFROM:-0700
TZOFFSETTO:-0800
TZNAME:PST
DTSTART:20251102T090000
END:STANDARD
BEGIN:DAYLIGHT
TZOFFSETFROM:-0800
TZOFFSETTO:-0700
TZNAME:PDT
DTSTART:20260308T100000
END:DAYLIGHT
BEGIN:STANDARD
TZOFFSETFROM:-0700
TZOFFSETTO:-0800
TZNAME:PST
DTSTART:20261101T090000
END:STANDARD
END:VTIMEZONE
BEGIN:VEVENT
DTSTART;TZID=America/Los_Angeles:20251002T190000
DTEND;TZID=America/Los_Angeles:20251002T220000
DTSTAMP:20260422T155519
CREATED:20250901T080213Z
LAST-MODIFIED:20250901T080213Z
UID:10004307-1759431600-1759442400@downtownglendale.com
SUMMARY:From LA with Love
DESCRIPTION:
URL:https://downtownglendale.com/event/from-la-with-love/
LOCATION:Alex Theatre\, 216 N. Brand Blvd.\, Glendale\, CA\, 91203\, United States
GEO:34.148864;-118.254095
X-APPLE-STRUCTURED-LOCATION;VALUE=URI;X-ADDRESS=Alex Theatre 216 N. Brand Blvd. Glendale CA 91203 United States;X-APPLE-RADIUS=500;X-TITLE=216 N. Brand Blvd.:geo:-118.254095,34.148864
END:VEVENT
BEGIN:VEVENT
DTSTART;TZID=America/Los_Angeles:20251003T200000
DTEND;TZID=America/Los_Angeles:20251003T230000
DTSTAMP:20260422T155519
CREATED:20250901T080332Z
LAST-MODIFIED:20250901T080332Z
UID:10004308-1759521600-1759532400@downtownglendale.com
SUMMARY:Patagonia Tango
DESCRIPTION:
URL:https://downtownglendale.com/event/patagonia-tango/
LOCATION:Alex Theatre\, 216 N. Brand Blvd.\, Glendale\, CA\, 91203\, United States
GEO:34.148864;-118.254095
X-APPLE-STRUCTURED-LOCATION;VALUE=URI;X-ADDRESS=Alex Theatre 216 N. Brand Blvd. Glendale CA 91203 United States;X-APPLE-RADIUS=500;X-TITLE=216 N. Brand Blvd.:geo:-118.254095,34.148864
END:VEVENT
BEGIN:VEVENT
DTSTART;TZID=America/Los_Angeles:20251004T120000
DTEND;TZID=America/Los_Angeles:20251004T200000
DTSTAMP:20260422T155519
CREATED:20250901T080451Z
LAST-MODIFIED:20250901T080451Z
UID:10004309-1759579200-1759608000@downtownglendale.com
SUMMARY:The Dark Knight Trilogy
DESCRIPTION:
URL:https://downtownglendale.com/event/the-dark-knight-trilogy/
LOCATION:Alex Theatre\, 216 N. Brand Blvd.\, Glendale\, CA\, 91203\, United States
GEO:34.148864;-118.254095
X-APPLE-STRUCTURED-LOCATION;VALUE=URI;X-ADDRESS=Alex Theatre 216 N. Brand Blvd. Glendale CA 91203 United States;X-APPLE-RADIUS=500;X-TITLE=216 N. Brand Blvd.:geo:-118.254095,34.148864
END:VEVENT
BEGIN:VEVENT
DTSTART;TZID=America/Los_Angeles:20251008T200000
DTEND;TZID=America/Los_Angeles:20251008T230000
DTSTAMP:20260422T155519
CREATED:20250901T080546Z
LAST-MODIFIED:20250901T080546Z
UID:10004310-1759953600-1759964400@downtownglendale.com
SUMMARY:Stop Making Sense: A Film by Jonathan Demme and Talking Heads
DESCRIPTION:
URL:https://downtownglendale.com/event/stop-making-sense-a-film-by-jonathan-demme-and-talking-heads/
LOCATION:Alex Theatre\, 216 N. Brand Blvd.\, Glendale\, CA\, 91203\, United States
GEO:34.148864;-118.254095
X-APPLE-STRUCTURED-LOCATION;VALUE=URI;X-ADDRESS=Alex Theatre 216 N. Brand Blvd. Glendale CA 91203 United States;X-APPLE-RADIUS=500;X-TITLE=216 N. Brand Blvd.:geo:-118.254095,34.148864
END:VEVENT
BEGIN:VEVENT
DTSTART;TZID=America/Los_Angeles:20251010T190000
DTEND;TZID=America/Los_Angeles:20251010T220000
DTSTAMP:20260422T155519
CREATED:20250901T080642Z
LAST-MODIFIED:20250901T080642Z
UID:10004311-1760122800-1760133600@downtownglendale.com
SUMMARY:Scott Pilgrim vs. the World
DESCRIPTION:
URL:https://downtownglendale.com/event/scott-pilgrim-vs-the-world/
LOCATION:Alex Theatre\, 216 N. Brand Blvd.\, Glendale\, CA\, 91203\, United States
GEO:34.148864;-118.254095
X-APPLE-STRUCTURED-LOCATION;VALUE=URI;X-ADDRESS=Alex Theatre 216 N. Brand Blvd. Glendale CA 91203 United States;X-APPLE-RADIUS=500;X-TITLE=216 N. Brand Blvd.:geo:-118.254095,34.148864
END:VEVENT
BEGIN:VEVENT
DTSTART;TZID=America/Los_Angeles:20251011T193000
DTEND;TZID=America/Los_Angeles:20251011T223000
DTSTAMP:20260422T155519
CREATED:20250901T080758Z
LAST-MODIFIED:20250901T080758Z
UID:10004312-1760211000-1760221800@downtownglendale.com
SUMMARY:A Taste of Ireland
DESCRIPTION:
URL:https://downtownglendale.com/event/a-taste-of-ireland/
LOCATION:Alex Theatre\, 216 N. Brand Blvd.\, Glendale\, CA\, 91203\, United States
GEO:34.148864;-118.254095
X-APPLE-STRUCTURED-LOCATION;VALUE=URI;X-ADDRESS=Alex Theatre 216 N. Brand Blvd. Glendale CA 91203 United States;X-APPLE-RADIUS=500;X-TITLE=216 N. Brand Blvd.:geo:-118.254095,34.148864
END:VEVENT
BEGIN:VEVENT
DTSTART;TZID=America/Los_Angeles:20251012T190000
DTEND;TZID=America/Los_Angeles:20251012T220000
DTSTAMP:20260422T155519
CREATED:20250520T164111Z
LAST-MODIFIED:20250520T164111Z
UID:10004282-1760295600-1760306400@downtownglendale.com
SUMMARY:Napoleon Dynamite Live! 20th Anniversary Celebration
DESCRIPTION:
URL:https://downtownglendale.com/event/napoleon-dynamite-live-20th-anniversary-celebration/
LOCATION:Alex Theatre\, 216 N. Brand Blvd.\, Glendale\, CA\, 91203\, United States
GEO:34.148864;-118.254095
X-APPLE-STRUCTURED-LOCATION;VALUE=URI;X-ADDRESS=Alex Theatre 216 N. Brand Blvd. Glendale CA 91203 United States;X-APPLE-RADIUS=500;X-TITLE=216 N. Brand Blvd.:geo:-118.254095,34.148864
END:VEVENT
BEGIN:VEVENT
DTSTART;TZID=America/Los_Angeles:20251017T193000
DTEND;TZID=America/Los_Angeles:20251017T223000
DTSTAMP:20260422T155519
CREATED:20250901T080909Z
LAST-MODIFIED:20250901T080909Z
UID:10004313-1760729400-1760740200@downtownglendale.com
SUMMARY:Haunted Objects Live
DESCRIPTION:
URL:https://downtownglendale.com/event/haunted-objects-live/
LOCATION:Alex Theatre\, 216 N. Brand Blvd.\, Glendale\, CA\, 91203\, United States
GEO:34.148864;-118.254095
X-APPLE-STRUCTURED-LOCATION;VALUE=URI;X-ADDRESS=Alex Theatre 216 N. Brand Blvd. Glendale CA 91203 United States;X-APPLE-RADIUS=500;X-TITLE=216 N. Brand Blvd.:geo:-118.254095,34.148864
END:VEVENT
BEGIN:VEVENT
DTSTART;TZID=America/Los_Angeles:20251024T200000
DTEND;TZID=America/Los_Angeles:20251024T230000
DTSTAMP:20260422T155519
CREATED:20250901T081108Z
LAST-MODIFIED:20250901T081108Z
UID:10004314-1761336000-1761346800@downtownglendale.com
SUMMARY:Scott the Woz Presents The Wozzies
DESCRIPTION:
URL:https://downtownglendale.com/event/scott-the-woz-presents-the-wozzies/
LOCATION:Alex Theatre\, 216 N. Brand Blvd.\, Glendale\, CA\, 91203\, United States
GEO:34.148864;-118.254095
X-APPLE-STRUCTURED-LOCATION;VALUE=URI;X-ADDRESS=Alex Theatre 216 N. Brand Blvd. Glendale CA 91203 United States;X-APPLE-RADIUS=500;X-TITLE=216 N. Brand Blvd.:geo:-118.254095,34.148864
END:VEVENT
BEGIN:VEVENT
DTSTART;TZID=America/Los_Angeles:20251025T120000
DTEND;TZID=America/Los_Angeles:20251025T150000
DTSTAMP:20260422T155519
CREATED:20250901T081216Z
LAST-MODIFIED:20250901T081216Z
UID:10004315-1761393600-1761404400@downtownglendale.com
SUMMARY:Century of Cinema 1940's
DESCRIPTION:
URL:https://downtownglendale.com/event/century-of-cinema-1940s/
LOCATION:Alex Theatre\, 216 N. Brand Blvd.\, Glendale\, CA\, 91203\, United States
GEO:34.148864;-118.254095
X-APPLE-STRUCTURED-LOCATION;VALUE=URI;X-ADDRESS=Alex Theatre 216 N. Brand Blvd. Glendale CA 91203 United States;X-APPLE-RADIUS=500;X-TITLE=216 N. Brand Blvd.:geo:-118.254095,34.148864
END:VEVENT
END:VCALENDAR