BEGIN:VCALENDAR
VERSION:2.0
PRODID:-//Downtown Glendale - ECPv6.15.20//NONSGML v1.0//EN
CALSCALE:GREGORIAN
METHOD:PUBLISH
X-ORIGINAL-URL:https://downtownglendale.com
X-WR-CALDESC:Events for Downtown Glendale
REFRESH-INTERVAL;VALUE=DURATION:PT1H
X-Robots-Tag:noindex
X-PUBLISHED-TTL:PT1H
BEGIN:VTIMEZONE
TZID:America/Los_Angeles
BEGIN:DAYLIGHT
TZOFFSETFROM:-0800
TZOFFSETTO:-0700
TZNAME:PDT
DTSTART:20240310T100000
END:DAYLIGHT
BEGIN:STANDARD
TZOFFSETFROM:-0700
TZOFFSETTO:-0800
TZNAME:PST
DTSTART:20241103T090000
END:STANDARD
BEGIN:DAYLIGHT
TZOFFSETFROM:-0800
TZOFFSETTO:-0700
TZNAME:PDT
DTSTART:20250309T100000
END:DAYLIGHT
BEGIN:STANDARD
TZOFFSETFROM:-0700
TZOFFSETTO:-0800
TZNAME:PST
DTSTART:20251102T090000
END:STANDARD
BEGIN:DAYLIGHT
TZOFFSETFROM:-0800
TZOFFSETTO:-0700
TZNAME:PDT
DTSTART:20260308T100000
END:DAYLIGHT
BEGIN:STANDARD
TZOFFSETFROM:-0700
TZOFFSETTO:-0800
TZNAME:PST
DTSTART:20261101T090000
END:STANDARD
END:VTIMEZONE
BEGIN:VEVENT
DTSTART;TZID=America/Los_Angeles:20251211T190000
DTEND;TZID=America/Los_Angeles:20251211T220000
DTSTAMP:20260422T214429
CREATED:20250901T081952Z
LAST-MODIFIED:20250901T081952Z
UID:10004321-1765479600-1765490400@downtownglendale.com
SUMMARY:World Ballet Company Presents Nutcracker
DESCRIPTION:
URL:https://downtownglendale.com/event/world-ballet-company-presents-nutcracker/
LOCATION:Alex Theatre\, 216 N. Brand Blvd.\, Glendale\, CA\, 91203\, United States
GEO:34.148864;-118.254095
X-APPLE-STRUCTURED-LOCATION;VALUE=URI;X-ADDRESS=Alex Theatre 216 N. Brand Blvd. Glendale CA 91203 United States;X-APPLE-RADIUS=500;X-TITLE=216 N. Brand Blvd.:geo:-118.254095,34.148864
END:VEVENT
BEGIN:VEVENT
DTSTART;TZID=America/Los_Angeles:20251212T190000
DTEND;TZID=America/Los_Angeles:20251212T220000
DTSTAMP:20260422T214429
CREATED:20250901T082043Z
LAST-MODIFIED:20250901T082043Z
UID:10004322-1765566000-1765576800@downtownglendale.com
SUMMARY:World Ballet Company Presents Nutcracker
DESCRIPTION:
URL:https://downtownglendale.com/event/world-ballet-company-presents-nutcracker-2/
LOCATION:Alex Theatre\, 216 N. Brand Blvd.\, Glendale\, CA\, 91203\, United States
GEO:34.148864;-118.254095
X-APPLE-STRUCTURED-LOCATION;VALUE=URI;X-ADDRESS=Alex Theatre 216 N. Brand Blvd. Glendale CA 91203 United States;X-APPLE-RADIUS=500;X-TITLE=216 N. Brand Blvd.:geo:-118.254095,34.148864
END:VEVENT
BEGIN:VEVENT
DTSTART;TZID=America/Los_Angeles:20251213T200000
DTEND;TZID=America/Los_Angeles:20251213T230000
DTSTAMP:20260422T214429
CREATED:20250901T082147Z
LAST-MODIFIED:20250901T082147Z
UID:10004323-1765656000-1765666800@downtownglendale.com
SUMMARY:Holiday Jazz Spectacular
DESCRIPTION:
URL:https://downtownglendale.com/event/holiday-jazz-spectacular/
LOCATION:Alex Theatre\, 216 N. Brand Blvd.\, Glendale\, CA\, 91203\, United States
GEO:34.148864;-118.254095
X-APPLE-STRUCTURED-LOCATION;VALUE=URI;X-ADDRESS=Alex Theatre 216 N. Brand Blvd. Glendale CA 91203 United States;X-APPLE-RADIUS=500;X-TITLE=216 N. Brand Blvd.:geo:-118.254095,34.148864
END:VEVENT
BEGIN:VEVENT
DTSTART;TZID=America/Los_Angeles:20251215T193000
DTEND;TZID=America/Los_Angeles:20251215T223000
DTSTAMP:20260422T214429
CREATED:20250520T164344Z
LAST-MODIFIED:20250520T164344Z
UID:10004284-1765827000-1765837800@downtownglendale.com
SUMMARY:The Magical Music of Harry Potter
DESCRIPTION:
URL:https://downtownglendale.com/event/the-magical-music-of-harry-potter-2/
LOCATION:Alex Theatre\, 216 N. Brand Blvd.\, Glendale\, CA\, 91203\, United States
GEO:34.148864;-118.254095
X-APPLE-STRUCTURED-LOCATION;VALUE=URI;X-ADDRESS=Alex Theatre 216 N. Brand Blvd. Glendale CA 91203 United States;X-APPLE-RADIUS=500;X-TITLE=216 N. Brand Blvd.:geo:-118.254095,34.148864
END:VEVENT
BEGIN:VEVENT
DTSTART;TZID=America/Los_Angeles:20251216T193000
DTEND;TZID=America/Los_Angeles:20251216T223000
DTSTAMP:20260422T214429
CREATED:20250520T164547Z
LAST-MODIFIED:20250520T164547Z
UID:10004285-1765913400-1765924200@downtownglendale.com
SUMMARY:The Music of Hans Zimmer & Others: A Celebration of Film Music
DESCRIPTION:
URL:https://downtownglendale.com/event/the-music-of-hans-zimmer-others-a-celebration-of-film-music-2/
LOCATION:Alex Theatre\, 216 N. Brand Blvd.\, Glendale\, CA\, 91203\, United States
GEO:34.148864;-118.254095
X-APPLE-STRUCTURED-LOCATION;VALUE=URI;X-ADDRESS=Alex Theatre 216 N. Brand Blvd. Glendale CA 91203 United States;X-APPLE-RADIUS=500;X-TITLE=216 N. Brand Blvd.:geo:-118.254095,34.148864
END:VEVENT
BEGIN:VEVENT
DTSTART;TZID=America/Los_Angeles:20251217T160000
DTEND;TZID=America/Los_Angeles:20251217T190000
DTSTAMP:20260422T214429
CREATED:20250520T164636Z
LAST-MODIFIED:20250520T164636Z
UID:10004286-1765987200-1765998000@downtownglendale.com
SUMMARY:Lord of the Rings & The Hobbit In Concert
DESCRIPTION:
URL:https://downtownglendale.com/event/lord-of-the-rings-the-hobbit-in-concert/
LOCATION:Alex Theatre\, 216 N. Brand Blvd.\, Glendale\, CA\, 91203\, United States
GEO:34.148864;-118.254095
X-APPLE-STRUCTURED-LOCATION;VALUE=URI;X-ADDRESS=Alex Theatre 216 N. Brand Blvd. Glendale CA 91203 United States;X-APPLE-RADIUS=500;X-TITLE=216 N. Brand Blvd.:geo:-118.254095,34.148864
END:VEVENT
BEGIN:VEVENT
DTSTART;TZID=America/Los_Angeles:20251217T200000
DTEND;TZID=America/Los_Angeles:20251217T230000
DTSTAMP:20260422T214429
CREATED:20250520T164810Z
LAST-MODIFIED:20250520T164810Z
UID:10004287-1766001600-1766012400@downtownglendale.com
SUMMARY:Lord of the Rings & The Hobbit In Concert
DESCRIPTION:
URL:https://downtownglendale.com/event/lord-of-the-rings-the-hobbit-in-concert-2/
LOCATION:Alex Theatre\, 216 N. Brand Blvd.\, Glendale\, CA\, 91203\, United States
GEO:34.148864;-118.254095
X-APPLE-STRUCTURED-LOCATION;VALUE=URI;X-ADDRESS=Alex Theatre 216 N. Brand Blvd. Glendale CA 91203 United States;X-APPLE-RADIUS=500;X-TITLE=216 N. Brand Blvd.:geo:-118.254095,34.148864
END:VEVENT
END:VCALENDAR