BEGIN:VCALENDAR
VERSION:2.0
PRODID:-//Downtown Glendale - ECPv6.15.20//NONSGML v1.0//EN
CALSCALE:GREGORIAN
METHOD:PUBLISH
X-WR-CALNAME:Downtown Glendale
X-ORIGINAL-URL:https://downtownglendale.com
X-WR-CALDESC:Events for Downtown Glendale
REFRESH-INTERVAL;VALUE=DURATION:PT1H
X-Robots-Tag:noindex
X-PUBLISHED-TTL:PT1H
BEGIN:VTIMEZONE
TZID:America/Los_Angeles
BEGIN:DAYLIGHT
TZOFFSETFROM:-0800
TZOFFSETTO:-0700
TZNAME:PDT
DTSTART:20120311T100000
END:DAYLIGHT
BEGIN:STANDARD
TZOFFSETFROM:-0700
TZOFFSETTO:-0800
TZNAME:PST
DTSTART:20121104T090000
END:STANDARD
BEGIN:DAYLIGHT
TZOFFSETFROM:-0800
TZOFFSETTO:-0700
TZNAME:PDT
DTSTART:20130310T100000
END:DAYLIGHT
BEGIN:STANDARD
TZOFFSETFROM:-0700
TZOFFSETTO:-0800
TZNAME:PST
DTSTART:20131103T090000
END:STANDARD
BEGIN:DAYLIGHT
TZOFFSETFROM:-0800
TZOFFSETTO:-0700
TZNAME:PDT
DTSTART:20140309T100000
END:DAYLIGHT
BEGIN:STANDARD
TZOFFSETFROM:-0700
TZOFFSETTO:-0800
TZNAME:PST
DTSTART:20141102T090000
END:STANDARD
BEGIN:DAYLIGHT
TZOFFSETFROM:-0800
TZOFFSETTO:-0700
TZNAME:PDT
DTSTART:20150308T100000
END:DAYLIGHT
BEGIN:STANDARD
TZOFFSETFROM:-0700
TZOFFSETTO:-0800
TZNAME:PST
DTSTART:20151101T090000
END:STANDARD
END:VTIMEZONE
BEGIN:VEVENT
DTSTART;TZID=America/Los_Angeles:20140201T200000
DTEND;TZID=America/Los_Angeles:20140201T222000
DTSTAMP:20260423T040602
CREATED:20140115T220747Z
LAST-MODIFIED:20140129T221026Z
UID:10002864-1391284800-1391293200@downtownglendale.com
SUMMARY:Alex Film Society Presents MONTY PYTHON AND THE HOLY GRAIL
DESCRIPTION:Working on a measly budget (under $400\,000)\, the Python troupe made do with what they had. Can’t afford horses? No problem. We’ll just have Patsy (Terry Gilliam\, playing the part of King Arthur’s assistant) simulate the sound of horses by banging two coconuts together. No location budget? No problem. We’ll just shoot most of the castle scenes (and there are a lot of them) in the same castle\, just using different camera angles\, lighting set-ups\, and set dressing. So come and join us for one of the funniest (and silliest) movies ever made – MONTY PYTHON AND THE HOLY GRAIL [Python (Monty) Pictures\, 1975]. The cartoon features Bugs Bunny and Yosemite Sam in Knighty Knight Bugs. \nTickets: \n$15       [$12.50 Face Value Price + $2.50 Facility Fee] \nThree ways to purchase tickets: \nClick here to purchase tickets online 24/7 \nCall the Alex Theatre Box Office at 818-243-2539 \nVisit one of our box office locations: the Alex Theatre\, The Americana At Brand Grand Lobby Concierge Desk and the Glendale Community College Box Office.
URL:https://downtownglendale.com/event/alex-film-society-presents-monty-python-and-the-holy-grail/
LOCATION:Alex Theatre\, 216 N. Brand Blvd.\, Glendale\, CA\, 91203\, United States
GEO:34.148864;-118.254095
X-APPLE-STRUCTURED-LOCATION;VALUE=URI;X-ADDRESS=Alex Theatre 216 N. Brand Blvd. Glendale CA 91203 United States;X-APPLE-RADIUS=500;X-TITLE=216 N. Brand Blvd.:geo:-118.254095,34.148864
END:VEVENT
BEGIN:VEVENT
DTSTART;TZID=America/Los_Angeles:20131130T140000
DTEND;TZID=America/Los_Angeles:20131130T170000
DTSTAMP:20260423T040602
CREATED:20131010T171739Z
LAST-MODIFIED:20131010T171926Z
UID:10002954-1385820000-1385830800@downtownglendale.com
SUMMARY:Alex Theatre - 16TH ANNUAL THREE STOOGES™ BIG SCREEN EVENT
DESCRIPTION:16TH ANNUAL THREE STOOGES™ BIG SCREEN EVENT! ‘Hello Pop! Stooges Family Values’ In 1933 MGM released a ‘Ted Healy and His Stooges’ short called Hello Pop! incorporating musical numbers from two previously shot features unrelated to the Stooges. The original technicolor negative was lost in a 1967 fire at MGM and no prints were known to exist. However\, this year\, in January\, a color print of Hello Pop! was found in a film archive in Australia. The nitrate print was returned to the United States and\, under the auspices of Ned Price\, chief preservation officer at Warner Bros.\, a preservation print has been struck. With Ned’s kind permission and support\, this is the print we will see at the 16th Annual Three Stooges® Big Screen Event!\, shown as it was originally intended\, in 35mm on the big screen and in two strip Technicolor! So\, after 80 years\, once again we can say\, ‘Hello Pop! Glad you made it!’ \nJoining HELLO POP! (1933-Jack Cummings) the following Columbia classics will also be screened:\nTHREE DUMB CLUCKS (1937-Del Lord) WE WANT OUR MUMMY (1939-Del Lord) THREE SMART SAPS (1942-Jules White) BRIDELESS GROOM (1947-Edward Bernds) SOCK-A-BYE BABY (1942-Jules White) \nRunning time is approximately 2 hours 30 minutes with no intermission and the event is suitable for all ages. Photo/Video recording by patrons is not allowed. \nPatrons wishing additional information regarding the event and/or assistance with a ticket purchase may call the Alex Theatre Box Office at 818.243.2539 during its normal public hours of operation. \nTickets:\nGeneral Admission Seating [See below for ADA Accessible Seating] \nPRICE $12.50 + Fee(s) \nDISCOUNTED PRICING: SENIORS (age 65+) – $8.50 + Fee – Purchase in person at Box Office Window\, The Americana At Brand Concierge Desk\, and Glendale Community College Box Office only; at time of purchase must show ID with date of birth; maximum of 2 tickets per ID. STUDENTS – $8.50 + Fee – Purchase in person at Box Office Window\, The Americana At Brand Concierge Desk\, and Glendale Community College Box Office only; must show valid current full-time student ID at time of purchase; maximum of 2 tickets per ID. CHILDREN (12 and under) – $8.50 + Fee(s) – Purchase via Box Office Window\, The Americana At Brand Concierge Desk\, Glendale Community College Box Office\, Phone\, or Internet. Children age 2 and under who sit on a lap do not need a ticket; all persons 3 and older must have a ticket to enter the theatre. GROUPS (15+) – $8.50 + Fee – Purchase at Box Office Window\, The Americana At Brand Concierge Desk\, and Glendale Community College Box Office only. ALEX FILM SOCIETY MEMBERS – $7.50 + Fee – Purchase in person at Box Office Window\, The Americana At Brand Concierge Desk\, and Glendale Community College Box Office only; must show valid current AFS membership card at time of purchase. \nADA ACCESSIBLE SEATING INFORMATION Please note that all seating areas in the Alex Theatre other than the ADA Accessible seating area [Orchestra Row X] require a minimum of 8 stairs to access. If you require ADA accessible seating\, please let the Ticket Agent know at the beginning of the transaction or\, if purchasing online\, select from the ADA Accessible section and indicate the type of seating you require for each ADA Accessible seat. All ADA Accessible seating is Reserved Seating with specific Row and Seat Number designations on the tickets. \nMETHODS OF PAYMENT and TICKET FEES The Americana At Brand Concierge Desk & the Glendale Community College Box Office accept Credit Card payment only. Alex Theatre Box Office Window accepts Cash & Credit Card. A $2.50 per ticket Facility Fee is assessed in addition to face value price of each ticket; an additional Convenience Fee is assessed on each ticket purchased online or via phone. \nEvent Promoter:\nName: Alex Film Society                             Web Site: Click to Visit View All Upcoming Performances
URL:https://downtownglendale.com/event/alex-theatre-16th-annual-three-stooges-big-screen-event/
LOCATION:Alex Theatre\, 216 N. Brand Blvd.\, Glendale\, CA\, 91203\, United States
GEO:34.148864;-118.254095
X-APPLE-STRUCTURED-LOCATION;VALUE=URI;X-ADDRESS=Alex Theatre 216 N. Brand Blvd. Glendale CA 91203 United States;X-APPLE-RADIUS=500;X-TITLE=216 N. Brand Blvd.:geo:-118.254095,34.148864
END:VEVENT
END:VCALENDAR