BEGIN:VCALENDAR
VERSION:2.0
PRODID:-//Downtown Glendale - ECPv6.15.20//NONSGML v1.0//EN
CALSCALE:GREGORIAN
METHOD:PUBLISH
X-ORIGINAL-URL:https://downtownglendale.com
X-WR-CALDESC:Events for Downtown Glendale
REFRESH-INTERVAL;VALUE=DURATION:PT1H
X-Robots-Tag:noindex
X-PUBLISHED-TTL:PT1H
BEGIN:VTIMEZONE
TZID:America/Los_Angeles
BEGIN:DAYLIGHT
TZOFFSETFROM:-0800
TZOFFSETTO:-0700
TZNAME:PDT
DTSTART:20120311T100000
END:DAYLIGHT
BEGIN:STANDARD
TZOFFSETFROM:-0700
TZOFFSETTO:-0800
TZNAME:PST
DTSTART:20121104T090000
END:STANDARD
BEGIN:DAYLIGHT
TZOFFSETFROM:-0800
TZOFFSETTO:-0700
TZNAME:PDT
DTSTART:20130310T100000
END:DAYLIGHT
BEGIN:STANDARD
TZOFFSETFROM:-0700
TZOFFSETTO:-0800
TZNAME:PST
DTSTART:20131103T090000
END:STANDARD
BEGIN:DAYLIGHT
TZOFFSETFROM:-0800
TZOFFSETTO:-0700
TZNAME:PDT
DTSTART:20140309T100000
END:DAYLIGHT
BEGIN:STANDARD
TZOFFSETFROM:-0700
TZOFFSETTO:-0800
TZNAME:PST
DTSTART:20141102T090000
END:STANDARD
END:VTIMEZONE
BEGIN:VEVENT
DTSTART;TZID=America/Los_Angeles:20131223T190000
DTEND;TZID=America/Los_Angeles:20131223T203000
DTSTAMP:20260420T011807
CREATED:20131112T184746Z
LAST-MODIFIED:20131112T184746Z
UID:10002841-1387825200-1387830600@downtownglendale.com
SUMMARY:Armenian Fairytales Presents HEKIATNE KANCHUM ‘ANNA IN THE WORLD OF FAIRYTALES’
DESCRIPTION:Armenian Fairytales presents Anna in the World of Fairytales\, a children’s musical performed in Armenian. \nRunning time is approximately 1 hour 30 minutes with no intermission\, and the performance is suitable for all ages. Photo/Video recording by patrons is not allowed. \nFor additional information regarding the event: Contact Armenian Fairytales at 818.731.9091 or via e-mail at armenianfairy@gmail.com. For assistance with a ticket purchase: Contact the Alex Theatre Box Office at 818.243.2539 during its normal public hours of operation or via e-mail at boxoffice@alextheatre.org. \nSEATING & TICKET PRICES ORCHESTRA – $50 / $40 / $35 /$30
URL:https://downtownglendale.com/event/armenian-fairytales-presents-hekiatne-kanchum-anna-in-the-world-of-fairytales/
LOCATION:Alex Theatre\, 216 N. Brand Blvd.\, Glendale\, CA\, 91203\, United States
ORGANIZER;CN="Armenian Fairlytales":MAILTO:armenianfairy@gmail.com
GEO:34.148864;-118.254095
X-APPLE-STRUCTURED-LOCATION;VALUE=URI;X-ADDRESS=Alex Theatre 216 N. Brand Blvd. Glendale CA 91203 United States;X-APPLE-RADIUS=500;X-TITLE=216 N. Brand Blvd.:geo:-118.254095,34.148864
END:VEVENT
END:VCALENDAR