BEGIN:VCALENDAR
VERSION:2.0
PRODID:-//Downtown Glendale - ECPv6.15.20//NONSGML v1.0//EN
CALSCALE:GREGORIAN
METHOD:PUBLISH
X-WR-CALNAME:Downtown Glendale
X-ORIGINAL-URL:https://downtownglendale.com
X-WR-CALDESC:Events for Downtown Glendale
REFRESH-INTERVAL;VALUE=DURATION:PT1H
X-Robots-Tag:noindex
X-PUBLISHED-TTL:PT1H
BEGIN:VTIMEZONE
TZID:America/Los_Angeles
BEGIN:DAYLIGHT
TZOFFSETFROM:-0800
TZOFFSETTO:-0700
TZNAME:PDT
DTSTART:20120311T100000
END:DAYLIGHT
BEGIN:STANDARD
TZOFFSETFROM:-0700
TZOFFSETTO:-0800
TZNAME:PST
DTSTART:20121104T090000
END:STANDARD
BEGIN:DAYLIGHT
TZOFFSETFROM:-0800
TZOFFSETTO:-0700
TZNAME:PDT
DTSTART:20130310T100000
END:DAYLIGHT
BEGIN:STANDARD
TZOFFSETFROM:-0700
TZOFFSETTO:-0800
TZNAME:PST
DTSTART:20131103T090000
END:STANDARD
BEGIN:DAYLIGHT
TZOFFSETFROM:-0800
TZOFFSETTO:-0700
TZNAME:PDT
DTSTART:20140309T100000
END:DAYLIGHT
BEGIN:STANDARD
TZOFFSETFROM:-0700
TZOFFSETTO:-0800
TZNAME:PST
DTSTART:20141102T090000
END:STANDARD
BEGIN:DAYLIGHT
TZOFFSETFROM:-0800
TZOFFSETTO:-0700
TZNAME:PDT
DTSTART:20150308T100000
END:DAYLIGHT
BEGIN:STANDARD
TZOFFSETFROM:-0700
TZOFFSETTO:-0800
TZNAME:PST
DTSTART:20151101T090000
END:STANDARD
END:VTIMEZONE
BEGIN:VEVENT
DTSTART;TZID=America/Los_Angeles:20140307T190000
DTEND;TZID=America/Los_Angeles:20140307T210000
DTSTAMP:20260420T011724
CREATED:20140224T203625Z
LAST-MODIFIED:20140224T204019Z
UID:10002877-1394218800-1394226000@downtownglendale.com
SUMMARY:Challenges Faced by Armenian-American Youth Today!
DESCRIPTION:  \n  \n  \n  \n  \n  \n  \n  \n  \nFOR IMMEDIATE RELEASE \n  \nChallenges Faced by Armenian-American Youth Today! \nGLENDALE\, CA Join us on Friday\, March 7\, 2014\, at 7pm\, for a very powerful panel discussion on the Challenges Faced by Armenian-American Youth Today\, featuring panelists Dr. Emma Oshagan\, Dr. Aghop Der-Karabetian and Mr. John Kossakian at the Glendale Central Library Auditorium\, 222 East Harvard Street in Glendale. The discussion is in Armenian. Admission is free; seating is limited. Library visitors receive 3 hours FREE parking across the street at The Market Place parking structure with validation at the Loan Desk. \n  \nDr. Emma Oshagan has a PhD in Clinical Psychology from the California School of Professional Psychology\, and second PhD in Communication Arts from the University of Wisconsin-Madison. She is the founder of the Armenian American Mental Health Association and the director of the Armenian Program Development at the Pacific Clinics. For several years Dr. Oshagan was a professor of Communication at the California State University at Fullerton and Fresno. Dr. Oshagan has served as a Stakeholder\, representing the Armenian community and the Pacific Clinics in County and State level Committees. Dr. Oshagan has received numerous awards and certificates of recognition from Armenian and non-Armenian organizations\, including the Armenian American Chamber of Commerce\, City of Glendale\, State Board of Equalization\, Los Angeles County Department of Mental Health. \n Dr. Aghop Der-Karabetian is a Professor of Psychology and former Associate Vice President for Assessment at the University of La Verne\, and Associate Dean of the College of Arts and Science where he has taught for the last 33 years. Dr. Der-Karabetian has a PhD in Social Psychology from the University of Kansas.  He has served on the Board of Directors of the Pacific Clinics for three years and is currently a member of its Armenian Advisory Board. He has conducted research on ethnic identity\, especially Armenian ethnic identity around the world. He\, along with colleagues\, has developed scales of Armenian ethnic identity used by researchers. He is the co-founder of the Armenian American Mental Health Association based in Southern California. \nJohn Kossakian is the principal of the Holy Martyrs Ferrahian Armenian School. Holy Martyrs Armenian Elementary & Ferrahian High School was founded in Encino\, California in 1964. The historic founding of the school marked the establishment of the first Armenian-American educational institution in the United States. Kossakian has a Bachelor of Arts degree in Political Science from UCLA and a Master’s degree in International Relations from University of Southern California. He was the Manager and the Executive Editor of Asbarez Daily Newspaper from 1986-2001. Kossakian was also the Executive Producer of Horizon Armenian Television. \n  \n### \nCONTACT: Elizabeth Grigorian\, Armenian Outreach Coordinator\, at the Glendale Library\, Arts & Culture Department  egrigorian@ci.glendale.ca.us or (818) 548-3288.
URL:https://downtownglendale.com/event/challenges-faced-by-armenian-american-youth-today/
LOCATION:Downtown Central Library\, 222 E. Harvard St.\, Glendale\, CA\, 91205\, United States
ORGANIZER;CN="Glendale Library%2C Arts & Culture":MAILTO:egrigorian@ci.glendale.ca.us
GEO:34.1441907;-118.253502
X-APPLE-STRUCTURED-LOCATION;VALUE=URI;X-ADDRESS=Downtown Central Library 222 E. Harvard St. Glendale CA 91205 United States;X-APPLE-RADIUS=500;X-TITLE=222 E. Harvard St.:geo:-118.253502,34.1441907
END:VEVENT
BEGIN:VEVENT
DTSTART;TZID=America/Los_Angeles:20140227T190000
DTEND;TZID=America/Los_Angeles:20140227T210000
DTSTAMP:20260420T011724
CREATED:20140224T201555Z
LAST-MODIFIED:20140224T201555Z
UID:10002876-1393527600-1393534800@downtownglendale.com
SUMMARY:Chris Bohjalian in conversation with Ardy Kassakhian – One Book / One Glendale
DESCRIPTION:  \nThe Glendale Library\, Arts & Culture Department 2014 One Book/One Glendale reading event will feature award winning author Chris Bohjalian who will discuss his epic novel of the Armenian Genocide\, The Sandcastle Girls\, in conversation with Glendale City Clerk Ardy Kassakhian. \n“The Sandcastle Girls’ is a touching story of tragedy\, love\, and hope set against the backdrop of one of the greatest humanitarian crises of the last century. One of Bohjalian’s most epic stories and one that will have you talking about it for weeks after you’re done.” — Ardy Kassakhian\, City Clerk \nChris Bohjalian is the critically acclaimed author of seventeen books\, including nine New York Times bestsellers. His work has been translated into over 25 languages and three times become movies. The Sandcastle Girls was a New York Times Bestseller and an Oprah.com Book of the Week. The Washington Post\, Library Journal\, Kirkus Reviews named it a Best Book of 2012. Awards for The Sandcastle Girls include the ANCA Freedom Award for his work educating Americans about the Armenian Genocide; the ANCA Arts and Letters Award for The Sandcastle Girls\, as well as the Saint Mesrob Mashdots Medal by His Holiness Aram I\, Catholicos of the Great House of Cilicia. \nHardcover\, paperback\, audiobook\, large type\, eBook and eAudio versions of The Sandcastle Girls are available can be borrowed from all Library\, Arts & Culture locations\, reserved from the catalog or borrowed online. The One Book/One Glendale reading event brings the community together to read and experience the same book. \nhttp://www.glendalepubliclibrary.org/ \nhttp://www.glendalepubliclibrary.org/OneBookOneGlendale2014.asp \n 
URL:https://downtownglendale.com/event/chris-bohjalian-in-conversation-with-ardy-kassakhian-one-book-one-glendale/
LOCATION:Downtown Central Library\, 222 E. Harvard St.\, Glendale\, CA\, 91205\, United States
ORGANIZER;CN="Glendale Library%2C Arts & Culture":MAILTO:egrigorian@ci.glendale.ca.us
GEO:34.1441907;-118.253502
X-APPLE-STRUCTURED-LOCATION;VALUE=URI;X-ADDRESS=Downtown Central Library 222 E. Harvard St. Glendale CA 91205 United States;X-APPLE-RADIUS=500;X-TITLE=222 E. Harvard St.:geo:-118.253502,34.1441907
END:VEVENT
BEGIN:VEVENT
DTSTART;TZID=America/Los_Angeles:20140123T190000
DTEND;TZID=America/Los_Angeles:20140123T210000
DTSTAMP:20260420T011724
CREATED:20131220T185951Z
LAST-MODIFIED:20131220T190044Z
UID:10003007-1390503600-1390510800@downtownglendale.com
SUMMARY:THE SURVIVOR The Silent Genocide of the Armenians In the City of Khoy\, Iran 1917-1918
DESCRIPTION:THE SURVIVOR \nThe Silent Genocide of the Armenians \nIn the City of Khoy\, Iran 1917-1918 \nGLENDALE\, CA On Thursday\, January 23\, 2014\, at 7pm\, the author\, Rosemary H. Cohen will present The Survivor\, the true story of the silent Genocide of the Armenians by Turkish Ottoman soldiers in the city of Khoy\, Iran\, at the Glendale Central Library Auditorium\, 222 East Harvard Street in Glendale. The presentation is in English. Admission is free; seating is limited. Library visitors receive 3 hours FREE parking across the street at The Market Place parking structure with validation at the Loan Desk. \nThe Survivor is a tender and sensitive true story of Arousiak\, who was born in the City of Khoy\, northwest of Iran. Arousiak the grandmother of the author\, wishes for an education\, but she marries instead\, at the age of twelve and half years to Yeprem\, who was 24 years old. Arousiak is happy as a new bride\, living in luxury\, with a devoted husband. But soon her life shatters\, as in 1918\, the Turkish Ottoman soldiers occupied the City of Khoy\, and massacred almost the entire Armenian population of the city who used to live there for centuries. The eighteen-year-old Arousiak\, and her three year-old daughter’s happy existence was transformed into the difficult life of the survivors. Yet she continues living\,  and struggles to educate and provide for her only daughter\, her sole reminder of her deep love and glorious past. \nDr. Rosemary Hartounian Cohen is an award-winning author\, journalist\, and an accomplished artist. She is the author of Korban – The Sacrifice of Liana\, Terrorists or Martyrs\, The Mother of Jerusalem is Crying\, Anoush – The Daughter of King Shen and  The Survivor\, which has been translated in Armenian\, Farsi\, and French. She has written many articles in The Jewish Heritage\, thefrontpageonline.com\, the Jewish Journal\, The Armenian Reporter\, Javanan and etc.  Dr. Cohen is also the founder and director of the Liana Cohen Foundation\, a non-profit organization encouraging youth to study music\, as well as providing the healing touch of music and arts to grieving families and survivors of tragedies\, such as victims of drunk-driving\, alcohol and drug abuse. Dr. Cohen is a well-known writer and artist in the United States and abroad. She is currently working on the second edition of The Survivor\, which will include the stories of additional survivors of the Armenian Genocide and new historical findings.
URL:https://downtownglendale.com/event/the-survivor-the-silent-genocide-of-the-armenians-in-the-city-of-khoy-iran-1917-1918/
LOCATION:Downtown Central Library\, 222 E. Harvard St.\, Glendale\, CA\, 91205\, United States
ORGANIZER;CN="Glendale Library%2C Arts & Culture":MAILTO:egrigorian@ci.glendale.ca.us
GEO:34.1441907;-118.253502
X-APPLE-STRUCTURED-LOCATION;VALUE=URI;X-ADDRESS=Downtown Central Library 222 E. Harvard St. Glendale CA 91205 United States;X-APPLE-RADIUS=500;X-TITLE=222 E. Harvard St.:geo:-118.253502,34.1441907
END:VEVENT
BEGIN:VEVENT
DTSTART;TZID=America/Los_Angeles:20140109T190000
DTEND;TZID=America/Los_Angeles:20140109T210000
DTSTAMP:20260420T011724
CREATED:20131220T185256Z
LAST-MODIFIED:20131220T185506Z
UID:10003005-1389294000-1389301200@downtownglendale.com
SUMMARY:Into The Light: The Healing Art of Kalman Aron By Susan Beilby Magee
DESCRIPTION:Into The Light: The Healing Art of Kalman Aron \nBy Susan Beilby Magee \nGLENDALE\, CA On Thursday\, January 9\, 2014\, at 7pm Author Susan Beilby Magee will present Into the Light : The Healing Art of Kalman Aron\, at the Glendale Central Library Auditorium\, 222 East Harvard Street in Glendale. The presentation is in English. Admission is free; seating is limited. Library visitors receive 3 hours FREE parking across the street at The Market Place parking structure with validation at the Loan Desk. \nINTO THE LIGHT: The Healing Art of Kalman Aron relates the life of émigré artist Kalman Aron from his youth as an art prodigy in Latvia\, through four years of darkness in Holocaust slave labor and concentration camps—where drawing portraits of guards for morsels of food would save him from starvation. After the war\, he made his way to the Vienna Fine Arts Academy where he received his Masters in Fine Art. He then left Europe\, finding sanctuary in California in 1949. Aron first found success in America by painting pastels of children\, later becoming known for landscapes and studies of people in his unique style of “psychological realism.” His work soon caught the attention of Hollywood celebrities and connoisseurs alike\, and commissions arrived from such notables as Ronald Reagan\, Henry Miller and André Previn. Kalman Aron was honored in 2010 with the hanging of his iconic Mother and Child in the Los Angeles Museum of the Holocaust. Aron resides in Los Angeles\, California. \nSusan Beilby Magee grew up in Glendale and earned her BA at Pomona College and her MBA at Wharton.  A former White House Fellow\, she had a successful career in government and business before turning to matters of the heart: hypnotherapy and meditation. Susan Magee’s life-long friendship with Kalman Aron began when she sat for her portrait at age six. A half century later\, the artist asked her to write his story\, and she spent countless hours interviewing him\, his family and friends and other Latvian survivors. Over nine years\, she traveled his path across Europe from Riga\, through seven slave labor and concentration camps in Latvia\, Poland\, Germany and then Czechoslovakia and finally to Vienna where he studied art before coming to Los Angeles. \nThe program is sponsored by Glendale\, Library Arts & Culture.
URL:https://downtownglendale.com/event/into-the-light-the-healing-art-of-kalman-aron-by-susan-beilby-magee/
LOCATION:Downtown Central Library\, 222 E. Harvard St.\, Glendale\, CA\, 91205\, United States
ORGANIZER;CN="Glendale Library%2C Arts & Culture":MAILTO:egrigorian@ci.glendale.ca.us
GEO:34.1441907;-118.253502
X-APPLE-STRUCTURED-LOCATION;VALUE=URI;X-ADDRESS=Downtown Central Library 222 E. Harvard St. Glendale CA 91205 United States;X-APPLE-RADIUS=500;X-TITLE=222 E. Harvard St.:geo:-118.253502,34.1441907
END:VEVENT
BEGIN:VEVENT
DTSTART;TZID=America/Los_Angeles:20131212T190000
DTEND;TZID=America/Los_Angeles:20131212T210000
DTSTAMP:20260420T011724
CREATED:20131125T194644Z
LAST-MODIFIED:20131125T195135Z
UID:10002988-1386874800-1386882000@downtownglendale.com
SUMMARY:An Exciting Panel Discussion The Challenges Facing Armenian Artists & Writers in Diaspora
DESCRIPTION:An Exciting Panel Discussion \nThe Challenges Facing Armenian Artists & Writers in Diaspora \n  \nGLENDALE\, CA The public is invited on Thursday\, December 12\, 2013\, at 7pm to an exciting panel discussion on The Challenges Facing Armenian Artists & writers in Diaspora\, featuring panelists Vahe Berberian\, Aris Janigian\, Ara Oshagan and Lory Tatoulian. Maria Armoudian will be moderating the panel discussion at the Glendale Central Library Auditorium\, 222 East Harvard Street in Glendale. The discussion is in English. Admission is free; seating is limited. Library visitors receive 3 hours FREE parking across the street at The Market Place parking structure with validation at the Loan Desk. \n  \nMaria Armoudian is the author of Kill the Messenger: The Media’s Role in the Fate of the World. Armoudian is the host and producer of the syndicated radio program\, The Scholars Circle. Her articles have been published by the New York Times Syndicate and the Los Angeles Times Syndicate and have appeared in Columbia Journalism Review\, Salon.com\, Huffington Post\, Grist\, Daily Variety and Billboard. \n  \nVahe Berberian is an actor\, playwright\, leading Armenian monologist\, and a prolific painter. He is the  co-founder of the Armenian Experimental Theatre. He has written and directed Pink Elephant\, Quicksand\, Baron Garbis\, and Gyank. Berberian is an established leading Armenian monologist. He has performed five one-man shows; Yevaylen\, Nayev\, Dagaveen\, Sagayn and Yete. Berberian’s paintings are well known in the United States and abroad. He has had over 65 exhibitions since 1975. \nAris Janigian is the author of Bloodvine\, Riverbig\, and This Angelic Land. He is the co-author of Something for Nothing\, a book on the philosophy of graphic design. He is a contributing writer for thenervousbreakdown.com. He lives in Los Angeles\, but seasonally returns to Fresno\, his hometown\, to pack and ship wine grapes.  \nAra Oshagan is a photographer whose work revolves around the intersecting themes of identity\, community and memory. His work is in the permanent collection of the Southeast Museum of Photography\, Florida; the Downey Museum of Art\, California; and the Museum of Modern Art in Armenia. \nLory Tatoulian is an actress and playwright who has been performing her comedic one-woman shows and cabarets across the country. She has written and performed many shows such as; Sitting Twisted\, Talking Straight\, Autosapiens\, Sketched\, Pomegrante Whisky and The Big Bad Armo show.  \nThe program is organized by the Library\, Arts & Culture Department.
URL:https://downtownglendale.com/event/an-exciting-panel-discussion-the-challenges-facing-armenian-artists-writers-in-diaspora/
LOCATION:Downtown Central Library\, 222 E. Harvard St.\, Glendale\, CA\, 91205\, United States
ORGANIZER;CN="Glendale Library%2C Arts & Culture":MAILTO:egrigorian@ci.glendale.ca.us
GEO:34.1441907;-118.253502
X-APPLE-STRUCTURED-LOCATION;VALUE=URI;X-ADDRESS=Downtown Central Library 222 E. Harvard St. Glendale CA 91205 United States;X-APPLE-RADIUS=500;X-TITLE=222 E. Harvard St.:geo:-118.253502,34.1441907
END:VEVENT
END:VCALENDAR