BEGIN:VCALENDAR
VERSION:2.0
PRODID:-//Downtown Glendale - ECPv6.15.20//NONSGML v1.0//EN
CALSCALE:GREGORIAN
METHOD:PUBLISH
X-WR-CALNAME:Downtown Glendale
X-ORIGINAL-URL:https://downtownglendale.com
X-WR-CALDESC:Events for Downtown Glendale
REFRESH-INTERVAL;VALUE=DURATION:PT1H
X-Robots-Tag:noindex
X-PUBLISHED-TTL:PT1H
BEGIN:VTIMEZONE
TZID:America/Los_Angeles
BEGIN:DAYLIGHT
TZOFFSETFROM:-0800
TZOFFSETTO:-0700
TZNAME:PDT
DTSTART:20120311T100000
END:DAYLIGHT
BEGIN:STANDARD
TZOFFSETFROM:-0700
TZOFFSETTO:-0800
TZNAME:PST
DTSTART:20121104T090000
END:STANDARD
BEGIN:DAYLIGHT
TZOFFSETFROM:-0800
TZOFFSETTO:-0700
TZNAME:PDT
DTSTART:20130310T100000
END:DAYLIGHT
BEGIN:STANDARD
TZOFFSETFROM:-0700
TZOFFSETTO:-0800
TZNAME:PST
DTSTART:20131103T090000
END:STANDARD
BEGIN:DAYLIGHT
TZOFFSETFROM:-0800
TZOFFSETTO:-0700
TZNAME:PDT
DTSTART:20140309T100000
END:DAYLIGHT
BEGIN:STANDARD
TZOFFSETFROM:-0700
TZOFFSETTO:-0800
TZNAME:PST
DTSTART:20141102T090000
END:STANDARD
BEGIN:DAYLIGHT
TZOFFSETFROM:-0800
TZOFFSETTO:-0700
TZNAME:PDT
DTSTART:20150308T100000
END:DAYLIGHT
BEGIN:STANDARD
TZOFFSETFROM:-0700
TZOFFSETTO:-0800
TZNAME:PST
DTSTART:20151101T090000
END:STANDARD
END:VTIMEZONE
BEGIN:VEVENT
DTSTART;TZID=America/Los_Angeles:20140105T160000
DTEND;TZID=America/Los_Angeles:20140105T180000
DTSTAMP:20260420T012221
CREATED:20131105T185228Z
LAST-MODIFIED:20131105T185228Z
UID:10002964-1388937600-1388944800@downtownglendale.com
SUMMARY:Glendale Philharmonic Orchestra - Annual Holiday Concert and Birthday Party
DESCRIPTION:Maestro Frank Fetta\, Comedian Emo Philips\, Cellist Ruslan Biryukov \nCarnival of The Animals by Camille Saint-Saens \n“Cello Concierto” by Sharon Farber\, World Premiere
URL:https://downtownglendale.com/event/glendale-philharmonic-orchestra-annual-holiday-concert-and-birthday-party/
LOCATION:The First Baptist Church of Glendale\, 209 N. Louise St. \, Glendale\, CA\, 91203\, United States
ORGANIZER;CN="Glendale Philharmonic":MAILTO:manager@glendalephilharmonic.com
GEO:34.1484976;-118.2526536
X-APPLE-STRUCTURED-LOCATION;VALUE=URI;X-ADDRESS=The First Baptist Church of Glendale 209 N. Louise St.  Glendale CA 91203 United States;X-APPLE-RADIUS=500;X-TITLE=209 N. Louise St.:geo:-118.2526536,34.1484976
END:VEVENT
BEGIN:VEVENT
DTSTART;TZID=America/Los_Angeles:20131117T160000
DTEND;TZID=America/Los_Angeles:20131117T180000
DTSTAMP:20260420T012221
CREATED:20131105T184904Z
LAST-MODIFIED:20131105T184904Z
UID:10002962-1384704000-1384711200@downtownglendale.com
SUMMARY:Glendale Philharmonic Association
DESCRIPTION:Positive Motions Concert Series 4th Season \n@ First Baptist Church of Glendale \n209 N. Louise St. \nGlendale\, CA 91206 \n  \nSun. Nov 17th @4PM \n“A NIGHT OF PREMIERS” \nGlendale Philharmonic Trio and Quartet \nLos Angeles Cello Quartet \nLA Premiere: Alfred Schnittke Piano Trio \n  \nWorld Premieres: \nDaniel Gall “The Great Escape” \nAlexander Zamchuznikov “John Lee Hooker and Joseph Haydn Correspondence” \nFREE PARKING AND CAKE from Billy’s Deli \n 
URL:https://downtownglendale.com/event/glendale-philharmonic-association/
LOCATION:The First Baptist Church of Glendale\, 209 N. Louise St. \, Glendale\, CA\, 91203\, United States
ORGANIZER;CN="Glendale Philharmonic":MAILTO:manager@glendalephilharmonic.com
GEO:34.1484976;-118.2526536
X-APPLE-STRUCTURED-LOCATION;VALUE=URI;X-ADDRESS=The First Baptist Church of Glendale 209 N. Louise St.  Glendale CA 91203 United States;X-APPLE-RADIUS=500;X-TITLE=209 N. Louise St.:geo:-118.2526536,34.1484976
END:VEVENT
BEGIN:VEVENT
DTSTART;TZID=America/Los_Angeles:20131117T160000
DTEND;TZID=America/Los_Angeles:20131117T180000
DTSTAMP:20260420T012221
CREATED:20130930T190736Z
LAST-MODIFIED:20130930T190811Z
UID:10002819-1384704000-1384711200@downtownglendale.com
SUMMARY:Positive Motions Concert Series 4th Season – “A Night of Premieres”
DESCRIPTION:Positive Motions Concert Series – Fourth Season. Click here to purchase your tickets today Ruslan Biryukov\, Artistic Director \nFeaturing: LA CELLO QUARTET GLENDALE PHILHARMONIC TRIO & QUARTETS Ruslan Biryukov\, Hope Easton\, Edgar Sandoval\, Limor Toren\, Nora Wrobel\, Shushan Akopyan\, Jeness Johnson\, LaVette Allen\, Diego Miralles \nProgram Includes: ALFRED SCHNITTKE – Piano Trio Los Angeles Premiere DANIEL GALL – The Great Escape World Premiere ALEXANDER ZEMCHUZNIKOV – John Lee Hooker and Joseph Haydn Correspondence World Premiere \nTICKETS ON SALE NOW!! TICKETS $15-$100\, group/student/senior discounts for individual tickets \nThis event is part of a three concert series: October 5th\, November 17th and January 5th SPECIAL PROMOTION – 50% discount off total when purchasing a 3-concert series. Click here to purchase your SUBSCRIPTION tickets today. \nPurchasing a ticket is easy- Click here for 24/7 access to purchase your tickets online or Visit one of our three box office locations: the Alex Theatre (please call ahead for special hours during the theatre’s Expansion Project)\, The Americana at Breand Concierge Desk and the Mainstage Theatre Box Office at Glendale Community College. \nFREE PARKING! \nSPECIAL THANKS TO THE FIRST BAPTIST CHURCH OF GLENDALE A portion of the proceeds will be donated to various charitable organizations.
URL:https://downtownglendale.com/event/positive-motions-concert-series-4th-season-a-night-of-premieres/
LOCATION:The Sanctuary at FIRST BAPTIST CHURCH OF GLENDALE\, 209 N. Louise St. \, Glendale\, CA\, 91206\, United States
ORGANIZER;CN="Glendale Philharmonic":MAILTO:manager@glendalephilharmonic.com
GEO:34.1484976;-118.2526536
X-APPLE-STRUCTURED-LOCATION;VALUE=URI;X-ADDRESS=The Sanctuary at FIRST BAPTIST CHURCH OF GLENDALE 209 N. Louise St.  Glendale CA 91206 United States;X-APPLE-RADIUS=500;X-TITLE=209 N. Louise St.:geo:-118.2526536,34.1484976
END:VEVENT
BEGIN:VEVENT
DTSTART;TZID=America/Los_Angeles:20131006T160000
DTEND;TZID=America/Los_Angeles:20131006T180000
DTSTAMP:20260420T012221
CREATED:20130930T175313Z
LAST-MODIFIED:20130930T175720Z
UID:10002924-1381075200-1381082400@downtownglendale.com
SUMMARY:Glendale Philharmonic Association - Positive Motions Concert Series 4th Season Opener “Rescue – A True Story”
DESCRIPTION:WORLD PREMIERE “RESCUE – A TRUE STORY” Written and narrated by ELAYNE BOOSLER Music by CAROL WORTHEY \nFIRST BAPTIST CHURCH OF GLENDALE 209 N LOUISE STREET\, GLENDALE \nTRIO DA MARE e SOLE Julia Heinen | Dmitry Rachmanov | Ruslan Biryukov BEETHOVEN\, Clarinet Trio Op. 11 BRUCH\, 8 Pieces for Clarinet\, Piano & Cello \nTICKETS ON SALE NOW!! TICKETS $15-$100\, group/student/senior discounts for individual tickets \nThis event is part of a three concert series: October 5th\, November 17th and January 5th SPECIAL PROMOTION – 50% discount off total when purchasing a 3-concert series. \nPurchasing a ticket is easy- Click here for 24/7 access to purchase your tickets online or Visit one of our three box office locations: the Alex Theatre (please call ahead for special hours during the theatre’s Expansion Project)\, The Americana at Brand Concierge Desk and the Mainstage Theatre Box Office at Glendale Community College. \nFREE PARKING!
URL:https://downtownglendale.com/event/glendale-philharmonic-positive-motions-concert-series-4th-season-opener-rescue-a-true-story/
LOCATION:The First Baptist Church of Glendale\, 209 N. Louise St. \, Glendale\, CA\, 91203\, United States
ORGANIZER;CN="Glendale Philharmonic":MAILTO:manager@glendalephilharmonic.com
GEO:34.1484976;-118.2526536
X-APPLE-STRUCTURED-LOCATION;VALUE=URI;X-ADDRESS=The First Baptist Church of Glendale 209 N. Louise St.  Glendale CA 91203 United States;X-APPLE-RADIUS=500;X-TITLE=209 N. Louise St.:geo:-118.2526536,34.1484976
END:VEVENT
END:VCALENDAR