BEGIN:VCALENDAR
VERSION:2.0
PRODID:-//Downtown Glendale - ECPv6.15.20//NONSGML v1.0//EN
CALSCALE:GREGORIAN
METHOD:PUBLISH
X-ORIGINAL-URL:https://downtownglendale.com
X-WR-CALDESC:Events for Downtown Glendale
REFRESH-INTERVAL;VALUE=DURATION:PT1H
X-Robots-Tag:noindex
X-PUBLISHED-TTL:PT1H
BEGIN:VTIMEZONE
TZID:America/Los_Angeles
BEGIN:DAYLIGHT
TZOFFSETFROM:-0800
TZOFFSETTO:-0700
TZNAME:PDT
DTSTART:20120311T100000
END:DAYLIGHT
BEGIN:STANDARD
TZOFFSETFROM:-0700
TZOFFSETTO:-0800
TZNAME:PST
DTSTART:20121104T090000
END:STANDARD
BEGIN:DAYLIGHT
TZOFFSETFROM:-0800
TZOFFSETTO:-0700
TZNAME:PDT
DTSTART:20130310T100000
END:DAYLIGHT
BEGIN:STANDARD
TZOFFSETFROM:-0700
TZOFFSETTO:-0800
TZNAME:PST
DTSTART:20131103T090000
END:STANDARD
BEGIN:DAYLIGHT
TZOFFSETFROM:-0800
TZOFFSETTO:-0700
TZNAME:PDT
DTSTART:20140309T100000
END:DAYLIGHT
BEGIN:STANDARD
TZOFFSETFROM:-0700
TZOFFSETTO:-0800
TZNAME:PST
DTSTART:20141102T090000
END:STANDARD
END:VTIMEZONE
BEGIN:VEVENT
DTSTART;TZID=America/Los_Angeles:20131212T180000
DTEND;TZID=America/Los_Angeles:20131212T210000
DTSTAMP:20260420T205234
CREATED:20130905T171122Z
LAST-MODIFIED:20130905T171122Z
UID:10002838-1386871200-1386882000@downtownglendale.com
SUMMARY:Glendale Police Chief Retirement Party
DESCRIPTION:Police Chief Ron DePompa is going to have a retirement party on Thursday December 12\, 2013 at 6PM \nFor more info please contact:\n(818) 548-3140\nchiefretirement@ci.glendale.ca.us \nSave the Date (chief)
URL:https://downtownglendale.com/event/glendale-police-chief-retirement-party/
ORGANIZER;CN="Glendale Police Department / City of Glendale":MAILTO:chiefretirement@ci.glendale.ca.us
END:VEVENT
END:VCALENDAR