BEGIN:VCALENDAR
VERSION:2.0
PRODID:-//Downtown Glendale - ECPv6.15.20//NONSGML v1.0//EN
CALSCALE:GREGORIAN
METHOD:PUBLISH
X-WR-CALNAME:Downtown Glendale
X-ORIGINAL-URL:https://downtownglendale.com
X-WR-CALDESC:Events for Downtown Glendale
REFRESH-INTERVAL;VALUE=DURATION:PT1H
X-Robots-Tag:noindex
X-PUBLISHED-TTL:PT1H
BEGIN:VTIMEZONE
TZID:America/Los_Angeles
BEGIN:DAYLIGHT
TZOFFSETFROM:-0800
TZOFFSETTO:-0700
TZNAME:PDT
DTSTART:20120311T100000
END:DAYLIGHT
BEGIN:STANDARD
TZOFFSETFROM:-0700
TZOFFSETTO:-0800
TZNAME:PST
DTSTART:20121104T090000
END:STANDARD
BEGIN:DAYLIGHT
TZOFFSETFROM:-0800
TZOFFSETTO:-0700
TZNAME:PDT
DTSTART:20130310T100000
END:DAYLIGHT
BEGIN:STANDARD
TZOFFSETFROM:-0700
TZOFFSETTO:-0800
TZNAME:PST
DTSTART:20131103T090000
END:STANDARD
BEGIN:DAYLIGHT
TZOFFSETFROM:-0800
TZOFFSETTO:-0700
TZNAME:PDT
DTSTART:20140309T100000
END:DAYLIGHT
BEGIN:STANDARD
TZOFFSETFROM:-0700
TZOFFSETTO:-0800
TZNAME:PST
DTSTART:20141102T090000
END:STANDARD
END:VTIMEZONE
BEGIN:VEVENT
DTSTART;TZID=America/Los_Angeles:20131012T110000
DTEND;TZID=America/Los_Angeles:20131012T160000
DTSTAMP:20260424T112638
CREATED:20130923T201416Z
LAST-MODIFIED:20130923T201416Z
UID:10002916-1381575600-1381593600@downtownglendale.com
SUMMARY:"K-9's In The Park" Event - Sponsored by the Glendale Police Foundation
DESCRIPTION:Saturday\, October 12\, 2013\n11:00 am – 4:00 pm\nVerdugo Park\, 1621 Canada Blvd.\, Glendale
URL:https://downtownglendale.com/event/k-9s-in-the-park-event-sponsored-by-the-glendale-police-foundation/
LOCATION:Verdugo Park\, 1621 Canada Blvd.\, Glendale\, CA\, United States
ORGANIZER;CN="Glendale Police Foundation":MAILTO:info@glendalepolicefoundation.org
GEO:34.1718517;-118.2292847
X-APPLE-STRUCTURED-LOCATION;VALUE=URI;X-ADDRESS=Verdugo Park 1621 Canada Blvd. Glendale CA United States;X-APPLE-RADIUS=500;X-TITLE=1621 Canada Blvd.:geo:-118.2292847,34.1718517
END:VEVENT
END:VCALENDAR