BEGIN:VCALENDAR
VERSION:2.0
PRODID:-//Downtown Glendale - ECPv6.15.20//NONSGML v1.0//EN
CALSCALE:GREGORIAN
METHOD:PUBLISH
X-ORIGINAL-URL:https://downtownglendale.com
X-WR-CALDESC:Events for Downtown Glendale
REFRESH-INTERVAL;VALUE=DURATION:PT1H
X-Robots-Tag:noindex
X-PUBLISHED-TTL:PT1H
BEGIN:VTIMEZONE
TZID:America/Los_Angeles
BEGIN:DAYLIGHT
TZOFFSETFROM:-0800
TZOFFSETTO:-0700
TZNAME:PDT
DTSTART:20120311T100000
END:DAYLIGHT
BEGIN:STANDARD
TZOFFSETFROM:-0700
TZOFFSETTO:-0800
TZNAME:PST
DTSTART:20121104T090000
END:STANDARD
BEGIN:DAYLIGHT
TZOFFSETFROM:-0800
TZOFFSETTO:-0700
TZNAME:PDT
DTSTART:20130310T100000
END:DAYLIGHT
BEGIN:STANDARD
TZOFFSETFROM:-0700
TZOFFSETTO:-0800
TZNAME:PST
DTSTART:20131103T090000
END:STANDARD
BEGIN:DAYLIGHT
TZOFFSETFROM:-0800
TZOFFSETTO:-0700
TZNAME:PDT
DTSTART:20140309T100000
END:DAYLIGHT
BEGIN:STANDARD
TZOFFSETFROM:-0700
TZOFFSETTO:-0800
TZNAME:PST
DTSTART:20141102T090000
END:STANDARD
BEGIN:DAYLIGHT
TZOFFSETFROM:-0800
TZOFFSETTO:-0700
TZNAME:PDT
DTSTART:20150308T100000
END:DAYLIGHT
BEGIN:STANDARD
TZOFFSETFROM:-0700
TZOFFSETTO:-0800
TZNAME:PST
DTSTART:20151101T090000
END:STANDARD
END:VTIMEZONE
BEGIN:VEVENT
DTSTART;TZID=America/Los_Angeles:20140309T190000
DTEND;TZID=America/Los_Angeles:20140309T210000
DTSTAMP:20260421T222421
CREATED:20140131T192529Z
LAST-MODIFIED:20140131T192725Z
UID:10003037-1394391600-1394398800@downtownglendale.com
SUMMARY:Glendale Youth Orchestra presents Beethoven & Chaplin
DESCRIPTION:GLENDALE YOUTH ORCHESTRA 25th SEASON Brad Keimach\, Conductor \nProgram: BELLINI – Overture to Norma BEETHOVEN – Violin Concerto (2nd & 3rd movements) Sarah Worden\, violin \nPlus a screening of Charlie Chaplin’s The Rink with the orchestra playing the score to the film \nSarah Worden\, a senior\, is currently the concertmaster of the Glendale Youth Orchestra and the Crescenta Valley High School Orchestra. She began violin studies at the age of 7 under the instruction of Herman Markosian at the Metzler Violin Shop in Glendale. For the past 5 years\, she has also been studying (via Skype) with his brother\, Boris Markosian\, who lives in Moscow\, Russia. Sarah was chosen as an alternate to the inaugural National Youth Orchestra of the United States (2013). Sarah was an auditor in 2008 and a participant in 2009 in the Pasadena Pops Side By Side Orchestra. She placed first in the intermediate level of the 2010 Callie McGrath Competition\, was a finalist in the 2011 LA Phil Young Musicians Competition\, and a finalist in the 2009 Valley Cultural Competition. Aside from playing the violin\, she enjoys playing soccer\, biking\, hiking\, and running. She is on the girls varsity soccer team at her high school and on the GU18 team at Crescenta Valley Soccer Club. \nSeating & Ticket Prices: $10 General Admission \nIt’s easy to purchase tickets: Click here to purchase tickets On-line 24/7 Visit one of our Box Office locations: The Alex Theatre\, The Americana at Brand Concierge Desk or the Mainstage Theatre at Glendale Community College (call ahead for campus session hours) Call the Alex Theatre Box Office for personal assistance 818-243-2539 (ALEX) ext 0
URL:https://downtownglendale.com/event/glendale-youth-orchestra-presents-beethoven-chaplin-2/
LOCATION:Alex Theatre\, 216 N. Brand Blvd.\, Glendale\, CA\, 91203\, United States
ORGANIZER;CN="Glendale Youth Orchestra":MAILTO:gyo@earthlink.net
GEO:34.148864;-118.254095
X-APPLE-STRUCTURED-LOCATION;VALUE=URI;X-ADDRESS=Alex Theatre 216 N. Brand Blvd. Glendale CA 91203 United States;X-APPLE-RADIUS=500;X-TITLE=216 N. Brand Blvd.:geo:-118.254095,34.148864
END:VEVENT
BEGIN:VEVENT
DTSTART;TZID=America/Los_Angeles:20140209T190000
DTEND;TZID=America/Los_Angeles:20140209T210000
DTSTAMP:20260421T222421
CREATED:20140115T221355Z
LAST-MODIFIED:20140115T221611Z
UID:10002865-1391972400-1391979600@downtownglendale.com
SUMMARY:Glendale Youth Orchestra Presents Beethoven & Chaplin
DESCRIPTION:GLENDALE YOUTH ORCHESTRA 25th SEASON Brad Keimach\, Conductor \nProgram: BELLINI – Overture to Norma BEETHOVEN – Violin Concerto (2nd & 3rd movements) Sarah Worden\, violin Plus a screening of Charlie Chaplin’s THE RINK with the orchestra playing the score to the film \nSarah Worden\, a senior\, is currently the concertmaster of the Glendale Youth Orchestra and the Crescenta Valley High School Orchestra. She began violin studies at the age of 7 under the instruction of Herman Markosian at the Metzler Violin Shop in Glendale. For the past 5 years\, she has also been studying (via Skype) with his brother\, Boris Markosian\, who lives in Moscow\, Russia. Sarah was chosen as an alternate to the inaugural National Youth Orchestra of the United States (2013). Sarah was an auditor in 2008 and a participant in 2009 in the Pasadena Pops Side By Side Orchestra. She placed first in the intermediate level of the 2010 Callie McGrath Competition\, was a finalist in the 2011 LA Phil Young Musicians Competition\, and a finalist in the 2009 Valley Cultural Competition. Aside from playing the violin\, she enjoys playing soccer\, biking\, hiking\, and running. She is on the girls varsity soccer team at her high school and on the GU18 team at Crescenta Valley Soccer Club. \nTickets: \n$10
URL:https://downtownglendale.com/event/glendale-youth-orchestra-presents-beethoven-chaplin/
LOCATION:Alex Theatre\, 216 N. Brand Blvd.\, Glendale\, CA\, 91203\, United States
ORGANIZER;CN="Glendale Youth Orchestra":MAILTO:gyo@earthlink.net
GEO:34.148864;-118.254095
X-APPLE-STRUCTURED-LOCATION;VALUE=URI;X-ADDRESS=Alex Theatre 216 N. Brand Blvd. Glendale CA 91203 United States;X-APPLE-RADIUS=500;X-TITLE=216 N. Brand Blvd.:geo:-118.254095,34.148864
END:VEVENT
BEGIN:VEVENT
DTSTART;TZID=America/Los_Angeles:20131117T190000
DTEND;TZID=America/Los_Angeles:20131117T210000
DTSTAMP:20260421T222421
CREATED:20131112T181549Z
LAST-MODIFIED:20131112T181549Z
UID:10002978-1384714800-1384722000@downtownglendale.com
SUMMARY:GLENDALE YOUTH ORCHESTRA 25th SEASON OPENER
DESCRIPTION:November 17 @ 7:00 pm – 9:00 pm\nGLENDALE YOUTH ORCHESTRA 25th SEASON OPENER \nBrad Keimach\, Conductor \nProgram: \nMozart: Symphony No. 31 ‘Paris’ Rachmaninoff: Piano Concerto No. 2 (1st movement) Hillary Lin Santoso\, Piano Beethoven: Symphony No. 8 \nMs. Santoso\, a Senior at San Marino High School\, is a rising star who has already performed twice at Carnegie Hall and won many piano competitions\, including the International Young Piano Competition. Ms. Santoso has been an active member of the Glendale Youth Orchestra\, playing in the 1st violin section\, for the past five seasons. \nRunning time is approximately two hours with one intermission\, and the performance is suitable for ages 6 and older. Photo/Video recording by patrons is allowed. \nFor additional information regarding the event: Contact Mara Kelly at 323-839-8135 or e-mail maraskelly@gmail.com. For assistance with a ticket purchase: Contact the Alex Theatre Box Office at 818.243.2539 during its normal public hours of operation or via e-mail at boxoffice@alextheatre.org. \nTickets:\nGeneral Admission – $12.50 [$10 Ticket + $2.50 Fee]\n\n\nThree ways to purchase tickets: Click here to purchase tickets online 24/7 Call the Alex Theatre Box Office at 818-243-2539 Visit one of our box office locations: the Alex Theatre\, The Americana At Brand Grand Lobby Concierge Desk and the Glendale Community College Box Office.
URL:https://downtownglendale.com/event/glendale-youth-orchestra-25th-season-opener/
LOCATION:Alex Theatre\, 216 N. Brand Blvd.\, Glendale\, CA\, 91203\, United States
ORGANIZER;CN="Glendale Youth Orchestra":MAILTO:gyo@earthlink.net
GEO:34.148864;-118.254095
X-APPLE-STRUCTURED-LOCATION;VALUE=URI;X-ADDRESS=Alex Theatre 216 N. Brand Blvd. Glendale CA 91203 United States;X-APPLE-RADIUS=500;X-TITLE=216 N. Brand Blvd.:geo:-118.254095,34.148864
END:VEVENT
END:VCALENDAR