BEGIN:VCALENDAR
VERSION:2.0
PRODID:-//Downtown Glendale - ECPv6.15.20//NONSGML v1.0//EN
CALSCALE:GREGORIAN
METHOD:PUBLISH
X-WR-CALNAME:Downtown Glendale
X-ORIGINAL-URL:https://downtownglendale.com
X-WR-CALDESC:Events for Downtown Glendale
REFRESH-INTERVAL;VALUE=DURATION:PT1H
X-Robots-Tag:noindex
X-PUBLISHED-TTL:PT1H
BEGIN:VTIMEZONE
TZID:America/Los_Angeles
BEGIN:DAYLIGHT
TZOFFSETFROM:-0800
TZOFFSETTO:-0700
TZNAME:PDT
DTSTART:20130310T100000
END:DAYLIGHT
BEGIN:STANDARD
TZOFFSETFROM:-0700
TZOFFSETTO:-0800
TZNAME:PST
DTSTART:20131103T090000
END:STANDARD
BEGIN:DAYLIGHT
TZOFFSETFROM:-0800
TZOFFSETTO:-0700
TZNAME:PDT
DTSTART:20140309T100000
END:DAYLIGHT
BEGIN:STANDARD
TZOFFSETFROM:-0700
TZOFFSETTO:-0800
TZNAME:PST
DTSTART:20141102T090000
END:STANDARD
BEGIN:DAYLIGHT
TZOFFSETFROM:-0800
TZOFFSETTO:-0700
TZNAME:PDT
DTSTART:20150308T100000
END:DAYLIGHT
BEGIN:STANDARD
TZOFFSETFROM:-0700
TZOFFSETTO:-0800
TZNAME:PST
DTSTART:20151101T090000
END:STANDARD
END:VTIMEZONE
BEGIN:VEVENT
DTSTART;TZID=America/Los_Angeles:20140322T200000
DTEND;TZID=America/Los_Angeles:20140322T220000
DTSTAMP:20260424T131740
CREATED:20140212T200555Z
LAST-MODIFIED:20140212T200555Z
UID:10002874-1395518400-1395525600@downtownglendale.com
SUMMARY:Los Angeles Chamber Orchestra Presents BACH’S BIRTHDAY
DESCRIPTION:Think of a teacher that inspired you to greatness. Or a student you mentored to success. Do you wonder what happened to them? For violinists Jaime Laredo and Jennifer Koh the answer is clear. Teacher and revered soloist Laredo joins Koh\, his student-turned-star\, to perform Bach’s Concerto for Two Violins in D minor under the direction of dynamic young guest conductor James Feddeck in his Los Angeles debut. The teacher and former student also share the spotlight for the West Coast premiere of Anna Clyne’s Prince of Clouds\, a Baroque-style concerto inspired by Laredo and Koh’s artistic family tree. The evening’s program includes: \nJames Feddeck\, conductor Jaime Laredo\, violin Jennifer Koh\, violin \nMENDELSSOHN – ‘The Fair Melusina’ Overture ANNA CLYNE – Prince of Clouds (West Coast premiere of LACO co-commission) BACH – Concerto in D minor for Two Violins SCHUBERT – Symphony No. 3 in D major \nPrograms and artists subject to change. \n7:00 PM – Pre-Concert Preludes – Your ticket includes admission to this pre-concert extra. Some Preludes will feature LIVE performances of short chamber works. All will provide interesting insights into the music and the artists. \nRunning time is approximately 2 hours with one intermission and the performance is suitable for ages 6 and older. Every person\, including children age 2 and younger who sit on a lap\, must have a ticket. Photo/Video recording by patrons is NOT allowed. \nTICKET PRICES \nORCHESTRA     $110 / $90 / $55 / $25 \nTERRACE          $110 / $90 / $55 \nThree ways to purchase tickets: Click here to purchase tickets online 24/7 Call the Alex Theatre Box Office at 818-243-2539 Visit one of our box office locations: the Alex Theatre\, The Americana At Brand Grand Lobby Concierge Desk and the Glendale Community College Box Office.
URL:https://downtownglendale.com/event/los-angeles-chamber-orchestra-presents-bachs-birthday/
LOCATION:Alex Theatre\, 216 N. Brand Blvd.\, Glendale\, CA\, 91203\, United States
ORGANIZER;CN="Los Angles Chamber Orchestra":MAILTO:info@laco.org
GEO:34.148864;-118.254095
X-APPLE-STRUCTURED-LOCATION;VALUE=URI;X-ADDRESS=Alex Theatre 216 N. Brand Blvd. Glendale CA 91203 United States;X-APPLE-RADIUS=500;X-TITLE=216 N. Brand Blvd.:geo:-118.254095,34.148864
END:VEVENT
END:VCALENDAR