BEGIN:VCALENDAR
VERSION:2.0
PRODID:-//Downtown Glendale - ECPv6.15.20//NONSGML v1.0//EN
CALSCALE:GREGORIAN
METHOD:PUBLISH
X-ORIGINAL-URL:https://downtownglendale.com
X-WR-CALDESC:Events for Downtown Glendale
REFRESH-INTERVAL;VALUE=DURATION:PT1H
X-Robots-Tag:noindex
X-PUBLISHED-TTL:PT1H
BEGIN:VTIMEZONE
TZID:America/Los_Angeles
BEGIN:DAYLIGHT
TZOFFSETFROM:-0800
TZOFFSETTO:-0700
TZNAME:PDT
DTSTART:20120311T100000
END:DAYLIGHT
BEGIN:STANDARD
TZOFFSETFROM:-0700
TZOFFSETTO:-0800
TZNAME:PST
DTSTART:20121104T090000
END:STANDARD
BEGIN:DAYLIGHT
TZOFFSETFROM:-0800
TZOFFSETTO:-0700
TZNAME:PDT
DTSTART:20130310T100000
END:DAYLIGHT
BEGIN:STANDARD
TZOFFSETFROM:-0700
TZOFFSETTO:-0800
TZNAME:PST
DTSTART:20131103T090000
END:STANDARD
BEGIN:DAYLIGHT
TZOFFSETFROM:-0800
TZOFFSETTO:-0700
TZNAME:PDT
DTSTART:20140309T100000
END:DAYLIGHT
BEGIN:STANDARD
TZOFFSETFROM:-0700
TZOFFSETTO:-0800
TZNAME:PST
DTSTART:20141102T090000
END:STANDARD
END:VTIMEZONE
BEGIN:VEVENT
DTSTART;TZID=America/Los_Angeles:20131214T100000
DTEND;TZID=America/Los_Angeles:20131214T160000
DTSTAMP:20260420T202658
CREATED:20131122T172550Z
LAST-MODIFIED:20131122T172550Z
UID:10002986-1387015200-1387036800@downtownglendale.com
SUMMARY:Prom Plus HOLIDAY TOUR OF HOMES
DESCRIPTION:Ticket holders can tour three beautiful homes\, a decorator’s showroom and the historic Rockhaven Sanitarium – all dressed up in Holiday Splendor!!! AND A boutique featuring local musicians provides a wide selection of complete holiday shopping. \nPURCHASE YOUR TICKET TODAY! \nTOUR HOME ADDRESSES: The Yaussi Home and gardens: 1450 Highland Ave.\, Glendale (there will also be original artwork for sale to benefit Prom Plus) J.P. Weaver Showroom: 941 Air Way\, Glendale Meyers Home: #8 Mountain Oaks\, La Crescenta Thornbury Home: #4 Mountain Oaks\, La Crescenta Rockhaven Sanitarium: 2713 Honolulu Ave.\, La Crescenta (guided 30 minute tours starting at 10:30. The last tour will leave at 3pm) Holiday Boutique and baked goods: 2563 Foothill Blvd.\, La Crescenta (present the tour booklet and receive a free ticket for an opportunity drawing) \nPatrons may start at any home on the Tour. Check in is required at each location prior to entry. Patrons will need to show their ticket or show their Photo I.D. and order confirmation number. \nPARKING Ample street parking for all locations. Please note that there is special parking for the homes on Mountain Oaks. Please park in the meadow on the bottom of new York Ave. and a shuttle will take you to the homes. \nACCESSIBILITY There are many stairs at the homes on Mountain Oaks as well as a lot of walking at the other homes. Comfortable shoes are suggested. \nTICKET PRICE: $25 ticket  (includes $2 fee) \nIT’S EASY TO PURCHASE TICKETS: Online 24/7 – follow the link here In person – visit one of our box office locations at the Alex Theatre\, The Americana at Brand Conceriege Desk or the Mainstage Theatre at Glendale Community College \nAbout Prom Plus: \nProm Plus is a safe \, supervised\, drug and alcohol free alternative to unsupervised post prom activities. Since 1993\, from midnight to 5:00 a.m.\, Prom Plus has provided a variety of things for attendees to do\, including a full casino\, Pool Tables\, Ping-Pong\, Photo Booths\, DJ\, Gyroscope\, Acroflight\, Mechanical Bull\, Rock Climbing Wall\, Music\, Dancing\, Food Court (pizza\, sandwiches\, hors d’oeuvres\, fresh fruit\, freshly baked cookies\, smoothies\, coffee\, soda) AND breakfast. Prizes\, plus much more. Admission is included in the cost of a prom ticket. However\, Prom Plus is open to all seniors regardless whether or not they attend the prom. The goal is to make Prom Plus part of every senior’s prom plans\, and the growing attendance over the last several years proves that the idea is catching on. In 2010\, 420 CV High School seniors and their dates chose Prom Plus over an unsupervised party!   The cost of putting on this annual event is in excess of $20\,000\, so a variety of fundraisers are held throughout the year to raise this money\, including holding two barbecues every school year during Back to School Night and Open House; hosting an annual Holiday Home Tour; and organizing the Taste of Montrose to showcase the many fine restaurants that our city has to offer. Visit www.promplus.org for additional information
URL:https://downtownglendale.com/event/prom-plus-holiday-tour-of-homes/
ORGANIZER;CN="Prom Plus":MAILTO:info@promplus.org
END:VEVENT
END:VCALENDAR