BEGIN:VCALENDAR
VERSION:2.0
PRODID:-//Downtown Glendale - ECPv6.15.20//NONSGML v1.0//EN
CALSCALE:GREGORIAN
METHOD:PUBLISH
X-WR-CALNAME:Downtown Glendale
X-ORIGINAL-URL:https://downtownglendale.com
X-WR-CALDESC:Events for Downtown Glendale
REFRESH-INTERVAL;VALUE=DURATION:PT1H
X-Robots-Tag:noindex
X-PUBLISHED-TTL:PT1H
BEGIN:VTIMEZONE
TZID:America/Los_Angeles
BEGIN:DAYLIGHT
TZOFFSETFROM:-0800
TZOFFSETTO:-0700
TZNAME:PDT
DTSTART:20120311T100000
END:DAYLIGHT
BEGIN:STANDARD
TZOFFSETFROM:-0700
TZOFFSETTO:-0800
TZNAME:PST
DTSTART:20121104T090000
END:STANDARD
BEGIN:DAYLIGHT
TZOFFSETFROM:-0800
TZOFFSETTO:-0700
TZNAME:PDT
DTSTART:20130310T100000
END:DAYLIGHT
BEGIN:STANDARD
TZOFFSETFROM:-0700
TZOFFSETTO:-0800
TZNAME:PST
DTSTART:20131103T090000
END:STANDARD
BEGIN:DAYLIGHT
TZOFFSETFROM:-0800
TZOFFSETTO:-0700
TZNAME:PDT
DTSTART:20140309T100000
END:DAYLIGHT
BEGIN:STANDARD
TZOFFSETFROM:-0700
TZOFFSETTO:-0800
TZNAME:PST
DTSTART:20141102T090000
END:STANDARD
END:VTIMEZONE
BEGIN:VEVENT
DTSTART;TZID=America/Los_Angeles:20131222T170000
DTEND;TZID=America/Los_Angeles:20131222T183000
DTSTAMP:20260420T012308
CREATED:20131112T184443Z
LAST-MODIFIED:20131112T184443Z
UID:10002984-1387731600-1387737000@downtownglendale.com
SUMMARY:Taline Music Presents TALINE\, FRIENDS & SANTA ARMENIAN CHRISTMAS SHOW
DESCRIPTION:December 22 @ 5:00 pm – 6:30 pm\nTaline presented her first Armenian Children’s Christmas Concert in 2003 at the Alex Theatre in Glendale. Since then\, the ‘Taline\, Friends & Santa’ concert has traveled to many venues and cities including New York\, Montreal\, Boston\, Toronto\, London\, and Paris. The Alex is one of Taline’s favorite venues and this year’s concert promises to be another exciting event with lots of singing\, dancing\, and Holiday fun! This year’s variety show will feature Taline performing Armenian Christmas songs and her most popular children’s music hits. The show will also feature Armenian dances\, a special visit by Santa Claus\, and several special guests. \nThe performance is in Armenian. \nAll patrons age 2 and older must have a ticket to enter the theatre for this event. \nRunning time is approximately 1 hour 30 minutes with one intermission\, and the performance is suitable for all ages. Photo/Video recording by patrons is allowed. \nAny patron wishing additional information regarding the event and/or assistance with a ticket purchase may call the Alex Theatre Box Office at 818.243.2539 during its normal public hours of operation. \nSEATING & TICKET PRICES  Orchestra: $60/ $35 / $30 / $25 Terrace: $30 / $25 Balcony: $20 \nAll patrons age 2 and older must have a ticket to enter the theatre for this event. \nThree ways to purchase tickets: Click here to purchase tickets online 24/7 Call the Alex Theatre Box Office at 818-243-2539 Visit one of our box office locations: the Alex Theatre\, The Americana At Brand Grand Lobby Concierge Desk and the Glendale Community College Box Office. \nTalinemusic.com\, Inc. \n 
URL:https://downtownglendale.com/event/taline-music-presents-taline-friends-santa-armenian-christmas-show/
LOCATION:Alex Theatre\, 216 N. Brand Blvd.\, Glendale\, CA\, 91203\, United States
GEO:34.148864;-118.254095
X-APPLE-STRUCTURED-LOCATION;VALUE=URI;X-ADDRESS=Alex Theatre 216 N. Brand Blvd. Glendale CA 91203 United States;X-APPLE-RADIUS=500;X-TITLE=216 N. Brand Blvd.:geo:-118.254095,34.148864
END:VEVENT
END:VCALENDAR