BEGIN:VCALENDAR
VERSION:2.0
PRODID:-//Downtown Glendale - ECPv6.15.20//NONSGML v1.0//EN
CALSCALE:GREGORIAN
METHOD:PUBLISH
X-WR-CALNAME:Downtown Glendale
X-ORIGINAL-URL:https://downtownglendale.com
X-WR-CALDESC:Events for Downtown Glendale
REFRESH-INTERVAL;VALUE=DURATION:PT1H
X-Robots-Tag:noindex
X-PUBLISHED-TTL:PT1H
BEGIN:VTIMEZONE
TZID:America/Los_Angeles
BEGIN:DAYLIGHT
TZOFFSETFROM:-0800
TZOFFSETTO:-0700
TZNAME:PDT
DTSTART:20120311T100000
END:DAYLIGHT
BEGIN:STANDARD
TZOFFSETFROM:-0700
TZOFFSETTO:-0800
TZNAME:PST
DTSTART:20121104T090000
END:STANDARD
BEGIN:DAYLIGHT
TZOFFSETFROM:-0800
TZOFFSETTO:-0700
TZNAME:PDT
DTSTART:20130310T100000
END:DAYLIGHT
BEGIN:STANDARD
TZOFFSETFROM:-0700
TZOFFSETTO:-0800
TZNAME:PST
DTSTART:20131103T090000
END:STANDARD
BEGIN:DAYLIGHT
TZOFFSETFROM:-0800
TZOFFSETTO:-0700
TZNAME:PDT
DTSTART:20140309T100000
END:DAYLIGHT
BEGIN:STANDARD
TZOFFSETFROM:-0700
TZOFFSETTO:-0800
TZNAME:PST
DTSTART:20141102T090000
END:STANDARD
END:VTIMEZONE
BEGIN:VEVENT
DTSTART;TZID=America/Los_Angeles:20131114T173000
DTEND;TZID=America/Los_Angeles:20131114T203000
DTSTAMP:20260422T081006
CREATED:20131112T181120Z
LAST-MODIFIED:20131112T181120Z
UID:10002976-1384450200-1384461000@downtownglendale.com
SUMMARY:GCC Alumni Welcome Back Mixer
DESCRIPTION:The Glendale Community College Alumni Council and GCC Superintendent/President Dr. David Viar are hosting the Alumni Welcome Back Mixer on Thursday\, November 14 from 5:30 to 8:30 p.m. in the J. Walter Smith Student Center. \nGCC alumni\, friends and community members of all ages are invited back to the college campus for an evening of networking and re-connecting with classmates\, faculty and departments. \nAdmission is free. There will be a cash bar. \nThe event is coordinated by the newly-formed Alumni Council and will include drinks\, appetizers and entertainment. \nFor information call 818-551-5200 or email alumni@glendale.edu
URL:https://downtownglendale.com/event/gcc-alumni-welcome-back-mixer/
LOCATION:Glendale Community College\, 1500 N. Verdugo Rd.\, Glendale\, CA\, 91208\, United States
ORGANIZER;CN="The Glendale Community College Alumni Council":MAILTO:alumni@glendale.edu
GEO:34.16822;-118.228876
X-APPLE-STRUCTURED-LOCATION;VALUE=URI;X-ADDRESS=Glendale Community College 1500 N. Verdugo Rd. Glendale CA 91208 United States;X-APPLE-RADIUS=500;X-TITLE=1500 N. Verdugo Rd.:geo:-118.228876,34.16822
END:VEVENT
END:VCALENDAR