BEGIN:VCALENDAR
VERSION:2.0
PRODID:-//Downtown Glendale - ECPv6.15.20//NONSGML v1.0//EN
CALSCALE:GREGORIAN
METHOD:PUBLISH
X-WR-CALNAME:Downtown Glendale
X-ORIGINAL-URL:https://downtownglendale.com
X-WR-CALDESC:Events for Downtown Glendale
REFRESH-INTERVAL;VALUE=DURATION:PT1H
X-Robots-Tag:noindex
X-PUBLISHED-TTL:PT1H
BEGIN:VTIMEZONE
TZID:America/Los_Angeles
BEGIN:DAYLIGHT
TZOFFSETFROM:-0800
TZOFFSETTO:-0700
TZNAME:PDT
DTSTART:20120311T100000
END:DAYLIGHT
BEGIN:STANDARD
TZOFFSETFROM:-0700
TZOFFSETTO:-0800
TZNAME:PST
DTSTART:20121104T090000
END:STANDARD
BEGIN:DAYLIGHT
TZOFFSETFROM:-0800
TZOFFSETTO:-0700
TZNAME:PDT
DTSTART:20130310T100000
END:DAYLIGHT
BEGIN:STANDARD
TZOFFSETFROM:-0700
TZOFFSETTO:-0800
TZNAME:PST
DTSTART:20131103T090000
END:STANDARD
BEGIN:DAYLIGHT
TZOFFSETFROM:-0800
TZOFFSETTO:-0700
TZNAME:PDT
DTSTART:20140309T100000
END:DAYLIGHT
BEGIN:STANDARD
TZOFFSETFROM:-0700
TZOFFSETTO:-0800
TZNAME:PST
DTSTART:20141102T090000
END:STANDARD
END:VTIMEZONE
BEGIN:VEVENT
DTSTART;TZID=America/Los_Angeles:20131012T090000
DTEND;TZID=America/Los_Angeles:20131012T160000
DTSTAMP:20260419T123551
CREATED:20130930T182909Z
LAST-MODIFIED:20130930T183041Z
UID:10002932-1381568400-1381593600@downtownglendale.com
SUMMARY:MUSIC CAMP presented by Verdugo Hills Showtime Chorus
DESCRIPTION:Did you hear the buzz about the Verdugo Hills Showtime Chorus for girls 13 and older? \nLearn to sign A Capella 4-part harmony in just a day and then perform with the VHSC in their MOMENTS IN TIME show that evening. \nClass: 9am – noon Audit Session: 1pm – 4m Showtime: 7pm \nThe Verdugo Hills Showtime Chorus is an award-winning women’s chorus specializing in the art of four-part a cappella harmony barbershop style. \nBased in Southern California\, VHSC is comprised of women from across Greater Los Angeles area who join together weekly to practice and perfect performing skills. An invitation is extended to all women who love to sing to visit a VHSC’s rehearsal. \nMusic Camp: $10 Students and $30 Adults \nShow: Students $15 and Adults $30 \nTo purchase tickets on-line and for additional information visit www.verdugoshowtimechorus.org
URL:https://downtownglendale.com/event/music-camp-presented-by-verdugo-hills-showtime-chorus/
LOCATION:Glendale High School\, 1440 E. Broadway\, Glendale\, CA\, United States
ORGANIZER;CN="Verdugo Hills Showtime Chorus":MAILTO:jackiewheatly44@gmail.com
GEO:34.1457306;-118.23244
X-APPLE-STRUCTURED-LOCATION;VALUE=URI;X-ADDRESS=Glendale High School 1440 E. Broadway Glendale CA United States;X-APPLE-RADIUS=500;X-TITLE=1440 E. Broadway:geo:-118.23244,34.1457306
END:VEVENT
END:VCALENDAR