BEGIN:VCALENDAR
VERSION:2.0
PRODID:-//Downtown Glendale - ECPv6.15.20//NONSGML v1.0//EN
CALSCALE:GREGORIAN
METHOD:PUBLISH
X-ORIGINAL-URL:https://downtownglendale.com
X-WR-CALDESC:Events for Downtown Glendale
REFRESH-INTERVAL;VALUE=DURATION:PT1H
X-Robots-Tag:noindex
X-PUBLISHED-TTL:PT1H
BEGIN:VTIMEZONE
TZID:America/Los_Angeles
BEGIN:DAYLIGHT
TZOFFSETFROM:-0800
TZOFFSETTO:-0700
TZNAME:PDT
DTSTART:20230312T100000
END:DAYLIGHT
BEGIN:STANDARD
TZOFFSETFROM:-0700
TZOFFSETTO:-0800
TZNAME:PST
DTSTART:20231105T090000
END:STANDARD
BEGIN:DAYLIGHT
TZOFFSETFROM:-0800
TZOFFSETTO:-0700
TZNAME:PDT
DTSTART:20240310T100000
END:DAYLIGHT
BEGIN:STANDARD
TZOFFSETFROM:-0700
TZOFFSETTO:-0800
TZNAME:PST
DTSTART:20241103T090000
END:STANDARD
BEGIN:DAYLIGHT
TZOFFSETFROM:-0800
TZOFFSETTO:-0700
TZNAME:PDT
DTSTART:20250309T100000
END:DAYLIGHT
BEGIN:STANDARD
TZOFFSETFROM:-0700
TZOFFSETTO:-0800
TZNAME:PST
DTSTART:20251102T090000
END:STANDARD
BEGIN:DAYLIGHT
TZOFFSETFROM:-0800
TZOFFSETTO:-0700
TZNAME:PDT
DTSTART:20260308T100000
END:DAYLIGHT
BEGIN:STANDARD
TZOFFSETFROM:-0700
TZOFFSETTO:-0800
TZNAME:PST
DTSTART:20261101T090000
END:STANDARD
END:VTIMEZONE
BEGIN:VEVENT
DTSTART;TZID=America/Los_Angeles:20250913T160000
DTEND;TZID=America/Los_Angeles:20250913T190000
DTSTAMP:20260423T165533
CREATED:20250901T075449Z
LAST-MODIFIED:20250901T075449Z
UID:10004301-1757779200-1757790000@downtownglendale.com
SUMMARY:LYKN
DESCRIPTION:
URL:https://downtownglendale.com/event/lykn/
LOCATION:Alex Theatre\, 216 N. Brand Blvd.\, Glendale\, CA\, 91203\, United States
GEO:34.148864;-118.254095
X-APPLE-STRUCTURED-LOCATION;VALUE=URI;X-ADDRESS=Alex Theatre 216 N. Brand Blvd. Glendale CA 91203 United States;X-APPLE-RADIUS=500;X-TITLE=216 N. Brand Blvd.:geo:-118.254095,34.148864
END:VEVENT
BEGIN:VEVENT
DTSTART;TZID=America/Los_Angeles:20250907T133000
DTEND;TZID=America/Los_Angeles:20250907T163000
DTSTAMP:20260423T165533
CREATED:20250901T075159Z
LAST-MODIFIED:20250901T075159Z
UID:10004300-1757251800-1757262600@downtownglendale.com
SUMMARY:Sev Ohanian in Proximity with Ryan Coogler
DESCRIPTION:
URL:https://downtownglendale.com/event/sev-ohanian-in-proximity-with-ryan-coogler/
LOCATION:Alex Theatre\, 216 N. Brand Blvd.\, Glendale\, CA\, 91203\, United States
GEO:34.148864;-118.254095
X-APPLE-STRUCTURED-LOCATION;VALUE=URI;X-ADDRESS=Alex Theatre 216 N. Brand Blvd. Glendale CA 91203 United States;X-APPLE-RADIUS=500;X-TITLE=216 N. Brand Blvd.:geo:-118.254095,34.148864
END:VEVENT
BEGIN:VEVENT
DTSTART;TZID=America/Los_Angeles:20250906T120000
DTEND;TZID=America/Los_Angeles:20250906T200000
DTSTAMP:20260423T165533
CREATED:20250901T075017Z
LAST-MODIFIED:20250901T075017Z
UID:10004299-1757160000-1757188800@downtownglendale.com
SUMMARY:Century of Cinema 1920's
DESCRIPTION:
URL:https://downtownglendale.com/event/century-of-cinema-1920s/
LOCATION:Alex Theatre\, 216 N. Brand Blvd.\, Glendale\, CA\, 91203\, United States
GEO:34.148864;-118.254095
X-APPLE-STRUCTURED-LOCATION;VALUE=URI;X-ADDRESS=Alex Theatre 216 N. Brand Blvd. Glendale CA 91203 United States;X-APPLE-RADIUS=500;X-TITLE=216 N. Brand Blvd.:geo:-118.254095,34.148864
END:VEVENT
BEGIN:VEVENT
DTSTART;TZID=America/Los_Angeles:20250905T190000
DTEND;TZID=America/Los_Angeles:20250905T220000
DTSTAMP:20260423T165533
CREATED:20250901T074756Z
LAST-MODIFIED:20250901T074756Z
UID:10004298-1757098800-1757109600@downtownglendale.com
SUMMARY:ALEX 100 Centennial Town Hall
DESCRIPTION:
URL:https://downtownglendale.com/event/alex-100-centennial-town-hall/
LOCATION:Alex Theatre\, 216 N. Brand Blvd.\, Glendale\, CA\, 91203\, United States
GEO:34.148864;-118.254095
X-APPLE-STRUCTURED-LOCATION;VALUE=URI;X-ADDRESS=Alex Theatre 216 N. Brand Blvd. Glendale CA 91203 United States;X-APPLE-RADIUS=500;X-TITLE=216 N. Brand Blvd.:geo:-118.254095,34.148864
END:VEVENT
BEGIN:VEVENT
DTSTART;TZID=America/Los_Angeles:20250905T120000
DTEND;TZID=America/Los_Angeles:20250905T190000
DTSTAMP:20260423T165533
CREATED:20250901T074646Z
LAST-MODIFIED:20250901T074646Z
UID:10004297-1757073600-1757098800@downtownglendale.com
SUMMARY:ALEX 100 Centennial Open House
DESCRIPTION:
URL:https://downtownglendale.com/event/alex-100-centennial-open-house/
LOCATION:Alex Theatre\, 216 N. Brand Blvd.\, Glendale\, CA\, 91203\, United States
GEO:34.148864;-118.254095
X-APPLE-STRUCTURED-LOCATION;VALUE=URI;X-ADDRESS=Alex Theatre 216 N. Brand Blvd. Glendale CA 91203 United States;X-APPLE-RADIUS=500;X-TITLE=216 N. Brand Blvd.:geo:-118.254095,34.148864
END:VEVENT
BEGIN:VEVENT
DTSTART;TZID=America/Los_Angeles:20250903T193000
DTEND;TZID=America/Los_Angeles:20250903T223000
DTSTAMP:20260423T165533
CREATED:20250901T074518Z
LAST-MODIFIED:20250901T074518Z
UID:10004296-1756927800-1756938600@downtownglendale.com
SUMMARY:Monsieur Aznavour
DESCRIPTION:
URL:https://downtownglendale.com/event/monsieur-aznavour/
LOCATION:Alex Theatre\, 216 N. Brand Blvd.\, Glendale\, CA\, 91203\, United States
GEO:34.148864;-118.254095
X-APPLE-STRUCTURED-LOCATION;VALUE=URI;X-ADDRESS=Alex Theatre 216 N. Brand Blvd. Glendale CA 91203 United States;X-APPLE-RADIUS=500;X-TITLE=216 N. Brand Blvd.:geo:-118.254095,34.148864
END:VEVENT
BEGIN:VEVENT
DTSTART;TZID=America/Los_Angeles:20250621T210000
DTEND;TZID=America/Los_Angeles:20250621T230000
DTSTAMP:20260423T165533
CREATED:20250520T163644Z
LAST-MODIFIED:20250520T163644Z
UID:10004280-1750539600-1750546800@downtownglendale.com
SUMMARY:Rogelio Ramos & Pippin Somos Hombres O Payasos
DESCRIPTION:
URL:https://downtownglendale.com/event/rogelio-ramos-pippin-somos-hombres-o-payasos/
LOCATION:Alex Theatre\, 216 N. Brand Blvd.\, Glendale\, CA\, 91203\, United States
GEO:34.148864;-118.254095
X-APPLE-STRUCTURED-LOCATION;VALUE=URI;X-ADDRESS=Alex Theatre 216 N. Brand Blvd. Glendale CA 91203 United States;X-APPLE-RADIUS=500;X-TITLE=216 N. Brand Blvd.:geo:-118.254095,34.148864
END:VEVENT
BEGIN:VEVENT
DTSTART;TZID=America/Los_Angeles:20250614T190000
DTEND;TZID=America/Los_Angeles:20250614T220000
DTSTAMP:20260423T165533
CREATED:20250520T163454Z
LAST-MODIFIED:20250520T163454Z
UID:10004279-1749927600-1749938400@downtownglendale.com
SUMMARY:Pee-wee's Big Adventure 40th Anniversary Reunion
DESCRIPTION:
URL:https://downtownglendale.com/event/pee-wees-big-adventure-40th-anniversary-reunion/
LOCATION:Alex Theatre\, 216 N. Brand Blvd.\, Glendale\, CA\, 91203\, United States
GEO:34.148864;-118.254095
X-APPLE-STRUCTURED-LOCATION;VALUE=URI;X-ADDRESS=Alex Theatre 216 N. Brand Blvd. Glendale CA 91203 United States;X-APPLE-RADIUS=500;X-TITLE=216 N. Brand Blvd.:geo:-118.254095,34.148864
END:VEVENT
BEGIN:VEVENT
DTSTART;TZID=America/Los_Angeles:20250517T200000
DTEND;TZID=America/Los_Angeles:20250517T200000
DTSTAMP:20260423T165533
CREATED:20250213T174157Z
LAST-MODIFIED:20250213T174157Z
UID:10004262-1747512000-1747512000@downtownglendale.com
SUMMARY:Jack Assadourian Jr.
DESCRIPTION:
URL:https://downtownglendale.com/event/jack-assadourian-jr/
LOCATION:Alex Theatre\, 216 N. Brand Blvd.\, Glendale\, CA\, 91203\, United States
GEO:34.148864;-118.254095
X-APPLE-STRUCTURED-LOCATION;VALUE=URI;X-ADDRESS=Alex Theatre 216 N. Brand Blvd. Glendale CA 91203 United States;X-APPLE-RADIUS=500;X-TITLE=216 N. Brand Blvd.:geo:-118.254095,34.148864
END:VEVENT
BEGIN:VEVENT
DTSTART;TZID=America/Los_Angeles:20250507T193000
DTEND;TZID=America/Los_Angeles:20250507T193000
DTSTAMP:20260423T165533
CREATED:20250213T174000Z
LAST-MODIFIED:20250213T174000Z
UID:10004261-1746646200-1746646200@downtownglendale.com
SUMMARY:The Music of Hans Zimmer & Others - A Celebration of Film Music
DESCRIPTION:
URL:https://downtownglendale.com/event/the-music-of-hans-zimmer-others-a-celebration-of-film-music/
LOCATION:Alex Theatre\, 216 N. Brand Blvd.\, Glendale\, CA\, 91203\, United States
GEO:34.148864;-118.254095
X-APPLE-STRUCTURED-LOCATION;VALUE=URI;X-ADDRESS=Alex Theatre 216 N. Brand Blvd. Glendale CA 91203 United States;X-APPLE-RADIUS=500;X-TITLE=216 N. Brand Blvd.:geo:-118.254095,34.148864
END:VEVENT
BEGIN:VEVENT
DTSTART;TZID=America/Los_Angeles:20250504T153000
DTEND;TZID=America/Los_Angeles:20250504T153000
DTSTAMP:20260423T165533
CREATED:20250213T173808Z
LAST-MODIFIED:20250213T173808Z
UID:10004260-1746372600-1746372600@downtownglendale.com
SUMMARY:The Magical Music of Harry Potter
DESCRIPTION:
URL:https://downtownglendale.com/event/the-magical-music-of-harry-potter/
LOCATION:Alex Theatre\, 216 N. Brand Blvd.\, Glendale\, CA\, 91203\, United States
GEO:34.148864;-118.254095
X-APPLE-STRUCTURED-LOCATION;VALUE=URI;X-ADDRESS=Alex Theatre 216 N. Brand Blvd. Glendale CA 91203 United States;X-APPLE-RADIUS=500;X-TITLE=216 N. Brand Blvd.:geo:-118.254095,34.148864
END:VEVENT
BEGIN:VEVENT
DTSTART;TZID=America/Los_Angeles:20250419T193000
DTEND;TZID=America/Los_Angeles:20250419T193000
DTSTAMP:20260423T165533
CREATED:20250108T203409Z
LAST-MODIFIED:20250108T203409Z
UID:10004256-1745091000-1745091000@downtownglendale.com
SUMMARY:Pioneers: Martin + Schumann + Price
DESCRIPTION:
URL:https://downtownglendale.com/event/pioneers-martin-schumann-price/
LOCATION:Alex Theatre\, 216 N. Brand Blvd.\, Glendale\, CA\, 91203\, United States
GEO:34.148864;-118.254095
X-APPLE-STRUCTURED-LOCATION;VALUE=URI;X-ADDRESS=Alex Theatre 216 N. Brand Blvd. Glendale CA 91203 United States;X-APPLE-RADIUS=500;X-TITLE=216 N. Brand Blvd.:geo:-118.254095,34.148864
END:VEVENT
BEGIN:VEVENT
DTSTART;TZID=America/Los_Angeles:20250331T193000
DTEND;TZID=America/Los_Angeles:20250331T193000
DTSTAMP:20260423T165533
CREATED:20250213T173728Z
LAST-MODIFIED:20250213T173728Z
UID:10004259-1743449400-1743449400@downtownglendale.com
SUMMARY:Los Angeles Youth Orchestra 25th Anniversary Concert
DESCRIPTION:
URL:https://downtownglendale.com/event/los-angeles-youth-orchestra-25th-anniversary-concert/
LOCATION:Alex Theatre\, 216 N. Brand Blvd.\, Glendale\, CA\, 91203\, United States
GEO:34.148864;-118.254095
X-APPLE-STRUCTURED-LOCATION;VALUE=URI;X-ADDRESS=Alex Theatre 216 N. Brand Blvd. Glendale CA 91203 United States;X-APPLE-RADIUS=500;X-TITLE=216 N. Brand Blvd.:geo:-118.254095,34.148864
END:VEVENT
BEGIN:VEVENT
DTSTART;TZID=America/Los_Angeles:20250323T170000
DTEND;TZID=America/Los_Angeles:20250323T170000
DTSTAMP:20260423T165533
CREATED:20250108T203223Z
LAST-MODIFIED:20250108T203223Z
UID:10004255-1742749200-1742749200@downtownglendale.com
SUMMARY:Lili Dance Studio 10th Anniversary
DESCRIPTION:
URL:https://downtownglendale.com/event/lili-dance-studio-10th-anniversary/
LOCATION:Alex Theatre\, 216 N. Brand Blvd.\, Glendale\, CA\, 91203\, United States
GEO:34.148864;-118.254095
X-APPLE-STRUCTURED-LOCATION;VALUE=URI;X-ADDRESS=Alex Theatre 216 N. Brand Blvd. Glendale CA 91203 United States;X-APPLE-RADIUS=500;X-TITLE=216 N. Brand Blvd.:geo:-118.254095,34.148864
END:VEVENT
BEGIN:VEVENT
DTSTART;TZID=America/Los_Angeles:20250315T193000
DTEND;TZID=America/Los_Angeles:20250315T193000
DTSTAMP:20260423T165533
CREATED:20250213T173555Z
LAST-MODIFIED:20250213T173555Z
UID:10004258-1742067000-1742067000@downtownglendale.com
SUMMARY:Bourgeoisie: Mozart + Haydn + Handel
DESCRIPTION:
URL:https://downtownglendale.com/event/bourgeoisie-mozart-haydn-handel/
LOCATION:Alex Theatre\, 216 N. Brand Blvd.\, Glendale\, CA\, 91203\, United States
GEO:34.148864;-118.254095
X-APPLE-STRUCTURED-LOCATION;VALUE=URI;X-ADDRESS=Alex Theatre 216 N. Brand Blvd. Glendale CA 91203 United States;X-APPLE-RADIUS=500;X-TITLE=216 N. Brand Blvd.:geo:-118.254095,34.148864
END:VEVENT
BEGIN:VEVENT
DTSTART;TZID=America/Los_Angeles:20250301T190000
DTEND;TZID=America/Los_Angeles:20250301T190000
DTSTAMP:20260423T165533
CREATED:20250108T203143Z
LAST-MODIFIED:20250108T203143Z
UID:10004254-1740855600-1740855600@downtownglendale.com
SUMMARY:Arevik Music Centre
DESCRIPTION:
URL:https://downtownglendale.com/event/arevik-music-centre/
LOCATION:Alex Theatre\, 216 N. Brand Blvd.\, Glendale\, CA\, 91203\, United States
GEO:34.148864;-118.254095
X-APPLE-STRUCTURED-LOCATION;VALUE=URI;X-ADDRESS=Alex Theatre 216 N. Brand Blvd. Glendale CA 91203 United States;X-APPLE-RADIUS=500;X-TITLE=216 N. Brand Blvd.:geo:-118.254095,34.148864
END:VEVENT
BEGIN:VEVENT
DTSTART;TZID=America/Los_Angeles:20250223T190000
DTEND;TZID=America/Los_Angeles:20250223T190000
DTSTAMP:20260423T165533
CREATED:20250108T203026Z
LAST-MODIFIED:20250108T203026Z
UID:10004253-1740337200-1740337200@downtownglendale.com
SUMMARY:Napoleon Dynamite Live
DESCRIPTION:
URL:https://downtownglendale.com/event/napoleon-dynamite-live/
LOCATION:Alex Theatre\, 216 N. Brand Blvd.\, Glendale\, CA\, 91203\, United States
GEO:34.148864;-118.254095
X-APPLE-STRUCTURED-LOCATION;VALUE=URI;X-ADDRESS=Alex Theatre 216 N. Brand Blvd. Glendale CA 91203 United States;X-APPLE-RADIUS=500;X-TITLE=216 N. Brand Blvd.:geo:-118.254095,34.148864
END:VEVENT
BEGIN:VEVENT
DTSTART;TZID=America/Los_Angeles:20250222T130000
DTEND;TZID=America/Los_Angeles:20250222T130000
DTSTAMP:20260423T165533
CREATED:20250108T202924Z
LAST-MODIFIED:20250108T202924Z
UID:10004252-1740229200-1740229200@downtownglendale.com
SUMMARY:AirTalk's FilmWeek Oscar Preview
DESCRIPTION:
URL:https://downtownglendale.com/event/airtalks-filmweek-oscar-preview/
LOCATION:Alex Theatre\, 216 N. Brand Blvd.\, Glendale\, CA\, 91203\, United States
GEO:34.148864;-118.254095
X-APPLE-STRUCTURED-LOCATION;VALUE=URI;X-ADDRESS=Alex Theatre 216 N. Brand Blvd. Glendale CA 91203 United States;X-APPLE-RADIUS=500;X-TITLE=216 N. Brand Blvd.:geo:-118.254095,34.148864
END:VEVENT
BEGIN:VEVENT
DTSTART;TZID=America/Los_Angeles:20250221T190000
DTEND;TZID=America/Los_Angeles:20250221T190000
DTSTAMP:20260423T165533
CREATED:20250108T202751Z
LAST-MODIFIED:20250108T202751Z
UID:10004251-1740164400-1740164400@downtownglendale.com
SUMMARY:World Ballet Company: The Great Gatsby
DESCRIPTION:
URL:https://downtownglendale.com/event/world-ballet-company-the-great-gatsby/
LOCATION:Alex Theatre\, 216 N. Brand Blvd.\, Glendale\, CA\, 91203\, United States
GEO:34.148864;-118.254095
X-APPLE-STRUCTURED-LOCATION;VALUE=URI;X-ADDRESS=Alex Theatre 216 N. Brand Blvd. Glendale CA 91203 United States;X-APPLE-RADIUS=500;X-TITLE=216 N. Brand Blvd.:geo:-118.254095,34.148864
END:VEVENT
BEGIN:VEVENT
DTSTART;TZID=America/Los_Angeles:20250215T193000
DTEND;TZID=America/Los_Angeles:20250215T193000
DTSTAMP:20260423T165533
CREATED:20250108T202654Z
LAST-MODIFIED:20250108T203526Z
UID:10004250-1739647800-1739647800@downtownglendale.com
SUMMARY:Impressionists: Pintscher + Debussy + Deyoung
DESCRIPTION:
URL:https://downtownglendale.com/event/impressionists-pintscher-debussy-deyoung/
LOCATION:Alex Theatre\, 216 N. Brand Blvd.\, Glendale\, CA\, 91203\, United States
GEO:34.148864;-118.254095
X-APPLE-STRUCTURED-LOCATION;VALUE=URI;X-ADDRESS=Alex Theatre 216 N. Brand Blvd. Glendale CA 91203 United States;X-APPLE-RADIUS=500;X-TITLE=216 N. Brand Blvd.:geo:-118.254095,34.148864
END:VEVENT
BEGIN:VEVENT
DTSTART;TZID=America/Los_Angeles:20250207T200000
DTEND;TZID=America/Los_Angeles:20250207T200000
DTSTAMP:20260423T165533
CREATED:20250108T202315Z
LAST-MODIFIED:20250108T202315Z
UID:10004248-1738958400-1738958400@downtownglendale.com
SUMMARY:Charlie Zaa
DESCRIPTION:
URL:https://downtownglendale.com/event/charlie-zaa/
LOCATION:Alex Theatre\, 216 N. Brand Blvd.\, Glendale\, CA\, 91203\, United States
GEO:34.148864;-118.254095
X-APPLE-STRUCTURED-LOCATION;VALUE=URI;X-ADDRESS=Alex Theatre 216 N. Brand Blvd. Glendale CA 91203 United States;X-APPLE-RADIUS=500;X-TITLE=216 N. Brand Blvd.:geo:-118.254095,34.148864
END:VEVENT
BEGIN:VEVENT
DTSTART;TZID=America/Los_Angeles:20250114T190000
DTEND;TZID=America/Los_Angeles:20250114T190000
DTSTAMP:20260423T165533
CREATED:20250108T202411Z
LAST-MODIFIED:20250108T202411Z
UID:10004249-1736881200-1736881200@downtownglendale.com
SUMMARY:Maz Jobrani: Mr. International Comedy Tour
DESCRIPTION:
URL:https://downtownglendale.com/event/maz-jobrani-mr-international-comedy-tour/
LOCATION:Alex Theatre\, 216 N. Brand Blvd.\, Glendale\, CA\, 91203\, United States
GEO:34.148864;-118.254095
X-APPLE-STRUCTURED-LOCATION;VALUE=URI;X-ADDRESS=Alex Theatre 216 N. Brand Blvd. Glendale CA 91203 United States;X-APPLE-RADIUS=500;X-TITLE=216 N. Brand Blvd.:geo:-118.254095,34.148864
END:VEVENT
BEGIN:VEVENT
DTSTART;TZID=America/Los_Angeles:20241223T180000
DTEND;TZID=America/Los_Angeles:20241223T210000
DTSTAMP:20260423T165533
CREATED:20241105T233733Z
LAST-MODIFIED:20241105T233733Z
UID:10004247-1734976800-1734987600@downtownglendale.com
SUMMARY:World Ballet Company Presents The Nutcracker
DESCRIPTION:
URL:https://downtownglendale.com/event/world-ballet-company-presents-the-nutcracker/
LOCATION:Alex Theatre\, 216 N. Brand Blvd.\, Glendale\, CA\, 91203\, United States
GEO:34.148864;-118.254095
X-APPLE-STRUCTURED-LOCATION;VALUE=URI;X-ADDRESS=Alex Theatre 216 N. Brand Blvd. Glendale CA 91203 United States;X-APPLE-RADIUS=500;X-TITLE=216 N. Brand Blvd.:geo:-118.254095,34.148864
END:VEVENT
BEGIN:VEVENT
DTSTART;TZID=America/Los_Angeles:20241214T130000
DTEND;TZID=America/Los_Angeles:20241214T160000
DTSTAMP:20260423T165533
CREATED:20241105T233550Z
LAST-MODIFIED:20241105T233550Z
UID:10004246-1734181200-1734192000@downtownglendale.com
SUMMARY:Red Chair Productions Presents The Nutcracker
DESCRIPTION:
URL:https://downtownglendale.com/event/red-chair-productions-presents-the-nutcracker-5/
LOCATION:Alex Theatre\, 216 N. Brand Blvd.\, Glendale\, CA\, 91203\, United States
GEO:34.148864;-118.254095
X-APPLE-STRUCTURED-LOCATION;VALUE=URI;X-ADDRESS=Alex Theatre 216 N. Brand Blvd. Glendale CA 91203 United States;X-APPLE-RADIUS=500;X-TITLE=216 N. Brand Blvd.:geo:-118.254095,34.148864
END:VEVENT
BEGIN:VEVENT
DTSTART;TZID=America/Los_Angeles:20241208T163000
DTEND;TZID=America/Los_Angeles:20241208T193000
DTSTAMP:20260423T165533
CREATED:20241105T233501Z
LAST-MODIFIED:20241105T233501Z
UID:10004245-1733675400-1733686200@downtownglendale.com
SUMMARY:Degas Dance Studio Presents The Nutcracker
DESCRIPTION:
URL:https://downtownglendale.com/event/degas-dance-studio-presents-the-nutcracker/
LOCATION:Alex Theatre\, 216 N. Brand Blvd.\, Glendale\, CA\, 91203\, United States
GEO:34.148864;-118.254095
X-APPLE-STRUCTURED-LOCATION;VALUE=URI;X-ADDRESS=Alex Theatre 216 N. Brand Blvd. Glendale CA 91203 United States;X-APPLE-RADIUS=500;X-TITLE=216 N. Brand Blvd.:geo:-118.254095,34.148864
END:VEVENT
BEGIN:VEVENT
DTSTART;TZID=America/Los_Angeles:20241130T200000
DTEND;TZID=America/Los_Angeles:20241130T230000
DTSTAMP:20260423T165533
CREATED:20241105T233241Z
LAST-MODIFIED:20241105T233241Z
UID:10004244-1732996800-1733007600@downtownglendale.com
SUMMARY:Alex Film Society The Three Stooges® Big Screen Event
DESCRIPTION:
URL:https://downtownglendale.com/event/alex-film-society-the-three-stooges-big-screen-event/
LOCATION:Alex Theatre\, 216 N. Brand Blvd.\, Glendale\, CA\, 91203\, United States
GEO:34.148864;-118.254095
X-APPLE-STRUCTURED-LOCATION;VALUE=URI;X-ADDRESS=Alex Theatre 216 N. Brand Blvd. Glendale CA 91203 United States;X-APPLE-RADIUS=500;X-TITLE=216 N. Brand Blvd.:geo:-118.254095,34.148864
END:VEVENT
BEGIN:VEVENT
DTSTART;TZID=America/Los_Angeles:20241117T180000
DTEND;TZID=America/Los_Angeles:20241117T210000
DTSTAMP:20260423T165533
CREATED:20241105T233138Z
LAST-MODIFIED:20241105T233138Z
UID:10004243-1731866400-1731877200@downtownglendale.com
SUMMARY:Glendale Youth Orchestra Rhapsody in Blue
DESCRIPTION:
URL:https://downtownglendale.com/event/glendale-youth-orchestra-rhapsody-in-blue/
LOCATION:Alex Theatre\, 216 N. Brand Blvd.\, Glendale\, CA\, 91203\, United States
GEO:34.148864;-118.254095
X-APPLE-STRUCTURED-LOCATION;VALUE=URI;X-ADDRESS=Alex Theatre 216 N. Brand Blvd. Glendale CA 91203 United States;X-APPLE-RADIUS=500;X-TITLE=216 N. Brand Blvd.:geo:-118.254095,34.148864
END:VEVENT
BEGIN:VEVENT
DTSTART;TZID=America/Los_Angeles:20241110T180000
DTEND;TZID=America/Los_Angeles:20241110T210000
DTSTAMP:20260423T165533
CREATED:20241105T233009Z
LAST-MODIFIED:20241105T233009Z
UID:10004242-1731261600-1731272400@downtownglendale.com
SUMMARY:Greg Hosharian & the Armenian Pops Orchestra
DESCRIPTION:
URL:https://downtownglendale.com/event/greg-hosharian-the-armenian-pops-orchestra/
LOCATION:Alex Theatre\, 216 N. Brand Blvd.\, Glendale\, CA\, 91203\, United States
GEO:34.148864;-118.254095
X-APPLE-STRUCTURED-LOCATION;VALUE=URI;X-ADDRESS=Alex Theatre 216 N. Brand Blvd. Glendale CA 91203 United States;X-APPLE-RADIUS=500;X-TITLE=216 N. Brand Blvd.:geo:-118.254095,34.148864
END:VEVENT
BEGIN:VEVENT
DTSTART;TZID=America/Los_Angeles:20240927T193000
DTEND;TZID=America/Los_Angeles:20240927T193000
DTSTAMP:20260423T165533
CREATED:20240617T064306Z
LAST-MODIFIED:20240617T064306Z
UID:10004219-1727465400-1727465400@downtownglendale.com
SUMMARY:Motown Explosion and Soul Revue
DESCRIPTION:
URL:https://downtownglendale.com/event/motown-explosion-and-soul-revue/
LOCATION:Alex Theatre\, 216 N. Brand Blvd.\, Glendale\, CA\, 91203\, United States
GEO:34.148864;-118.254095
X-APPLE-STRUCTURED-LOCATION;VALUE=URI;X-ADDRESS=Alex Theatre 216 N. Brand Blvd. Glendale CA 91203 United States;X-APPLE-RADIUS=500;X-TITLE=216 N. Brand Blvd.:geo:-118.254095,34.148864
END:VEVENT
BEGIN:VEVENT
DTSTART;TZID=America/Los_Angeles:20240921T190000
DTEND;TZID=America/Los_Angeles:20240921T190000
DTSTAMP:20260423T165533
CREATED:20240617T064100Z
LAST-MODIFIED:20240617T064100Z
UID:10004218-1726945200-1726945200@downtownglendale.com
SUMMARY:World Ballet Company: Swan Lake
DESCRIPTION:
URL:https://downtownglendale.com/event/world-ballet-company-swan-lake/
LOCATION:Alex Theatre\, 216 N. Brand Blvd.\, Glendale\, CA\, 91203\, United States
GEO:34.148864;-118.254095
X-APPLE-STRUCTURED-LOCATION;VALUE=URI;X-ADDRESS=Alex Theatre 216 N. Brand Blvd. Glendale CA 91203 United States;X-APPLE-RADIUS=500;X-TITLE=216 N. Brand Blvd.:geo:-118.254095,34.148864
END:VEVENT
END:VCALENDAR