BEGIN:VCALENDAR
VERSION:2.0
PRODID:-//Downtown Glendale - ECPv6.15.20//NONSGML v1.0//EN
CALSCALE:GREGORIAN
METHOD:PUBLISH
X-ORIGINAL-URL:https://downtownglendale.com
X-WR-CALDESC:Events for Downtown Glendale
REFRESH-INTERVAL;VALUE=DURATION:PT1H
X-Robots-Tag:noindex
X-PUBLISHED-TTL:PT1H
BEGIN:VTIMEZONE
TZID:America/Los_Angeles
BEGIN:DAYLIGHT
TZOFFSETFROM:-0800
TZOFFSETTO:-0700
TZNAME:PDT
DTSTART:20130310T100000
END:DAYLIGHT
BEGIN:STANDARD
TZOFFSETFROM:-0700
TZOFFSETTO:-0800
TZNAME:PST
DTSTART:20131103T090000
END:STANDARD
BEGIN:DAYLIGHT
TZOFFSETFROM:-0800
TZOFFSETTO:-0700
TZNAME:PDT
DTSTART:20140309T100000
END:DAYLIGHT
BEGIN:STANDARD
TZOFFSETFROM:-0700
TZOFFSETTO:-0800
TZNAME:PST
DTSTART:20141102T090000
END:STANDARD
BEGIN:DAYLIGHT
TZOFFSETFROM:-0800
TZOFFSETTO:-0700
TZNAME:PDT
DTSTART:20150308T100000
END:DAYLIGHT
BEGIN:STANDARD
TZOFFSETFROM:-0700
TZOFFSETTO:-0800
TZNAME:PST
DTSTART:20151101T090000
END:STANDARD
END:VTIMEZONE
BEGIN:VEVENT
DTSTART;TZID=America/Los_Angeles:20140322T180000
DTEND;TZID=America/Los_Angeles:20140322T220000
DTSTAMP:20260424T111441
CREATED:20140313T165129Z
LAST-MODIFIED:20140313T165129Z
UID:10003047-1395511200-1395525600@downtownglendale.com
SUMMARY:BRAND NEW! REOPENING GALA
DESCRIPTION:
URL:https://downtownglendale.com/event/brand-new-reopening-gala/
LOCATION:Brand Library & Art Center\, 1601 W. Mountain Ave. \, Glendale\, CA\, 91201\, United States
ORGANIZER;CN="The Associates of Brand Library & Art Center":MAILTO:info@associatesofbrand.org
GEO:34.1826353;-118.2764402
X-APPLE-STRUCTURED-LOCATION;VALUE=URI;X-ADDRESS=Brand Library & Art Center 1601 W. Mountain Ave.  Glendale CA 91201 United States;X-APPLE-RADIUS=500;X-TITLE=1601 W. Mountain Ave.:geo:-118.2764402,34.1826353
END:VEVENT
END:VCALENDAR