BEGIN:VCALENDAR
VERSION:2.0
PRODID:-//Downtown Glendale - ECPv6.15.20//NONSGML v1.0//EN
CALSCALE:GREGORIAN
METHOD:PUBLISH
X-WR-CALNAME:Downtown Glendale
X-ORIGINAL-URL:https://downtownglendale.com
X-WR-CALDESC:Events for Downtown Glendale
REFRESH-INTERVAL;VALUE=DURATION:PT1H
X-Robots-Tag:noindex
X-PUBLISHED-TTL:PT1H
BEGIN:VTIMEZONE
TZID:America/Los_Angeles
BEGIN:DAYLIGHT
TZOFFSETFROM:-0800
TZOFFSETTO:-0700
TZNAME:PDT
DTSTART:20150308T100000
END:DAYLIGHT
BEGIN:STANDARD
TZOFFSETFROM:-0700
TZOFFSETTO:-0800
TZNAME:PST
DTSTART:20151101T090000
END:STANDARD
BEGIN:DAYLIGHT
TZOFFSETFROM:-0800
TZOFFSETTO:-0700
TZNAME:PDT
DTSTART:20160313T100000
END:DAYLIGHT
BEGIN:STANDARD
TZOFFSETFROM:-0700
TZOFFSETTO:-0800
TZNAME:PST
DTSTART:20161106T090000
END:STANDARD
BEGIN:DAYLIGHT
TZOFFSETFROM:-0800
TZOFFSETTO:-0700
TZNAME:PDT
DTSTART:20170312T100000
END:DAYLIGHT
BEGIN:STANDARD
TZOFFSETFROM:-0700
TZOFFSETTO:-0800
TZNAME:PST
DTSTART:20171105T090000
END:STANDARD
BEGIN:DAYLIGHT
TZOFFSETFROM:-0800
TZOFFSETTO:-0700
TZNAME:PDT
DTSTART:20180311T100000
END:DAYLIGHT
BEGIN:STANDARD
TZOFFSETFROM:-0700
TZOFFSETTO:-0800
TZNAME:PST
DTSTART:20181104T090000
END:STANDARD
BEGIN:DAYLIGHT
TZOFFSETFROM:-0800
TZOFFSETTO:-0700
TZNAME:PDT
DTSTART:20190310T100000
END:DAYLIGHT
BEGIN:STANDARD
TZOFFSETFROM:-0700
TZOFFSETTO:-0800
TZNAME:PST
DTSTART:20191103T090000
END:STANDARD
END:VTIMEZONE
BEGIN:VEVENT
DTSTART;TZID=America/Los_Angeles:20181209T070000
DTEND;TZID=America/Los_Angeles:20181209T110000
DTSTAMP:20260420T124451
CREATED:20181127T092531Z
LAST-MODIFIED:20181127T092531Z
UID:10003503-1544338800-1544353200@downtownglendale.com
SUMMARY:2018 Jingle Bell Run
DESCRIPTION:Sunday\, December 9\, 2018\nGlendale Central Park \nBe part of the longest-running\, holiday-themed 5K race series anywhere – and fight with us to conquer arthritis! \nThe Arthritis Foundation’s original Jingle Bell Run is a fun way to get decked out and be festive\, while racing to raise funds and awareness to cure America’s #1 cause of disability. Put on your favorite holiday costume. Tie jingle bells to your shoelaces. ’Tis the season to live it up and be jolly for a reason! Bring a team of friends\, family and co-workers to run or walk\, spread smiles and good cheer … and be a Champion of Yes! 100 percent of your registration fee and fundraising efforts go to this great cause. \nFor more help or information about the 2018 Jingle Bell Run of Los Angeles\, contact Erin Matthews at ematthews@arthritis.org\, or call 323.522.4954.
URL:https://downtownglendale.com/event/2018-jingle-bell-run/
LOCATION:Central Park\, 201 E. Colorado St.\, Glendale\, CA\, 91205\, United States
GEO:34.1432014;-118.253155
X-APPLE-STRUCTURED-LOCATION;VALUE=URI;X-ADDRESS=Central Park 201 E. Colorado St. Glendale CA 91205 United States;X-APPLE-RADIUS=500;X-TITLE=201 E. Colorado St.:geo:-118.253155,34.1432014
END:VEVENT
BEGIN:VEVENT
DTSTART;TZID=America/Los_Angeles:20161211T070000
DTEND;TZID=America/Los_Angeles:20161211T103000
DTSTAMP:20260420T124451
CREATED:20161205T083602Z
LAST-MODIFIED:20161205T083602Z
UID:10003633-1481439600-1481452200@downtownglendale.com
SUMMARY:2016 Jingle Bell Run Greater Los Angeles
DESCRIPTION:Be part of the largest holiday-themed 5K race series anywhere – and join the movement to conquer arthritis! \nThe Arthritis Foundation’s Jingle Bell Run is a fun way to get out\, get moving and raise funds and awareness to cure America’s #1 cause of disability. In communities nationwide\, this annual event brings together people from all walks of life to shout “Yes\, we will live life to its fullest while searching for a cure!” As a Champion of Yes\, kick off your holidays by helping conquer arthritis once and for all! \nYour registration fee includes a t-shirt\, finishing medal\, bells for your laces and a timing chip at the event! \nWear a holiday-themed costume. Tie jingle bells to your shoelaces. Show off your ugly Christmas sweater. Complete a 5-kilometer run or walk with your team members\, spreading smiles\, good cheer and a winning spirit … and be a Champion of Yes! \nFor more help or information about the 2016 Jingle Bell Run of Los Angeles\, contact Carlie Wilhite at cwilhite@arthritis.org or call (323) 954-5760 x262.
URL:https://downtownglendale.com/event/2016-jingle-bell-run-greater-los-angeles/
LOCATION:Central Park\, 201 E. Colorado St.\, Glendale\, CA\, 91205\, United States
GEO:34.1432014;-118.253155
X-APPLE-STRUCTURED-LOCATION;VALUE=URI;X-ADDRESS=Central Park 201 E. Colorado St. Glendale CA 91205 United States;X-APPLE-RADIUS=500;X-TITLE=201 E. Colorado St.:geo:-118.253155,34.1432014
END:VEVENT
BEGIN:VEVENT
DTSTART;TZID=America/Los_Angeles:20160917T120000
DTEND;TZID=America/Los_Angeles:20160917T220000
DTSTAMP:20260420T124451
CREATED:20160801T100153Z
LAST-MODIFIED:20160801T100153Z
UID:10003525-1474113600-1474149600@downtownglendale.com
SUMMARY:Open Arts & Music Festival
DESCRIPTION:The first annual Open Arts & Music Festival (OAM) navigates a city in transition. In recent years\, the City of Glendale has become increasingly diverse – both economically and culturally. On Saturday\, September 17\, 2016 from 12 PM to 10 PM at Glendale Central Park\, the Open Arts & Music Festival will highlight the range\, influence\, and growth of changing city by inviting artists\, performers\, local businesses and vendors to activate Downtown Glendale. Through music performances\, arts markets and a public art installation\, activities for children\, and featured businesses\, the Open Arts & Music Festival creates an immersive\, engaging\, and family-friendly environment for residents of The City of Glendale and outlying areas. \nThe Open Arts & Music Festival is a public/private partnership between Glendale Arts (lead organization)\, the City of Glendale\, the Glendale Arts & Culture Commission – with funding from the Urban Art Program\, the Downtown Glendale Association\, and is sponsored\, in part\, by Los Angeles County Supervisor Michael D. Antonovich. \nAdditional partners include City of Glendale Community Services & Parks\, ESM Productions\, Studio Chew\, The Americana at Brand\, CBRE\, Street Food Cinema\, Glendale Tech Week\, Brewyard Beer Co.\, and a variety of local and regional non-profit arts organizations.
URL:https://downtownglendale.com/event/open-arts-music-festival/
LOCATION:Central Park\, 201 E. Colorado St.\, Glendale\, CA\, 91205\, United States
GEO:34.1432014;-118.253155
X-APPLE-STRUCTURED-LOCATION;VALUE=URI;X-ADDRESS=Central Park 201 E. Colorado St. Glendale CA 91205 United States;X-APPLE-RADIUS=500;X-TITLE=201 E. Colorado St.:geo:-118.253155,34.1432014
END:VEVENT
END:VCALENDAR