BEGIN:VCALENDAR
VERSION:2.0
PRODID:-//Downtown Glendale - ECPv6.15.20//NONSGML v1.0//EN
CALSCALE:GREGORIAN
METHOD:PUBLISH
X-ORIGINAL-URL:https://downtownglendale.com
X-WR-CALDESC:Events for Downtown Glendale
REFRESH-INTERVAL;VALUE=DURATION:PT1H
X-Robots-Tag:noindex
X-PUBLISHED-TTL:PT1H
BEGIN:VTIMEZONE
TZID:America/Los_Angeles
BEGIN:DAYLIGHT
TZOFFSETFROM:-0800
TZOFFSETTO:-0700
TZNAME:PDT
DTSTART:20120311T100000
END:DAYLIGHT
BEGIN:STANDARD
TZOFFSETFROM:-0700
TZOFFSETTO:-0800
TZNAME:PST
DTSTART:20121104T090000
END:STANDARD
BEGIN:DAYLIGHT
TZOFFSETFROM:-0800
TZOFFSETTO:-0700
TZNAME:PDT
DTSTART:20130310T100000
END:DAYLIGHT
BEGIN:STANDARD
TZOFFSETFROM:-0700
TZOFFSETTO:-0800
TZNAME:PST
DTSTART:20131103T090000
END:STANDARD
BEGIN:DAYLIGHT
TZOFFSETFROM:-0800
TZOFFSETTO:-0700
TZNAME:PDT
DTSTART:20140309T100000
END:DAYLIGHT
BEGIN:STANDARD
TZOFFSETFROM:-0700
TZOFFSETTO:-0800
TZNAME:PST
DTSTART:20141102T090000
END:STANDARD
BEGIN:DAYLIGHT
TZOFFSETFROM:-0800
TZOFFSETTO:-0700
TZNAME:PDT
DTSTART:20150308T100000
END:DAYLIGHT
BEGIN:STANDARD
TZOFFSETFROM:-0700
TZOFFSETTO:-0800
TZNAME:PST
DTSTART:20151101T090000
END:STANDARD
BEGIN:DAYLIGHT
TZOFFSETFROM:-0800
TZOFFSETTO:-0700
TZNAME:PDT
DTSTART:20160313T100000
END:DAYLIGHT
BEGIN:STANDARD
TZOFFSETFROM:-0700
TZOFFSETTO:-0800
TZNAME:PST
DTSTART:20161106T090000
END:STANDARD
BEGIN:DAYLIGHT
TZOFFSETFROM:-0800
TZOFFSETTO:-0700
TZNAME:PDT
DTSTART:20170312T100000
END:DAYLIGHT
BEGIN:STANDARD
TZOFFSETFROM:-0700
TZOFFSETTO:-0800
TZNAME:PST
DTSTART:20171105T090000
END:STANDARD
BEGIN:DAYLIGHT
TZOFFSETFROM:-0800
TZOFFSETTO:-0700
TZNAME:PDT
DTSTART:20180311T100000
END:DAYLIGHT
BEGIN:STANDARD
TZOFFSETFROM:-0700
TZOFFSETTO:-0800
TZNAME:PST
DTSTART:20181104T090000
END:STANDARD
BEGIN:DAYLIGHT
TZOFFSETFROM:-0800
TZOFFSETTO:-0700
TZNAME:PDT
DTSTART:20190310T100000
END:DAYLIGHT
BEGIN:STANDARD
TZOFFSETFROM:-0700
TZOFFSETTO:-0800
TZNAME:PST
DTSTART:20191103T090000
END:STANDARD
BEGIN:DAYLIGHT
TZOFFSETFROM:-0800
TZOFFSETTO:-0700
TZNAME:PDT
DTSTART:20200308T100000
END:DAYLIGHT
BEGIN:STANDARD
TZOFFSETFROM:-0700
TZOFFSETTO:-0800
TZNAME:PST
DTSTART:20201101T090000
END:STANDARD
BEGIN:DAYLIGHT
TZOFFSETFROM:-0800
TZOFFSETTO:-0700
TZNAME:PDT
DTSTART:20210314T100000
END:DAYLIGHT
BEGIN:STANDARD
TZOFFSETFROM:-0700
TZOFFSETTO:-0800
TZNAME:PST
DTSTART:20211107T090000
END:STANDARD
BEGIN:DAYLIGHT
TZOFFSETFROM:-0800
TZOFFSETTO:-0700
TZNAME:PDT
DTSTART:20220313T100000
END:DAYLIGHT
BEGIN:STANDARD
TZOFFSETFROM:-0700
TZOFFSETTO:-0800
TZNAME:PST
DTSTART:20221106T090000
END:STANDARD
BEGIN:DAYLIGHT
TZOFFSETFROM:-0800
TZOFFSETTO:-0700
TZNAME:PDT
DTSTART:20230312T100000
END:DAYLIGHT
BEGIN:STANDARD
TZOFFSETFROM:-0700
TZOFFSETTO:-0800
TZNAME:PST
DTSTART:20231105T090000
END:STANDARD
BEGIN:DAYLIGHT
TZOFFSETFROM:-0800
TZOFFSETTO:-0700
TZNAME:PDT
DTSTART:20240310T100000
END:DAYLIGHT
BEGIN:STANDARD
TZOFFSETFROM:-0700
TZOFFSETTO:-0800
TZNAME:PST
DTSTART:20241103T090000
END:STANDARD
BEGIN:DAYLIGHT
TZOFFSETFROM:-0800
TZOFFSETTO:-0700
TZNAME:PDT
DTSTART:20250309T100000
END:DAYLIGHT
BEGIN:STANDARD
TZOFFSETFROM:-0700
TZOFFSETTO:-0800
TZNAME:PST
DTSTART:20251102T090000
END:STANDARD
BEGIN:DAYLIGHT
TZOFFSETFROM:-0800
TZOFFSETTO:-0700
TZNAME:PDT
DTSTART:20260308T100000
END:DAYLIGHT
BEGIN:STANDARD
TZOFFSETFROM:-0700
TZOFFSETTO:-0800
TZNAME:PST
DTSTART:20261101T090000
END:STANDARD
END:VTIMEZONE
BEGIN:VEVENT
DTSTART;TZID=America/Los_Angeles:20250919T180000
DTEND;TZID=America/Los_Angeles:20250919T210000
DTSTAMP:20260423T013247
CREATED:20250901T091840Z
LAST-MODIFIED:20250901T091840Z
UID:10004330-1758304800-1758315600@downtownglendale.com
SUMMARY:Glendale Chamber of Commerce Presents "Masquerade Gala 2025"
DESCRIPTION:The Glendale Chamber of Commerce Presents \n“MASQUERADE GALA 2025” \nDate & Time: Friday\, September 19\, 2025 at 6:00pm \nLocation: The Museum Plaza and Hall at Forest Lawn
URL:https://downtownglendale.com/event/glendale-chamber-of-commerce-presents-masquerade-gala-2025/
LOCATION:Forest Lawn Museum\, 1712 S. Glendale Ave.\, Glendale\, CA\, United States
GEO:34.1247166;-118.2515038
X-APPLE-STRUCTURED-LOCATION;VALUE=URI;X-ADDRESS=Forest Lawn Museum 1712 S. Glendale Ave. Glendale CA United States;X-APPLE-RADIUS=500;X-TITLE=1712 S. Glendale Ave.:geo:-118.2515038,34.1247166
END:VEVENT
BEGIN:VEVENT
DTSTART;TZID=America/Los_Angeles:20131107T180000
DTEND;TZID=America/Los_Angeles:20131107T210000
DTSTAMP:20260423T013247
CREATED:20130909T184437Z
LAST-MODIFIED:20130909T184437Z
UID:10002860-1383847200-1383858000@downtownglendale.com
SUMMARY:Art Exhibit Fundraiser - Glendale Youth Alliance
DESCRIPTION:“Glendale Youth Alliance’s second Art Exhibit Fundraiser will be held Thursday\, November 7\, 2013.  The evening of art and culture is expected to host over 300 guests and 100 pieces of art to raise funds for Glendale youth workforce.\n    Artists are invited to submit their work by the September 13th deadline for the opportunity to mingle with local art patrons as well as other artists\, describe their work\, and make contacts for potential future sales. A program book will be distributed to all event attendees that will include the artist’s biography and a picture and description of the artist work. Please visit the GYA website or contact Tina Osborn at (818) 548-8271 for the ‘Call for Artist Overview’ and proposal form.”
URL:https://downtownglendale.com/event/art-exhibit-fundraiser-glendale-youth-alliance/
LOCATION:Forest Lawn Museum\, 1712 S. Glendale Ave.\, Glendale\, CA\, United States
GEO:34.1247166;-118.2515038
X-APPLE-STRUCTURED-LOCATION;VALUE=URI;X-ADDRESS=Forest Lawn Museum 1712 S. Glendale Ave. Glendale CA United States;X-APPLE-RADIUS=500;X-TITLE=1712 S. Glendale Ave.:geo:-118.2515038,34.1247166
END:VEVENT
END:VCALENDAR