BEGIN:VCALENDAR
VERSION:2.0
PRODID:-//Downtown Glendale - ECPv6.15.20//NONSGML v1.0//EN
CALSCALE:GREGORIAN
METHOD:PUBLISH
X-ORIGINAL-URL:https://downtownglendale.com
X-WR-CALDESC:Events for Downtown Glendale
REFRESH-INTERVAL;VALUE=DURATION:PT1H
X-Robots-Tag:noindex
X-PUBLISHED-TTL:PT1H
BEGIN:VTIMEZONE
TZID:America/Los_Angeles
BEGIN:DAYLIGHT
TZOFFSETFROM:-0800
TZOFFSETTO:-0700
TZNAME:PDT
DTSTART:20120311T100000
END:DAYLIGHT
BEGIN:STANDARD
TZOFFSETFROM:-0700
TZOFFSETTO:-0800
TZNAME:PST
DTSTART:20121104T090000
END:STANDARD
BEGIN:DAYLIGHT
TZOFFSETFROM:-0800
TZOFFSETTO:-0700
TZNAME:PDT
DTSTART:20130310T100000
END:DAYLIGHT
BEGIN:STANDARD
TZOFFSETFROM:-0700
TZOFFSETTO:-0800
TZNAME:PST
DTSTART:20131103T090000
END:STANDARD
BEGIN:DAYLIGHT
TZOFFSETFROM:-0800
TZOFFSETTO:-0700
TZNAME:PDT
DTSTART:20140309T100000
END:DAYLIGHT
BEGIN:STANDARD
TZOFFSETFROM:-0700
TZOFFSETTO:-0800
TZNAME:PST
DTSTART:20141102T090000
END:STANDARD
BEGIN:DAYLIGHT
TZOFFSETFROM:-0800
TZOFFSETTO:-0700
TZNAME:PDT
DTSTART:20150308T100000
END:DAYLIGHT
BEGIN:STANDARD
TZOFFSETFROM:-0700
TZOFFSETTO:-0800
TZNAME:PST
DTSTART:20151101T090000
END:STANDARD
END:VTIMEZONE
BEGIN:VEVENT
DTSTART;TZID=America/Los_Angeles:20140424T160000
DTEND;TZID=America/Los_Angeles:20140424T170000
DTSTAMP:20260422T040906
CREATED:20140325T195558Z
LAST-MODIFIED:20140325T195600Z
UID:10002886-1398355200-1398358800@downtownglendale.com
SUMMARY:Land Use and Developement Review Subcommittee
DESCRIPTION:
URL:https://downtownglendale.com/event/land-use-and-developement-review-subcommittee/
LOCATION:Glendale Chamber of Commerce\, 701 N. Brand Blvd.\, Suite 120\, Glendale\, CA\, 91203\, United States
GEO:34.157147;-118.25568
X-APPLE-STRUCTURED-LOCATION;VALUE=URI;X-ADDRESS=Glendale Chamber of Commerce 701 N. Brand Blvd. Suite 120 Glendale CA 91203 United States;X-APPLE-RADIUS=500;X-TITLE=701 N. Brand Blvd.\, Suite 120:geo:-118.25568,34.157147
END:VEVENT
BEGIN:VEVENT
DTSTART;TZID=America/Los_Angeles:20140421T083000
DTEND;TZID=America/Los_Angeles:20140421T093000
DTSTAMP:20260422T040906
CREATED:20140325T195334Z
LAST-MODIFIED:20140325T195334Z
UID:10002885-1398069000-1398072600@downtownglendale.com
SUMMARY:Transportation Committee Meeting
DESCRIPTION:
URL:https://downtownglendale.com/event/transportation-committee-meeting/
LOCATION:Glendale Chamber of Commerce\, 701 N. Brand Blvd.\, Suite 120\, Glendale\, CA\, 91203\, United States
ORGANIZER;CN="Glendale Chamber of Commerce":MAILTO:info@glendalechamber.com
GEO:34.157147;-118.25568
X-APPLE-STRUCTURED-LOCATION;VALUE=URI;X-ADDRESS=Glendale Chamber of Commerce 701 N. Brand Blvd. Suite 120 Glendale CA 91203 United States;X-APPLE-RADIUS=500;X-TITLE=701 N. Brand Blvd.\, Suite 120:geo:-118.25568,34.157147
END:VEVENT
BEGIN:VEVENT
DTSTART;TZID=America/Los_Angeles:20140318T120000
DTEND;TZID=America/Los_Angeles:20140318T133000
DTSTAMP:20260422T040906
CREATED:20140227T180523Z
LAST-MODIFIED:20140227T180523Z
UID:10003041-1395144000-1395149400@downtownglendale.com
SUMMARY:Glendale Chamber of Commerce - Board of Directors March Meeting
DESCRIPTION:Details\n\nDate:\nMarch 18\, 2014\nTime:\n12:00 pm – 1:30 pm\nEvent Category:\nBoard Meetings\n\n\n\nOrganizer\n\nGlendale Chamber of Commerce\nPhone:\n(818) 240-7870\nEmail:\ninfo@glendalechamber.com\nWebsite:\nhttp://www.glendalechamber.com
URL:https://downtownglendale.com/event/glendale-chamber-of-commerce-board-of-directors-march-meeting/
LOCATION:Glendale Chamber of Commerce\, 701 N. Brand Blvd.\, Suite 120\, Glendale\, CA\, 91203\, United States
ORGANIZER;CN="Glendale Chamber of Commerce":MAILTO:info@glendalechamber.com
GEO:34.157147;-118.25568
X-APPLE-STRUCTURED-LOCATION;VALUE=URI;X-ADDRESS=Glendale Chamber of Commerce 701 N. Brand Blvd. Suite 120 Glendale CA 91203 United States;X-APPLE-RADIUS=500;X-TITLE=701 N. Brand Blvd.\, Suite 120:geo:-118.25568,34.157147
END:VEVENT
BEGIN:VEVENT
DTSTART;TZID=America/Los_Angeles:20140317T083000
DTEND;TZID=America/Los_Angeles:20140317T093000
DTSTAMP:20260422T040906
CREATED:20140227T180253Z
LAST-MODIFIED:20140227T180253Z
UID:10002882-1395045000-1395048600@downtownglendale.com
SUMMARY:Glendale Chamber of Commerce - Transportation Committee Meeting
DESCRIPTION:Call Committee Chair Kathy McClure at (818) 844-0800 to participate \n————————— \n\nDetails\n\nDate:\nMarch 17\, 2014\nTime:\n8:30 am – 9:30 am\nEvent Category:\nCommittee Meetings\n\n\n\nVenue\n\nGlendale Chamber of Commerce\nPhone:\n(818) 240-7870\n\n701 N. Brand Blvd.\,  Glendale\,  CA 91203 United States\n\n\n\n\nOrganizer\n\nGlendale Chamber of Commerce\nPhone:\n(818) 240-7870\nEmail:\ninfo@glendalechamber.com\nWebsite:\nhttp://www.glendalechamber
URL:https://downtownglendale.com/event/glendale-chamber-of-commerce-transportation-committee-meeting-4/
LOCATION:Glendale Chamber of Commerce\, 701 N. Brand Blvd.\, Suite 120\, Glendale\, CA\, 91203\, United States
ORGANIZER;CN="Glendale Chamber of Commerce":MAILTO:info@glendalechamber.com
GEO:34.157147;-118.25568
X-APPLE-STRUCTURED-LOCATION;VALUE=URI;X-ADDRESS=Glendale Chamber of Commerce 701 N. Brand Blvd. Suite 120 Glendale CA 91203 United States;X-APPLE-RADIUS=500;X-TITLE=701 N. Brand Blvd.\, Suite 120:geo:-118.25568,34.157147
END:VEVENT
BEGIN:VEVENT
DTSTART;TZID=America/Los_Angeles:20140313T160000
DTEND;TZID=America/Los_Angeles:20140313T180000
DTSTAMP:20260422T040906
CREATED:20140227T175927Z
LAST-MODIFIED:20140227T175927Z
UID:10002881-1394726400-1394733600@downtownglendale.com
SUMMARY:Glendale Chamber of Commerce - Executive Council Meeting
DESCRIPTION:Details\n\nDate:\nMarch 13\, 2014\nTime:\n4:00 pm – 6:00 pm\nEvent Category:\nBoard Meetings\n\n\n\nOrganizer\n\nGlendale Chamber of Commerce\nPhone:\n(818) 240-7870\nEmail:\ninfo@glendalechamber.com\nWebsite:\nhttp://www.glendalechamber.com
URL:https://downtownglendale.com/event/glendale-chamber-of-commerce-executive-council-meeting-2/
LOCATION:Glendale Chamber of Commerce\, 701 N. Brand Blvd.\, Suite 120\, Glendale\, CA\, 91203\, United States
ORGANIZER;CN="Glendale Chamber of Commerce":MAILTO:info@glendalechamber.com
GEO:34.157147;-118.25568
X-APPLE-STRUCTURED-LOCATION;VALUE=URI;X-ADDRESS=Glendale Chamber of Commerce 701 N. Brand Blvd. Suite 120 Glendale CA 91203 United States;X-APPLE-RADIUS=500;X-TITLE=701 N. Brand Blvd.\, Suite 120:geo:-118.25568,34.157147
END:VEVENT
BEGIN:VEVENT
DTSTART;TZID=America/Los_Angeles:20140312T164500
DTEND;TZID=America/Los_Angeles:20140312T180000
DTSTAMP:20260422T040906
CREATED:20140227T175645Z
LAST-MODIFIED:20140227T175645Z
UID:10002880-1394642700-1394647200@downtownglendale.com
SUMMARY:Glendale Chamber of Commerce - Ambassador Meeting
DESCRIPTION:
URL:https://downtownglendale.com/event/glendale-chamber-of-commerce-ambassador-meeting-3/
LOCATION:Glendale Chamber of Commerce\, 701 N. Brand Blvd.\, Suite 120\, Glendale\, CA\, 91203\, United States
ORGANIZER;CN="Glendale Chamber of Commerce":MAILTO:info@glendalechamber.com
GEO:34.157147;-118.25568
X-APPLE-STRUCTURED-LOCATION;VALUE=URI;X-ADDRESS=Glendale Chamber of Commerce 701 N. Brand Blvd. Suite 120 Glendale CA 91203 United States;X-APPLE-RADIUS=500;X-TITLE=701 N. Brand Blvd.\, Suite 120:geo:-118.25568,34.157147
END:VEVENT
BEGIN:VEVENT
DTSTART;TZID=America/Los_Angeles:20140312T090000
DTEND;TZID=America/Los_Angeles:20140312T170000
DTSTAMP:20260422T040906
CREATED:20140227T175423Z
LAST-MODIFIED:20140227T175423Z
UID:10002879-1394614800-1394643600@downtownglendale.com
SUMMARY:Glendale Chamber of Commerce - Leadership Glendale
DESCRIPTION:Contact the Chamber for information.
URL:https://downtownglendale.com/event/glendale-chamber-of-commerce-leadership-glendale/
LOCATION:Glendale Chamber of Commerce\, 701 N. Brand Blvd.\, Suite 120\, Glendale\, CA\, 91203\, United States
ORGANIZER;CN="Glendale Chamber of Commerce":MAILTO:info@glendalechamber.com
GEO:34.157147;-118.25568
X-APPLE-STRUCTURED-LOCATION;VALUE=URI;X-ADDRESS=Glendale Chamber of Commerce 701 N. Brand Blvd. Suite 120 Glendale CA 91203 United States;X-APPLE-RADIUS=500;X-TITLE=701 N. Brand Blvd.\, Suite 120:geo:-118.25568,34.157147
END:VEVENT
BEGIN:VEVENT
DTSTART;TZID=America/Los_Angeles:20140306T083000
DTEND;TZID=America/Los_Angeles:20140306T093000
DTSTAMP:20260422T040906
CREATED:20140227T175157Z
LAST-MODIFIED:20140227T175157Z
UID:10002878-1394094600-1394098200@downtownglendale.com
SUMMARY:Chamber of Commerce - Advocacy and Government Relations Committee
DESCRIPTION:The Chamber’s Advocacy and Government Relations Committee provides a forum for and study of business issues and concerns among the Chamber membership\, City and County. The committee recommends positions when needed to the Chamber’s Executive Committee for consideration by the Board of Directors\, and reviews and submits policy positions on business-related legislative and regulatory issues affecting the Chamber membership and/or of general concern in the community. \nChamber members in good standing are invited to call or email President-CEO Judee Kendall at 818-240-7870 or jkendall@glendalechamber.com should they have an interest in being appointed to this committee.
URL:https://downtownglendale.com/event/chamber-of-commerce-advocacy-and-government-relations-committee/
LOCATION:Glendale Chamber of Commerce\, 701 N. Brand Blvd.\, Suite 120\, Glendale\, CA\, 91203\, United States
GEO:34.157147;-118.25568
X-APPLE-STRUCTURED-LOCATION;VALUE=URI;X-ADDRESS=Glendale Chamber of Commerce 701 N. Brand Blvd. Suite 120 Glendale CA 91203 United States;X-APPLE-RADIUS=500;X-TITLE=701 N. Brand Blvd.\, Suite 120:geo:-118.25568,34.157147
END:VEVENT
BEGIN:VEVENT
DTSTART;TZID=America/Los_Angeles:20140227T160000
DTEND;TZID=America/Los_Angeles:20140227T170000
DTSTAMP:20260422T040906
CREATED:20140128T190602Z
LAST-MODIFIED:20140128T190602Z
UID:10003025-1393516800-1393520400@downtownglendale.com
SUMMARY:Glendale Chamber of Commerce - Land Use and Development Review Subcommittee
DESCRIPTION:Located in the Chamber Conference Room
URL:https://downtownglendale.com/event/glendale-chamber-of-commerce-land-use-and-development-review-subcommittee/
LOCATION:Glendale Chamber of Commerce\, 701 N. Brand Blvd.\, Suite 120\, Glendale\, CA\, 91203\, United States
ORGANIZER;CN="Glendale Chamber of Commerce":MAILTO:info@glendalechamber.com
GEO:34.157147;-118.25568
X-APPLE-STRUCTURED-LOCATION;VALUE=URI;X-ADDRESS=Glendale Chamber of Commerce 701 N. Brand Blvd. Suite 120 Glendale CA 91203 United States;X-APPLE-RADIUS=500;X-TITLE=701 N. Brand Blvd.\, Suite 120:geo:-118.25568,34.157147
END:VEVENT
BEGIN:VEVENT
DTSTART;TZID=America/Los_Angeles:20140218T120000
DTEND;TZID=America/Los_Angeles:20140218T133000
DTSTAMP:20260422T040906
CREATED:20140128T190158Z
LAST-MODIFIED:20140128T190248Z
UID:10003024-1392724800-1392730200@downtownglendale.com
SUMMARY:Glendale Chamber of Commerce - Board of Directors Meeting
DESCRIPTION:Location TBA
URL:https://downtownglendale.com/event/glendale-chamber-of-commerce-board-of-directors-meeting-3/
LOCATION:Glendale Chamber of Commerce\, 701 N. Brand Blvd.\, Suite 120\, Glendale\, CA\, 91203\, United States
GEO:34.157147;-118.25568
X-APPLE-STRUCTURED-LOCATION;VALUE=URI;X-ADDRESS=Glendale Chamber of Commerce 701 N. Brand Blvd. Suite 120 Glendale CA 91203 United States;X-APPLE-RADIUS=500;X-TITLE=701 N. Brand Blvd.\, Suite 120:geo:-118.25568,34.157147
END:VEVENT
BEGIN:VEVENT
DTSTART;TZID=America/Los_Angeles:20140217T083000
DTEND;TZID=America/Los_Angeles:20140217T093000
DTSTAMP:20260422T040906
CREATED:20140128T185931Z
LAST-MODIFIED:20140128T185931Z
UID:10003023-1392625800-1392629400@downtownglendale.com
SUMMARY:Glendale Chamber of Commerce - Transportation Committee Meeting
DESCRIPTION:Located in the Glendale Chamber Conference Room
URL:https://downtownglendale.com/event/glendale-chamber-of-commerce-transportation-committee-meeting-3/
LOCATION:Glendale Chamber of Commerce\, 701 N. Brand Blvd.\, Suite 120\, Glendale\, CA\, 91203\, United States
ORGANIZER;CN="Glendale Chamber of Commerce":MAILTO:info@glendalechamber.com
GEO:34.157147;-118.25568
X-APPLE-STRUCTURED-LOCATION;VALUE=URI;X-ADDRESS=Glendale Chamber of Commerce 701 N. Brand Blvd. Suite 120 Glendale CA 91203 United States;X-APPLE-RADIUS=500;X-TITLE=701 N. Brand Blvd.\, Suite 120:geo:-118.25568,34.157147
END:VEVENT
BEGIN:VEVENT
DTSTART;TZID=America/Los_Angeles:20140213T160000
DTEND;TZID=America/Los_Angeles:20140213T180000
DTSTAMP:20260422T040906
CREATED:20140128T185629Z
LAST-MODIFIED:20140128T185629Z
UID:10002872-1392307200-1392314400@downtownglendale.com
SUMMARY:Glendale Chamber of Commerce - Executive Council Meeting
DESCRIPTION:Located in the Glendale Chamber Conference Room
URL:https://downtownglendale.com/event/glendale-chamber-of-commerce-executive-council-meeting/
LOCATION:Glendale Chamber of Commerce\, 701 N. Brand Blvd.\, Suite 120\, Glendale\, CA\, 91203\, United States
ORGANIZER;CN="Glendale Chamber of Commerce":MAILTO:info@glendalechamber.com
GEO:34.157147;-118.25568
X-APPLE-STRUCTURED-LOCATION;VALUE=URI;X-ADDRESS=Glendale Chamber of Commerce 701 N. Brand Blvd. Suite 120 Glendale CA 91203 United States;X-APPLE-RADIUS=500;X-TITLE=701 N. Brand Blvd.\, Suite 120:geo:-118.25568,34.157147
END:VEVENT
BEGIN:VEVENT
DTSTART;TZID=America/Los_Angeles:20140212T164500
DTEND;TZID=America/Los_Angeles:20140212T180000
DTSTAMP:20260422T040906
CREATED:20140128T185415Z
LAST-MODIFIED:20140711T092838Z
UID:10002871-1392223500-1392228000@downtownglendale.com
SUMMARY:Glendale Chamber of Commerce - Ambassador Meeting
DESCRIPTION:Located in the Glendale Chamber Conference Room
URL:https://downtownglendale.com/event/glendale-chamber-of-commerce-ambassador-meeting-2/
LOCATION:Glendale Chamber of Commerce\, 701 N. Brand Blvd.\, Suite 120\, Glendale\, CA\, 91203\, United States
ORGANIZER;CN="Glendale Chamber of Commerce":MAILTO:info@glendalechamber.com
GEO:34.157147;-118.25568
X-APPLE-STRUCTURED-LOCATION;VALUE=URI;X-ADDRESS=Glendale Chamber of Commerce 701 N. Brand Blvd. Suite 120 Glendale CA 91203 United States;X-APPLE-RADIUS=500;X-TITLE=701 N. Brand Blvd.\, Suite 120:geo:-118.25568,34.157147
END:VEVENT
BEGIN:VEVENT
DTSTART;TZID=America/Los_Angeles:20140206T083000
DTEND;TZID=America/Los_Angeles:20140206T093000
DTSTAMP:20260422T040906
CREATED:20140128T185118Z
LAST-MODIFIED:20140128T185118Z
UID:10002870-1391675400-1391679000@downtownglendale.com
SUMMARY:Glendale Chamber of Commerce - Advocacy and Government Relations Committee
DESCRIPTION:
URL:https://downtownglendale.com/event/glendale-chamber-of-commerce-advocacy-and-government-relations-committee/
LOCATION:Glendale Chamber of Commerce\, 701 N. Brand Blvd.\, Suite 120\, Glendale\, CA\, 91203\, United States
ORGANIZER;CN="Glendale Chamber of Commerce":MAILTO:info@glendalechamber.com
GEO:34.157147;-118.25568
X-APPLE-STRUCTURED-LOCATION;VALUE=URI;X-ADDRESS=Glendale Chamber of Commerce 701 N. Brand Blvd. Suite 120 Glendale CA 91203 United States;X-APPLE-RADIUS=500;X-TITLE=701 N. Brand Blvd.\, Suite 120:geo:-118.25568,34.157147
END:VEVENT
BEGIN:VEVENT
DTSTART;TZID=America/Los_Angeles:20140120T083000
DTEND;TZID=America/Los_Angeles:20140120T093000
DTSTAMP:20260422T040906
CREATED:20140115T172025Z
LAST-MODIFIED:20140115T172025Z
UID:10003013-1390206600-1390210200@downtownglendale.com
SUMMARY:Transportation Committee Meeting - Glendale Chamber of Commerce
DESCRIPTION:Location: Glendale Chamber Conference Room
URL:https://downtownglendale.com/event/transportation-committee-meeting-glendale-chamber-of-commerce/
LOCATION:Glendale Chamber of Commerce\, 701 N. Brand Blvd.\, Suite 120\, Glendale\, CA\, 91203\, United States
ORGANIZER;CN="Glendale Chamber of Commerce":MAILTO:info@glendalechamber.com
GEO:34.157147;-118.25568
X-APPLE-STRUCTURED-LOCATION;VALUE=URI;X-ADDRESS=Glendale Chamber of Commerce 701 N. Brand Blvd. Suite 120 Glendale CA 91203 United States;X-APPLE-RADIUS=500;X-TITLE=701 N. Brand Blvd.\, Suite 120:geo:-118.25568,34.157147
END:VEVENT
BEGIN:VEVENT
DTSTART;TZID=America/Los_Angeles:20140116T040000
DTEND;TZID=America/Los_Angeles:20140116T180000
DTSTAMP:20260422T040906
CREATED:20140115T171829Z
LAST-MODIFIED:20140115T172118Z
UID:10003011-1389844800-1389895200@downtownglendale.com
SUMMARY:Executive Council Meeting - Glendale Chamber of Commerce
DESCRIPTION:Location – Glendale Chamber Conference Room
URL:https://downtownglendale.com/event/executive-council-meeting-glendale-chamber-of-commerce/
LOCATION:Glendale Chamber of Commerce\, 701 N. Brand Blvd.\, Suite 120\, Glendale\, CA\, 91203\, United States
ORGANIZER;CN="Glendale Chamber of Commerce":MAILTO:info@glendalechamber.com
GEO:34.157147;-118.25568
X-APPLE-STRUCTURED-LOCATION;VALUE=URI;X-ADDRESS=Glendale Chamber of Commerce 701 N. Brand Blvd. Suite 120 Glendale CA 91203 United States;X-APPLE-RADIUS=500;X-TITLE=701 N. Brand Blvd.\, Suite 120:geo:-118.25568,34.157147
END:VEVENT
BEGIN:VEVENT
DTSTART;TZID=America/Los_Angeles:20140115T120000
DTEND;TZID=America/Los_Angeles:20140115T133000
DTSTAMP:20260422T040906
CREATED:20140115T172237Z
LAST-MODIFIED:20140115T172237Z
UID:10003015-1389787200-1389792600@downtownglendale.com
SUMMARY:Glendale Chamber of Commerce Board of Directors Meeting
DESCRIPTION:
URL:https://downtownglendale.com/event/glendale-chamber-of-commerce-board-of-directors-meeting-2/
LOCATION:Glendale Chamber of Commerce\, 701 N. Brand Blvd.\, Suite 120\, Glendale\, CA\, 91203\, United States
ORGANIZER;CN="Glendale Chamber of Commerce":MAILTO:info@glendalechamber.com
GEO:34.157147;-118.25568
X-APPLE-STRUCTURED-LOCATION;VALUE=URI;X-ADDRESS=Glendale Chamber of Commerce 701 N. Brand Blvd. Suite 120 Glendale CA 91203 United States;X-APPLE-RADIUS=500;X-TITLE=701 N. Brand Blvd.\, Suite 120:geo:-118.25568,34.157147
END:VEVENT
BEGIN:VEVENT
DTSTART;TZID=America/Los_Angeles:20131217T120000
DTEND;TZID=America/Los_Angeles:20131217T133000
DTSTAMP:20260422T040906
CREATED:20131125T200709Z
LAST-MODIFIED:20131125T200709Z
UID:10002995-1387281600-1387287000@downtownglendale.com
SUMMARY:Commerce Board of Directors December Meeting
DESCRIPTION:Contact Judee Kendall at the Glendale Chamber of Commerce for more information.
URL:https://downtownglendale.com/event/commerce-board-of-directors-december-meeting/
LOCATION:Glendale Chamber of Commerce\, 701 N. Brand Blvd.\, Suite 120\, Glendale\, CA\, 91203\, United States
ORGANIZER;CN="Glendale Chamber of Commerce":MAILTO:info@glendalechamber.com
GEO:34.157147;-118.25568
X-APPLE-STRUCTURED-LOCATION;VALUE=URI;X-ADDRESS=Glendale Chamber of Commerce 701 N. Brand Blvd. Suite 120 Glendale CA 91203 United States;X-APPLE-RADIUS=500;X-TITLE=701 N. Brand Blvd.\, Suite 120:geo:-118.25568,34.157147
END:VEVENT
BEGIN:VEVENT
DTSTART;TZID=America/Los_Angeles:20131216T083000
DTEND;TZID=America/Los_Angeles:20131216T093000
DTSTAMP:20260422T040906
CREATED:20131202T205223Z
LAST-MODIFIED:20131202T205223Z
UID:10002999-1387182600-1387186200@downtownglendale.com
SUMMARY:Chamber of Commerce - Transportation Committee Meeting
DESCRIPTION:Taking place at the Glendale Chamber of Commerce Conference Rm. \n701 N. Brand Blvd. Ste 120 \nGlendale\, CA
URL:https://downtownglendale.com/event/chamber-of-commerce-transportation-committee-meeting/
LOCATION:Glendale Chamber of Commerce\, 701 N. Brand Blvd.\, Suite 120\, Glendale\, CA\, 91203\, United States
ORGANIZER;CN="Glendale Chamber of Commerce":MAILTO:info@glendalechamber.com
GEO:34.157147;-118.25568
X-APPLE-STRUCTURED-LOCATION;VALUE=URI;X-ADDRESS=Glendale Chamber of Commerce 701 N. Brand Blvd. Suite 120 Glendale CA 91203 United States;X-APPLE-RADIUS=500;X-TITLE=701 N. Brand Blvd.\, Suite 120:geo:-118.25568,34.157147
END:VEVENT
BEGIN:VEVENT
DTSTART;TZID=America/Los_Angeles:20131212T160000
DTEND;TZID=America/Los_Angeles:20131212T180000
DTSTAMP:20260422T040906
CREATED:20131202T204952Z
LAST-MODIFIED:20131202T204952Z
UID:10002998-1386864000-1386871200@downtownglendale.com
SUMMARY:Chamber of Commerce - Executive Council Meeting
DESCRIPTION:Taking place at the Glendale Chamber of Commerce Conference rm.
URL:https://downtownglendale.com/event/chamber-of-commerce-executive-council-meeting/
LOCATION:Glendale Chamber of Commerce\, 701 N. Brand Blvd.\, Suite 120\, Glendale\, CA\, 91203\, United States
ORGANIZER;CN="Glendale Chamber of Commerce":MAILTO:info@glendalechamber.com
GEO:34.157147;-118.25568
X-APPLE-STRUCTURED-LOCATION;VALUE=URI;X-ADDRESS=Glendale Chamber of Commerce 701 N. Brand Blvd. Suite 120 Glendale CA 91203 United States;X-APPLE-RADIUS=500;X-TITLE=701 N. Brand Blvd.\, Suite 120:geo:-118.25568,34.157147
END:VEVENT
BEGIN:VEVENT
DTSTART;TZID=America/Los_Angeles:20131205T083000
DTEND;TZID=America/Los_Angeles:20131205T093000
DTSTAMP:20260422T040906
CREATED:20131125T195854Z
LAST-MODIFIED:20131125T195854Z
UID:10002992-1386232200-1386235800@downtownglendale.com
SUMMARY:Advocacy and Government Relations Committee
DESCRIPTION:The Chamber’s Advocacy and Government Relations Committee provides a forum for and study of business issues and concerns among the Chamber membership\, City and County. The committee recommends positions when needed to the Chamber’s Executive Committee for consideration by the Board of Directors\, and reviews and submits policy positions on business-related legislative and regulatory issues affecting the Chamber membership and/or of general concern in the community.\nChamber members in good standing are invited to call or email President – CEO Judee Kendall at 818-240-7870 or jkendall@glendalechamber.com should they have an interest in being appointed to this committee.
URL:https://downtownglendale.com/event/advocacy-and-government-relations-committee/
LOCATION:Glendale Chamber of Commerce\, 701 N. Brand Blvd.\, Suite 120\, Glendale\, CA\, 91203\, United States
GEO:34.157147;-118.25568
X-APPLE-STRUCTURED-LOCATION;VALUE=URI;X-ADDRESS=Glendale Chamber of Commerce 701 N. Brand Blvd. Suite 120 Glendale CA 91203 United States;X-APPLE-RADIUS=500;X-TITLE=701 N. Brand Blvd.\, Suite 120:geo:-118.25568,34.157147
END:VEVENT
BEGIN:VEVENT
DTSTART;TZID=America/Los_Angeles:20131118T083000
DTEND;TZID=America/Los_Angeles:20131118T093000
DTSTAMP:20260422T040906
CREATED:20131106T191616Z
LAST-MODIFIED:20131106T191616Z
UID:10002970-1384763400-1384767000@downtownglendale.com
SUMMARY:Glendale Chamber of Commerce - Transportation Committee Meeting
DESCRIPTION:Glendale Chamber of Commerce Conference Room \n701 N. Brand Blvd. Suite 120
URL:https://downtownglendale.com/event/glendale-chamber-of-commerce-transportation-committee-meeting-2/
LOCATION:Glendale Chamber of Commerce\, 701 N. Brand Blvd.\, Suite 120\, Glendale\, CA\, 91203\, United States
GEO:34.157147;-118.25568
X-APPLE-STRUCTURED-LOCATION;VALUE=URI;X-ADDRESS=Glendale Chamber of Commerce 701 N. Brand Blvd. Suite 120 Glendale CA 91203 United States;X-APPLE-RADIUS=500;X-TITLE=701 N. Brand Blvd.\, Suite 120:geo:-118.25568,34.157147
END:VEVENT
BEGIN:VEVENT
DTSTART;TZID=America/Los_Angeles:20131113T164500
DTEND;TZID=America/Los_Angeles:20131113T180000
DTSTAMP:20260422T040906
CREATED:20131105T185712Z
LAST-MODIFIED:20131105T185712Z
UID:10002968-1384361100-1384365600@downtownglendale.com
SUMMARY:Glendale Chamber of Commerce - Ambassador Meeting
DESCRIPTION:Glendale Chamber of Commerce Conference Room
URL:https://downtownglendale.com/event/glendale-chamber-of-commerce-ambassador-meeting/
LOCATION:Glendale Chamber of Commerce\, 701 N. Brand Blvd.\, Suite 120\, Glendale\, CA\, 91203\, United States
GEO:34.157147;-118.25568
X-APPLE-STRUCTURED-LOCATION;VALUE=URI;X-ADDRESS=Glendale Chamber of Commerce 701 N. Brand Blvd. Suite 120 Glendale CA 91203 United States;X-APPLE-RADIUS=500;X-TITLE=701 N. Brand Blvd.\, Suite 120:geo:-118.25568,34.157147
END:VEVENT
BEGIN:VEVENT
DTSTART;TZID=America/Los_Angeles:20131107T083000
DTEND;TZID=America/Los_Angeles:20131107T093000
DTSTAMP:20260422T040906
CREATED:20131105T185507Z
LAST-MODIFIED:20131105T185507Z
UID:10002966-1383813000-1383816600@downtownglendale.com
SUMMARY:Advocacy and Government Relations Committee Meeting
DESCRIPTION:Glendale Chamber of Commerce Conference Room
URL:https://downtownglendale.com/event/advocacy-and-government-relations-committee-meeting-2/
LOCATION:Glendale Chamber of Commerce\, 701 N. Brand Blvd.\, Suite 120\, Glendale\, CA\, 91203\, United States
GEO:34.157147;-118.25568
X-APPLE-STRUCTURED-LOCATION;VALUE=URI;X-ADDRESS=Glendale Chamber of Commerce 701 N. Brand Blvd. Suite 120 Glendale CA 91203 United States;X-APPLE-RADIUS=500;X-TITLE=701 N. Brand Blvd.\, Suite 120:geo:-118.25568,34.157147
END:VEVENT
BEGIN:VEVENT
DTSTART;TZID=America/Los_Angeles:20131021T083000
DTEND;TZID=America/Los_Angeles:20131021T093000
DTSTAMP:20260422T040906
CREATED:20131002T181116Z
LAST-MODIFIED:20131002T181116Z
UID:10002947-1382344200-1382347800@downtownglendale.com
SUMMARY:Glendale Chamber of Commerce - Transportation Committee Meeting
DESCRIPTION:Located at Glendale Chamber Conference Room
URL:https://downtownglendale.com/event/glendale-chamber-of-commerce-transportation-committee-meeting/
LOCATION:Glendale Chamber of Commerce\, 701 N. Brand Blvd.\, Suite 120\, Glendale\, CA\, 91203\, United States
GEO:34.157147;-118.25568
X-APPLE-STRUCTURED-LOCATION;VALUE=URI;X-ADDRESS=Glendale Chamber of Commerce 701 N. Brand Blvd. Suite 120 Glendale CA 91203 United States;X-APPLE-RADIUS=500;X-TITLE=701 N. Brand Blvd.\, Suite 120:geo:-118.25568,34.157147
END:VEVENT
BEGIN:VEVENT
DTSTART;TZID=America/Los_Angeles:20131015T120000
DTEND;TZID=America/Los_Angeles:20131015T133000
DTSTAMP:20260422T040906
CREATED:20131002T180314Z
LAST-MODIFIED:20131002T180314Z
UID:10002944-1381838400-1381843800@downtownglendale.com
SUMMARY:Board of Directors Meeting
DESCRIPTION:Location: TBA
URL:https://downtownglendale.com/event/board-of-directors-meeting/
LOCATION:Glendale Chamber of Commerce\, 701 N. Brand Blvd.\, Suite 120\, Glendale\, CA\, 91203\, United States
GEO:34.157147;-118.25568
X-APPLE-STRUCTURED-LOCATION;VALUE=URI;X-ADDRESS=Glendale Chamber of Commerce 701 N. Brand Blvd. Suite 120 Glendale CA 91203 United States;X-APPLE-RADIUS=500;X-TITLE=701 N. Brand Blvd.\, Suite 120:geo:-118.25568,34.157147
END:VEVENT
BEGIN:VEVENT
DTSTART;TZID=America/Los_Angeles:20131015T120000
DTEND;TZID=America/Los_Angeles:20131015T123000
DTSTAMP:20260422T040906
CREATED:20131002T180445Z
LAST-MODIFIED:20131002T180445Z
UID:10002945-1381838400-1381840200@downtownglendale.com
SUMMARY:Deadline for October 2013 Monthly Mailing
DESCRIPTION:Glendale Chamber of Commerce Office
URL:https://downtownglendale.com/event/deadline-for-october-2013-monthly-mailing/
LOCATION:Glendale Chamber of Commerce\, 701 N. Brand Blvd.\, Suite 120\, Glendale\, CA\, 91203\, United States
GEO:34.157147;-118.25568
X-APPLE-STRUCTURED-LOCATION;VALUE=URI;X-ADDRESS=Glendale Chamber of Commerce 701 N. Brand Blvd. Suite 120 Glendale CA 91203 United States;X-APPLE-RADIUS=500;X-TITLE=701 N. Brand Blvd.\, Suite 120:geo:-118.25568,34.157147
END:VEVENT
BEGIN:VEVENT
DTSTART;TZID=America/Los_Angeles:20131010T160000
DTEND;TZID=America/Los_Angeles:20131010T180000
DTSTAMP:20260422T040906
CREATED:20131002T180144Z
LAST-MODIFIED:20131002T180944Z
UID:10002943-1381420800-1381428000@downtownglendale.com
SUMMARY:Glendale Chamber of Commerce - Executive Council Meeting
DESCRIPTION:Located at Glendale Chamber Conference Room
URL:https://downtownglendale.com/event/executive-council-meeting/
LOCATION:Glendale Chamber of Commerce\, 701 N. Brand Blvd.\, Suite 120\, Glendale\, CA\, 91203\, United States
GEO:34.157147;-118.25568
X-APPLE-STRUCTURED-LOCATION;VALUE=URI;X-ADDRESS=Glendale Chamber of Commerce 701 N. Brand Blvd. Suite 120 Glendale CA 91203 United States;X-APPLE-RADIUS=500;X-TITLE=701 N. Brand Blvd.\, Suite 120:geo:-118.25568,34.157147
END:VEVENT
BEGIN:VEVENT
DTSTART;TZID=America/Los_Angeles:20131009T164500
DTEND;TZID=America/Los_Angeles:20131009T180000
DTSTAMP:20260422T040906
CREATED:20131002T175955Z
LAST-MODIFIED:20131002T180822Z
UID:10002942-1381337100-1381341600@downtownglendale.com
SUMMARY:Glendale Chamber of Commerce - Ambassador Meeting
DESCRIPTION:Located at Glendale Chamber Conference Room
URL:https://downtownglendale.com/event/ambassador-meeting/
LOCATION:Glendale Chamber of Commerce\, 701 N. Brand Blvd.\, Suite 120\, Glendale\, CA\, 91203\, United States
GEO:34.157147;-118.25568
X-APPLE-STRUCTURED-LOCATION;VALUE=URI;X-ADDRESS=Glendale Chamber of Commerce 701 N. Brand Blvd. Suite 120 Glendale CA 91203 United States;X-APPLE-RADIUS=500;X-TITLE=701 N. Brand Blvd.\, Suite 120:geo:-118.25568,34.157147
END:VEVENT
BEGIN:VEVENT
DTSTART;TZID=America/Los_Angeles:20131003T083000
DTEND;TZID=America/Los_Angeles:20131003T093000
DTSTAMP:20260422T040906
CREATED:20131002T175834Z
LAST-MODIFIED:20131002T180038Z
UID:10002940-1380789000-1380792600@downtownglendale.com
SUMMARY:Advocacy and Government Relations Committee Meeting
DESCRIPTION:Located at Glendale Chamber Conference Room
URL:https://downtownglendale.com/event/advocacy-and-government-relations-committee-meeting/
LOCATION:Glendale Chamber of Commerce\, 701 N. Brand Blvd.\, Suite 120\, Glendale\, CA\, 91203\, United States
GEO:34.157147;-118.25568
X-APPLE-STRUCTURED-LOCATION;VALUE=URI;X-ADDRESS=Glendale Chamber of Commerce 701 N. Brand Blvd. Suite 120 Glendale CA 91203 United States;X-APPLE-RADIUS=500;X-TITLE=701 N. Brand Blvd.\, Suite 120:geo:-118.25568,34.157147
END:VEVENT
END:VCALENDAR