BEGIN:VCALENDAR
VERSION:2.0
PRODID:-//Downtown Glendale - ECPv6.15.20//NONSGML v1.0//EN
CALSCALE:GREGORIAN
METHOD:PUBLISH
X-WR-CALNAME:Downtown Glendale
X-ORIGINAL-URL:https://downtownglendale.com
X-WR-CALDESC:Events for Downtown Glendale
REFRESH-INTERVAL;VALUE=DURATION:PT1H
X-Robots-Tag:noindex
X-PUBLISHED-TTL:PT1H
BEGIN:VTIMEZONE
TZID:America/Los_Angeles
BEGIN:DAYLIGHT
TZOFFSETFROM:-0800
TZOFFSETTO:-0700
TZNAME:PDT
DTSTART:20140309T100000
END:DAYLIGHT
BEGIN:STANDARD
TZOFFSETFROM:-0700
TZOFFSETTO:-0800
TZNAME:PST
DTSTART:20141102T090000
END:STANDARD
BEGIN:DAYLIGHT
TZOFFSETFROM:-0800
TZOFFSETTO:-0700
TZNAME:PDT
DTSTART:20150308T100000
END:DAYLIGHT
BEGIN:STANDARD
TZOFFSETFROM:-0700
TZOFFSETTO:-0800
TZNAME:PST
DTSTART:20151101T090000
END:STANDARD
BEGIN:DAYLIGHT
TZOFFSETFROM:-0800
TZOFFSETTO:-0700
TZNAME:PDT
DTSTART:20160313T100000
END:DAYLIGHT
BEGIN:STANDARD
TZOFFSETFROM:-0700
TZOFFSETTO:-0800
TZNAME:PST
DTSTART:20161106T090000
END:STANDARD
BEGIN:DAYLIGHT
TZOFFSETFROM:-0800
TZOFFSETTO:-0700
TZNAME:PDT
DTSTART:20170312T100000
END:DAYLIGHT
BEGIN:STANDARD
TZOFFSETFROM:-0700
TZOFFSETTO:-0800
TZNAME:PST
DTSTART:20171105T090000
END:STANDARD
BEGIN:DAYLIGHT
TZOFFSETFROM:-0800
TZOFFSETTO:-0700
TZNAME:PDT
DTSTART:20180311T100000
END:DAYLIGHT
BEGIN:STANDARD
TZOFFSETFROM:-0700
TZOFFSETTO:-0800
TZNAME:PST
DTSTART:20181104T090000
END:STANDARD
BEGIN:DAYLIGHT
TZOFFSETFROM:-0800
TZOFFSETTO:-0700
TZNAME:PDT
DTSTART:20190310T100000
END:DAYLIGHT
BEGIN:STANDARD
TZOFFSETFROM:-0700
TZOFFSETTO:-0800
TZNAME:PST
DTSTART:20191103T090000
END:STANDARD
BEGIN:DAYLIGHT
TZOFFSETFROM:-0800
TZOFFSETTO:-0700
TZNAME:PDT
DTSTART:20200308T100000
END:DAYLIGHT
BEGIN:STANDARD
TZOFFSETFROM:-0700
TZOFFSETTO:-0800
TZNAME:PST
DTSTART:20201101T090000
END:STANDARD
BEGIN:DAYLIGHT
TZOFFSETFROM:-0800
TZOFFSETTO:-0700
TZNAME:PDT
DTSTART:20210314T100000
END:DAYLIGHT
BEGIN:STANDARD
TZOFFSETFROM:-0700
TZOFFSETTO:-0800
TZNAME:PST
DTSTART:20211107T090000
END:STANDARD
BEGIN:DAYLIGHT
TZOFFSETFROM:-0800
TZOFFSETTO:-0700
TZNAME:PDT
DTSTART:20220313T100000
END:DAYLIGHT
BEGIN:STANDARD
TZOFFSETFROM:-0700
TZOFFSETTO:-0800
TZNAME:PST
DTSTART:20221106T090000
END:STANDARD
BEGIN:DAYLIGHT
TZOFFSETFROM:-0800
TZOFFSETTO:-0700
TZNAME:PDT
DTSTART:20230312T100000
END:DAYLIGHT
BEGIN:STANDARD
TZOFFSETFROM:-0700
TZOFFSETTO:-0800
TZNAME:PST
DTSTART:20231105T090000
END:STANDARD
BEGIN:DAYLIGHT
TZOFFSETFROM:-0800
TZOFFSETTO:-0700
TZNAME:PDT
DTSTART:20240310T100000
END:DAYLIGHT
BEGIN:STANDARD
TZOFFSETFROM:-0700
TZOFFSETTO:-0800
TZNAME:PST
DTSTART:20241103T090000
END:STANDARD
BEGIN:DAYLIGHT
TZOFFSETFROM:-0800
TZOFFSETTO:-0700
TZNAME:PDT
DTSTART:20250309T100000
END:DAYLIGHT
BEGIN:STANDARD
TZOFFSETFROM:-0700
TZOFFSETTO:-0800
TZNAME:PST
DTSTART:20251102T090000
END:STANDARD
END:VTIMEZONE
BEGIN:VEVENT
DTSTART;TZID=America/Los_Angeles:20240720T133000
DTEND;TZID=America/Los_Angeles:20240720T183000
DTSTAMP:20260425T100022
CREATED:20240715T165909Z
LAST-MODIFIED:20240715T165909Z
UID:10004220-1721482200-1721500200@downtownglendale.com
SUMMARY:Chalk-A-Doodle Festival
DESCRIPTION:Free summer event! Family-friendly. Join the Glendale Marketplace for a fun-filled day of chalk artistry and imagination\, doodle exhibition\, live music\, and more at the Glendale Chalk-A-Doodle Festival on July 20th. \nChalk Murals \nSkilled emerging artists will create a large colorful mural walkway from Artsakh to Brand Blvd. and on the 2nd level outside of LA Fitness. Be inspired by the wonderful and fantastical designs! The art is fun & spectacular! And it benefits a great cause –The Light Bringer Project\, supporting arts education programs. \nDoodle Workshop and Exhibition \nWhether you’re an experienced artist or just looking to have a good time\, this event is perfect for all ages. Show off your artistic skills or simply enjoy the colorful masterpieces around you. Create a drawing at one of our doodle stations to display in the Community Art Gallery. Bring your family\, kids\, and friends! \nEntertainment and Specials \nEnjoy live band performances and take advantage of store & restaurant specials.
URL:https://downtownglendale.com/event/chalk-a-doodle-festival/
LOCATION:Glendale Marketplace\, 106 S. Brand Blvd.\, Glendale\, CA\, 91204\, United States
ATTACH;FMTTYPE=image/jpeg:https://downtownglendale.com/wp-content/uploads/Chalk-A-Doodle-Festival.jpg
GEO:34.14566;-118.2546727
X-APPLE-STRUCTURED-LOCATION;VALUE=URI;X-ADDRESS=Glendale Marketplace 106 S. Brand Blvd. Glendale CA 91204 United States;X-APPLE-RADIUS=500;X-TITLE=106 S. Brand Blvd.:geo:-118.2546727,34.14566
END:VEVENT
BEGIN:VEVENT
DTSTART;TZID=America/Los_Angeles:20151111T170000
DTEND;TZID=America/Los_Angeles:20151111T190000
DTSTAMP:20260425T100022
CREATED:20151102T183812Z
LAST-MODIFIED:20151102T183812Z
UID:10003346-1447261200-1447268400@downtownglendale.com
SUMMARY:Glendale Chamber of Commerce Ribbon Cutting at Glendale Marketplace
DESCRIPTION:Glendale Chamber of Commerce Ribbon Cutting at Glendale Marketplace
URL:https://downtownglendale.com/event/glendale-chamber-of-commerce-ribbon-cutting-at-glendale-marketplace/
LOCATION:Glendale Marketplace\, 106 S. Brand Blvd.\, Glendale\, CA\, 91204\, United States
GEO:34.14566;-118.2546727
X-APPLE-STRUCTURED-LOCATION;VALUE=URI;X-ADDRESS=Glendale Marketplace 106 S. Brand Blvd. Glendale CA 91204 United States;X-APPLE-RADIUS=500;X-TITLE=106 S. Brand Blvd.:geo:-118.2546727,34.14566
END:VEVENT
END:VCALENDAR