BEGIN:VCALENDAR
VERSION:2.0
PRODID:-//Downtown Glendale - ECPv6.15.20//NONSGML v1.0//EN
CALSCALE:GREGORIAN
METHOD:PUBLISH
X-ORIGINAL-URL:https://downtownglendale.com
X-WR-CALDESC:Events for Downtown Glendale
REFRESH-INTERVAL;VALUE=DURATION:PT1H
X-Robots-Tag:noindex
X-PUBLISHED-TTL:PT1H
BEGIN:VTIMEZONE
TZID:America/Los_Angeles
BEGIN:DAYLIGHT
TZOFFSETFROM:-0800
TZOFFSETTO:-0700
TZNAME:PDT
DTSTART:20210314T100000
END:DAYLIGHT
BEGIN:STANDARD
TZOFFSETFROM:-0700
TZOFFSETTO:-0800
TZNAME:PST
DTSTART:20211107T090000
END:STANDARD
BEGIN:DAYLIGHT
TZOFFSETFROM:-0800
TZOFFSETTO:-0700
TZNAME:PDT
DTSTART:20220313T100000
END:DAYLIGHT
BEGIN:STANDARD
TZOFFSETFROM:-0700
TZOFFSETTO:-0800
TZNAME:PST
DTSTART:20221106T090000
END:STANDARD
BEGIN:DAYLIGHT
TZOFFSETFROM:-0800
TZOFFSETTO:-0700
TZNAME:PDT
DTSTART:20230312T100000
END:DAYLIGHT
BEGIN:STANDARD
TZOFFSETFROM:-0700
TZOFFSETTO:-0800
TZNAME:PST
DTSTART:20231105T090000
END:STANDARD
BEGIN:DAYLIGHT
TZOFFSETFROM:-0800
TZOFFSETTO:-0700
TZNAME:PDT
DTSTART:20240310T100000
END:DAYLIGHT
BEGIN:STANDARD
TZOFFSETFROM:-0700
TZOFFSETTO:-0800
TZNAME:PST
DTSTART:20241103T090000
END:STANDARD
BEGIN:DAYLIGHT
TZOFFSETFROM:-0800
TZOFFSETTO:-0700
TZNAME:PDT
DTSTART:20250309T100000
END:DAYLIGHT
BEGIN:STANDARD
TZOFFSETFROM:-0700
TZOFFSETTO:-0800
TZNAME:PST
DTSTART:20251102T090000
END:STANDARD
END:VTIMEZONE
BEGIN:VEVENT
DTSTART;TZID=America/Los_Angeles:20240917T183000
DTEND;TZID=America/Los_Angeles:20240917T203000
DTSTAMP:20260420T060927
CREATED:20240830T183428Z
LAST-MODIFIED:20240830T183428Z
UID:10004230-1726597800-1726605000@downtownglendale.com
SUMMARY:Glendale Tech Week 2024: Securing AI Real-World Strategies for Cybersecurity and Operational Governance
DESCRIPTION:
URL:https://downtownglendale.com/event/glendale-tech-week-2024-securing-ai-real-world-strategies-for-cybersecurity-and-operational-governance/
LOCATION:Hero House Glendale\, 326 Mira Loma Ave.\, Glendale\, CA\, 91204\, United States
GEO:34.1236925;-118.2564539
X-APPLE-STRUCTURED-LOCATION;VALUE=URI;X-ADDRESS=Hero House Glendale 326 Mira Loma Ave. Glendale CA 91204 United States;X-APPLE-RADIUS=500;X-TITLE=326 Mira Loma Ave.:geo:-118.2564539,34.1236925
END:VEVENT
BEGIN:VEVENT
DTSTART;TZID=America/Los_Angeles:20240917T170000
DTEND;TZID=America/Los_Angeles:20240917T190000
DTSTAMP:20260420T060927
CREATED:20240830T181734Z
LAST-MODIFIED:20240830T181734Z
UID:10004228-1726592400-1726599600@downtownglendale.com
SUMMARY:Glendale Tech Week 2024: Startups 101 The Fundamentals to Starting Up Right
DESCRIPTION:
URL:https://downtownglendale.com/event/glendale-tech-week-2024-startups-101-the-fundamentals-to-starting-up-right/
LOCATION:Hero House Glendale\, 326 Mira Loma Ave.\, Glendale\, CA\, 91204\, United States
GEO:34.1236925;-118.2564539
X-APPLE-STRUCTURED-LOCATION;VALUE=URI;X-ADDRESS=Hero House Glendale 326 Mira Loma Ave. Glendale CA 91204 United States;X-APPLE-RADIUS=500;X-TITLE=326 Mira Loma Ave.:geo:-118.2564539,34.1236925
END:VEVENT
BEGIN:VEVENT
DTSTART;TZID=America/Los_Angeles:20221019T100000
DTEND;TZID=America/Los_Angeles:20221019T200000
DTSTAMP:20260420T060927
CREATED:20220912T025626Z
LAST-MODIFIED:20220912T025713Z
UID:10004145-1666173600-1666209600@downtownglendale.com
SUMMARY:Glendale Tech Week Machine Learning\, Artificial Intelligence\, and Cloud Computing
DESCRIPTION:
URL:https://downtownglendale.com/event/glendale-tech-week-machine-learning-artificial-intelligence-and-cloud-computing/
LOCATION:Hero House Glendale\, 326 Mira Loma Ave.\, Glendale\, CA\, 91204\, United States
GEO:34.1236925;-118.2564539
X-APPLE-STRUCTURED-LOCATION;VALUE=URI;X-ADDRESS=Hero House Glendale 326 Mira Loma Ave. Glendale CA 91204 United States;X-APPLE-RADIUS=500;X-TITLE=326 Mira Loma Ave.:geo:-118.2564539,34.1236925
END:VEVENT
BEGIN:VEVENT
DTSTART;TZID=America/Los_Angeles:20221018T100000
DTEND;TZID=America/Los_Angeles:20221018T200000
DTSTAMP:20260420T060927
CREATED:20220912T025215Z
LAST-MODIFIED:20220912T025215Z
UID:10004142-1666087200-1666123200@downtownglendale.com
SUMMARY:Glendale Tech Week Computational Biotech and Healthcare
DESCRIPTION:
URL:https://downtownglendale.com/event/glendale-tech-week-computational-biotech-and-healthcare/
LOCATION:Hero House Glendale\, 326 Mira Loma Ave.\, Glendale\, CA\, 91204\, United States
GEO:34.1236925;-118.2564539
X-APPLE-STRUCTURED-LOCATION;VALUE=URI;X-ADDRESS=Hero House Glendale 326 Mira Loma Ave. Glendale CA 91204 United States;X-APPLE-RADIUS=500;X-TITLE=326 Mira Loma Ave.:geo:-118.2564539,34.1236925
END:VEVENT
END:VCALENDAR