BEGIN:VCALENDAR
VERSION:2.0
PRODID:-//Downtown Glendale - ECPv6.15.20//NONSGML v1.0//EN
CALSCALE:GREGORIAN
METHOD:PUBLISH
X-ORIGINAL-URL:https://downtownglendale.com
X-WR-CALDESC:Events for Downtown Glendale
REFRESH-INTERVAL;VALUE=DURATION:PT1H
X-Robots-Tag:noindex
X-PUBLISHED-TTL:PT1H
BEGIN:VTIMEZONE
TZID:America/Los_Angeles
BEGIN:DAYLIGHT
TZOFFSETFROM:-0800
TZOFFSETTO:-0700
TZNAME:PDT
DTSTART:20160313T100000
END:DAYLIGHT
BEGIN:STANDARD
TZOFFSETFROM:-0700
TZOFFSETTO:-0800
TZNAME:PST
DTSTART:20161106T090000
END:STANDARD
BEGIN:DAYLIGHT
TZOFFSETFROM:-0800
TZOFFSETTO:-0700
TZNAME:PDT
DTSTART:20170312T100000
END:DAYLIGHT
BEGIN:STANDARD
TZOFFSETFROM:-0700
TZOFFSETTO:-0800
TZNAME:PST
DTSTART:20171105T090000
END:STANDARD
BEGIN:DAYLIGHT
TZOFFSETFROM:-0800
TZOFFSETTO:-0700
TZNAME:PDT
DTSTART:20180311T100000
END:DAYLIGHT
BEGIN:STANDARD
TZOFFSETFROM:-0700
TZOFFSETTO:-0800
TZNAME:PST
DTSTART:20181104T090000
END:STANDARD
END:VTIMEZONE
BEGIN:VEVENT
DTSTART;TZID=America/Los_Angeles:20170719T173000
DTEND;TZID=America/Los_Angeles:20170719T193000
DTSTAMP:20260425T033715
CREATED:20170713T202923Z
LAST-MODIFIED:20170713T202959Z
UID:10003225-1500485400-1500492600@downtownglendale.com
SUMMARY:Glendale Chamber After Hours Business Mixer @ Oil & Vinegar
DESCRIPTION:Oil & Vinegar is located in the Glendale Galleria on level 2 near Bloomingdale’s. Join the fun! Bring along your friends and business associates. While you’re here\, make some new friends\, enjoy the refreshments and an opportunity to win some nice prizes. Members: $10 Non-Members: $20
URL:https://downtownglendale.com/event/glendale-chamber-hours-business-mixer-oil-vinegar/
LOCATION:Oil & Vinegar\, 2210 Galleria Way\, Glendale\, CA\, 91210\, United States
GEO:34.1459343;-118.2589821
X-APPLE-STRUCTURED-LOCATION;VALUE=URI;X-ADDRESS=Oil & Vinegar 2210 Galleria Way Glendale CA 91210 United States;X-APPLE-RADIUS=500;X-TITLE=2210 Galleria Way:geo:-118.2589821,34.1459343
END:VEVENT
END:VCALENDAR