BEGIN:VCALENDAR
VERSION:2.0
PRODID:-//Downtown Glendale - ECPv6.15.20//NONSGML v1.0//EN
CALSCALE:GREGORIAN
METHOD:PUBLISH
X-WR-CALNAME:Downtown Glendale
X-ORIGINAL-URL:https://downtownglendale.com
X-WR-CALDESC:Events for Downtown Glendale
REFRESH-INTERVAL;VALUE=DURATION:PT1H
X-Robots-Tag:noindex
X-PUBLISHED-TTL:PT1H
BEGIN:VTIMEZONE
TZID:America/Los_Angeles
BEGIN:DAYLIGHT
TZOFFSETFROM:-0800
TZOFFSETTO:-0700
TZNAME:PDT
DTSTART:20130310T100000
END:DAYLIGHT
BEGIN:STANDARD
TZOFFSETFROM:-0700
TZOFFSETTO:-0800
TZNAME:PST
DTSTART:20131103T090000
END:STANDARD
BEGIN:DAYLIGHT
TZOFFSETFROM:-0800
TZOFFSETTO:-0700
TZNAME:PDT
DTSTART:20140309T100000
END:DAYLIGHT
BEGIN:STANDARD
TZOFFSETFROM:-0700
TZOFFSETTO:-0800
TZNAME:PST
DTSTART:20141102T090000
END:STANDARD
BEGIN:DAYLIGHT
TZOFFSETFROM:-0800
TZOFFSETTO:-0700
TZNAME:PDT
DTSTART:20150308T100000
END:DAYLIGHT
BEGIN:STANDARD
TZOFFSETFROM:-0700
TZOFFSETTO:-0800
TZNAME:PST
DTSTART:20151101T090000
END:STANDARD
BEGIN:DAYLIGHT
TZOFFSETFROM:-0800
TZOFFSETTO:-0700
TZNAME:PDT
DTSTART:20160313T100000
END:DAYLIGHT
BEGIN:STANDARD
TZOFFSETFROM:-0700
TZOFFSETTO:-0800
TZNAME:PST
DTSTART:20161106T090000
END:STANDARD
END:VTIMEZONE
BEGIN:VEVENT
DTSTART;TZID=America/Los_Angeles:20150225T180000
DTEND;TZID=America/Los_Angeles:20150225T210000
DTSTAMP:20260423T150619
CREATED:20150219T195339Z
LAST-MODIFIED:20150219T195339Z
UID:10002991-1424887200-1424898000@downtownglendale.com
SUMMARY:Glendale Young Professionals Presents Pirch Showroom Mixer
DESCRIPTION:Please join us on Wednesday\, February 25 from 6:00PM to 9:00PM at Pirch in the Glendale Galleria for an exciting evening among your peers. Meet\, mingle\, and network with fellow young professionals over drinks and appetizers at Pirch. \nParking & Directions\nFree parking is available in the Glendale Galleria parking lot. Valet parking is also available. \nAdmission\nAdmission is FREE for GYP Members and $20.00 for Guests. Admission includes drinks and appetizers. \nMembership\nBecome a Glendale Young Professionals member today!\nhttp://www.glendaleyp.com/join \nSponsors\nPirch Glendale\, Title Sponsor \nCrescenta Valley Weekly \nDatastream IT \nGlendale Chamber of Commerce \nMargaryan & Associates \nMassage Envy Spa Glendale \nReel Light Pictures \nSedna Solutions \nAbout Pirch\nPirch\, offers a carefully-vetted array of premium lifestyle products for the home\, from indoor- and outdoor-kitchens and laundry appliances to personal wellness systems\, bath fixtures and decorative plumbing. Pirch Glendale is located in the Glendale Galleria. Learn more about Pirch at http://www.pirch.com
URL:https://downtownglendale.com/event/glendale-young-professionals-presents-pirch-showroom-mixer/
LOCATION:Pirch\, 101 S. Brand Blvd.\, Glendale\, CA\, 91210\, United States
GEO:34.1459137;-118.25527
X-APPLE-STRUCTURED-LOCATION;VALUE=URI;X-ADDRESS=Pirch 101 S. Brand Blvd. Glendale CA 91210 United States;X-APPLE-RADIUS=500;X-TITLE=101 S. Brand Blvd.:geo:-118.25527,34.1459137
END:VEVENT
BEGIN:VEVENT
DTSTART;TZID=America/Los_Angeles:20150104T113000
DTEND;TZID=America/Los_Angeles:20150104T130000
DTSTAMP:20260423T150619
CREATED:20150316T081512Z
LAST-MODIFIED:20150316T081512Z
UID:10003219-1420371000-1420376400@downtownglendale.com
SUMMARY:Cooking by the Book at PIRCH
DESCRIPTION:It’s reading\, followed by eating! Come and join our chefs every Sunday as a work of literary art is transformed into its culinary counterpart. We’ll draw inspiration from a cookbook in our Boutique\, then gather fresh ingredients to create something so delicious\, words might not do it justice — and not just because your mouth will be full! Space is limited\, please stop by our showroom to RSVP.
URL:https://downtownglendale.com/event/cooking-by-the-book-at-pirch/2015-01-04/
LOCATION:Pirch\, 101 S. Brand Blvd.\, Glendale\, CA\, 91210\, United States
GEO:34.1459137;-118.25527
X-APPLE-STRUCTURED-LOCATION;VALUE=URI;X-ADDRESS=Pirch 101 S. Brand Blvd. Glendale CA 91210 United States;X-APPLE-RADIUS=500;X-TITLE=101 S. Brand Blvd.:geo:-118.25527,34.1459137
END:VEVENT
BEGIN:VEVENT
DTSTART;TZID=America/Los_Angeles:20150103T103000
DTEND;TZID=America/Los_Angeles:20150103T120000
DTSTAMP:20260423T150619
CREATED:20150316T074514Z
LAST-MODIFIED:20150316T074630Z
UID:10003218-1420281000-1420286400@downtownglendale.com
SUMMARY:Sourcing Saturdays at PIRCH
DESCRIPTION:Mother Nature called. Your groceries are ready. A member of the PIRCH culinary team will gather fresh produce and meats from local markets — and then you will help produce a dish from those ingredients. \nStop by the showroom to RSVP
URL:https://downtownglendale.com/event/sourcing-saturdays-at-pirch/2015-01-03/
LOCATION:Pirch\, 101 S. Brand Blvd.\, Glendale\, CA\, 91210\, United States
GEO:34.1459137;-118.25527
X-APPLE-STRUCTURED-LOCATION;VALUE=URI;X-ADDRESS=Pirch 101 S. Brand Blvd. Glendale CA 91210 United States;X-APPLE-RADIUS=500;X-TITLE=101 S. Brand Blvd.:geo:-118.25527,34.1459137
END:VEVENT
BEGIN:VEVENT
DTSTART;TZID=America/Los_Angeles:20140214T180000
DTEND;TZID=America/Los_Angeles:20140214T210000
DTSTAMP:20260423T150619
CREATED:20140128T212540Z
LAST-MODIFIED:20140128T212738Z
UID:10003026-1392400800-1392411600@downtownglendale.com
SUMMARY:Pirch Fundraiser Supporting Glendale Healthy Kids
DESCRIPTION:Show your love for Glendale Healthy Kids! It’s our 20th anniversary.\nLet’s celebrate! \nFriday\, February 14\, 2014 at Pirch \n\n6:00pm Appetizers & Wine\n7:00pm Dinner\n8:00pm Raffle Drawing\n\nInteractive cooking experience by Barlett Foods and music by Dan Beers \nTickets: $75/person or $130/couple\nFree valet parking \nRSVP at GlendaleHealthyKids.org or call (818) 548-7931 \n 
URL:https://downtownglendale.com/event/pirch-fundraiser-supporting-glendale-healthy-kids/
LOCATION:Pirch\, 101 S. Brand Blvd.\, Glendale\, CA\, 91210\, United States
GEO:34.1459137;-118.25527
X-APPLE-STRUCTURED-LOCATION;VALUE=URI;X-ADDRESS=Pirch 101 S. Brand Blvd. Glendale CA 91210 United States;X-APPLE-RADIUS=500;X-TITLE=101 S. Brand Blvd.:geo:-118.25527,34.1459137
END:VEVENT
END:VCALENDAR