BEGIN:VCALENDAR
VERSION:2.0
PRODID:-//Downtown Glendale - ECPv6.15.20//NONSGML v1.0//EN
CALSCALE:GREGORIAN
METHOD:PUBLISH
X-WR-CALNAME:Downtown Glendale
X-ORIGINAL-URL:https://downtownglendale.com
X-WR-CALDESC:Events for Downtown Glendale
REFRESH-INTERVAL;VALUE=DURATION:PT1H
X-Robots-Tag:noindex
X-PUBLISHED-TTL:PT1H
BEGIN:VTIMEZONE
TZID:America/Los_Angeles
BEGIN:DAYLIGHT
TZOFFSETFROM:-0800
TZOFFSETTO:-0700
TZNAME:PDT
DTSTART:20140309T100000
END:DAYLIGHT
BEGIN:STANDARD
TZOFFSETFROM:-0700
TZOFFSETTO:-0800
TZNAME:PST
DTSTART:20141102T090000
END:STANDARD
BEGIN:DAYLIGHT
TZOFFSETFROM:-0800
TZOFFSETTO:-0700
TZNAME:PDT
DTSTART:20150308T100000
END:DAYLIGHT
BEGIN:STANDARD
TZOFFSETFROM:-0700
TZOFFSETTO:-0800
TZNAME:PST
DTSTART:20151101T090000
END:STANDARD
BEGIN:DAYLIGHT
TZOFFSETFROM:-0800
TZOFFSETTO:-0700
TZNAME:PDT
DTSTART:20160313T100000
END:DAYLIGHT
BEGIN:STANDARD
TZOFFSETFROM:-0700
TZOFFSETTO:-0800
TZNAME:PST
DTSTART:20161106T090000
END:STANDARD
END:VTIMEZONE
BEGIN:VEVENT
DTSTART;TZID=America/Los_Angeles:20151217T100000
DTEND;TZID=America/Los_Angeles:20151217T110000
DTSTAMP:20260424T143152
CREATED:20151214T082030Z
LAST-MODIFIED:20151214T082912Z
UID:10003350-1450346400-1450350000@downtownglendale.com
SUMMARY:Glendale Chamber of Commerce Ribbon Cutting at PizzaRev
DESCRIPTION:Glendale Chamber of Commerce Ribbon Cutting at PizzaRev
URL:https://downtownglendale.com/event/glendale-chamber-of-commerce-ribbon-cutting-at-pizzarev/
LOCATION:PizzaRev\, 108 W. Wilson Ave.\, Glendale\, CA\, 91203\, United States
GEO:34.1480638;-118.2551948
X-APPLE-STRUCTURED-LOCATION;VALUE=URI;X-ADDRESS=PizzaRev 108 W. Wilson Ave. Glendale CA 91203 United States;X-APPLE-RADIUS=500;X-TITLE=108 W. Wilson Ave.:geo:-118.2551948,34.1480638
END:VEVENT
END:VCALENDAR