BEGIN:VCALENDAR
VERSION:2.0
PRODID:-//Downtown Glendale - ECPv6.15.20//NONSGML v1.0//EN
CALSCALE:GREGORIAN
METHOD:PUBLISH
X-ORIGINAL-URL:https://downtownglendale.com
X-WR-CALDESC:Events for Downtown Glendale
REFRESH-INTERVAL;VALUE=DURATION:PT1H
X-Robots-Tag:noindex
X-PUBLISHED-TTL:PT1H
BEGIN:VTIMEZONE
TZID:America/Los_Angeles
BEGIN:DAYLIGHT
TZOFFSETFROM:-0800
TZOFFSETTO:-0700
TZNAME:PDT
DTSTART:20130310T100000
END:DAYLIGHT
BEGIN:STANDARD
TZOFFSETFROM:-0700
TZOFFSETTO:-0800
TZNAME:PST
DTSTART:20131103T090000
END:STANDARD
BEGIN:DAYLIGHT
TZOFFSETFROM:-0800
TZOFFSETTO:-0700
TZNAME:PDT
DTSTART:20140309T100000
END:DAYLIGHT
BEGIN:STANDARD
TZOFFSETFROM:-0700
TZOFFSETTO:-0800
TZNAME:PST
DTSTART:20141102T090000
END:STANDARD
BEGIN:DAYLIGHT
TZOFFSETFROM:-0800
TZOFFSETTO:-0700
TZNAME:PDT
DTSTART:20150308T100000
END:DAYLIGHT
BEGIN:STANDARD
TZOFFSETFROM:-0700
TZOFFSETTO:-0800
TZNAME:PST
DTSTART:20151101T090000
END:STANDARD
BEGIN:DAYLIGHT
TZOFFSETFROM:-0800
TZOFFSETTO:-0700
TZNAME:PDT
DTSTART:20160313T100000
END:DAYLIGHT
BEGIN:STANDARD
TZOFFSETFROM:-0700
TZOFFSETTO:-0800
TZNAME:PST
DTSTART:20161106T090000
END:STANDARD
BEGIN:DAYLIGHT
TZOFFSETFROM:-0800
TZOFFSETTO:-0700
TZNAME:PDT
DTSTART:20170312T100000
END:DAYLIGHT
BEGIN:STANDARD
TZOFFSETFROM:-0700
TZOFFSETTO:-0800
TZNAME:PST
DTSTART:20171105T090000
END:STANDARD
END:VTIMEZONE
BEGIN:VEVENT
DTSTART;TZID=America/Los_Angeles:20161130T173000
DTEND;TZID=America/Los_Angeles:20161130T200000
DTSTAMP:20260424T200841
CREATED:20161105T091623Z
LAST-MODIFIED:20161105T091623Z
UID:10003625-1480527000-1480536000@downtownglendale.com
SUMMARY:“Cops for Kids" Toy Drive & Mixer
DESCRIPTION:
URL:https://downtownglendale.com/event/cops-kids-toy-drive-mixer/
LOCATION:Porto’s Bakery\, 315 N. Brand Blvd.\, Glendale\, CA\, 91203\, United States
GEO:34.1504211;-118.2554535
X-APPLE-STRUCTURED-LOCATION;VALUE=URI;X-ADDRESS=Porto’s Bakery 315 N. Brand Blvd. Glendale CA 91203 United States;X-APPLE-RADIUS=500;X-TITLE=315 N. Brand Blvd.:geo:-118.2554535,34.1504211
END:VEVENT
BEGIN:VEVENT
DTSTART;TZID=America/Los_Angeles:20151117T183000
DTEND;TZID=America/Los_Angeles:20151117T183000
DTSTAMP:20260424T200841
CREATED:20151102T090052Z
LAST-MODIFIED:20151102T090052Z
UID:10003342-1447785000-1447785000@downtownglendale.com
SUMMARY:Glendale Latino Association 2015 Toy Drive
DESCRIPTION:Network\, food\, and fun… \nBring a drawing prize…Get your business recognized and Bring a friend…or Two!!! \nAdmission: \n$10 Members \n$15 Non-Members
URL:https://downtownglendale.com/event/glendale-latino-association-2015-toy-drive/
LOCATION:Porto’s Bakery\, 315 N. Brand Blvd.\, Glendale\, CA\, 91203\, United States
GEO:34.1504211;-118.2554535
X-APPLE-STRUCTURED-LOCATION;VALUE=URI;X-ADDRESS=Porto’s Bakery 315 N. Brand Blvd. Glendale CA 91203 United States;X-APPLE-RADIUS=500;X-TITLE=315 N. Brand Blvd.:geo:-118.2554535,34.1504211
END:VEVENT
BEGIN:VEVENT
DTSTART;TZID=America/Los_Angeles:20141118T173000
DTEND;TZID=America/Los_Angeles:20141118T200000
DTSTAMP:20260424T200841
CREATED:20141031T063513Z
LAST-MODIFIED:20141031T063513Z
UID:10003165-1416331800-1416340800@downtownglendale.com
SUMMARY:Glendale Latino Association November Mixer
DESCRIPTION:“COPS FOR KIDS” Toys Drive \nNetwork\, food\, and fun… \nBring a drawing prize. Get your business recognized. Bring a friend or two! \nAdmission: $10 Members $15 Non-Members
URL:https://downtownglendale.com/event/glendale-latino-association-november-mixer/
LOCATION:Porto’s Bakery\, 315 N. Brand Blvd.\, Glendale\, CA\, 91203\, United States
GEO:34.1504211;-118.2554535
X-APPLE-STRUCTURED-LOCATION;VALUE=URI;X-ADDRESS=Porto’s Bakery 315 N. Brand Blvd. Glendale CA 91203 United States;X-APPLE-RADIUS=500;X-TITLE=315 N. Brand Blvd.:geo:-118.2554535,34.1504211
END:VEVENT
END:VCALENDAR