BEGIN:VCALENDAR
VERSION:2.0
PRODID:-//Downtown Glendale - ECPv6.15.20//NONSGML v1.0//EN
CALSCALE:GREGORIAN
METHOD:PUBLISH
X-ORIGINAL-URL:https://downtownglendale.com
X-WR-CALDESC:Events for Downtown Glendale
REFRESH-INTERVAL;VALUE=DURATION:PT1H
X-Robots-Tag:noindex
X-PUBLISHED-TTL:PT1H
BEGIN:VTIMEZONE
TZID:America/Los_Angeles
BEGIN:DAYLIGHT
TZOFFSETFROM:-0800
TZOFFSETTO:-0700
TZNAME:PDT
DTSTART:20140309T100000
END:DAYLIGHT
BEGIN:STANDARD
TZOFFSETFROM:-0700
TZOFFSETTO:-0800
TZNAME:PST
DTSTART:20141102T090000
END:STANDARD
BEGIN:DAYLIGHT
TZOFFSETFROM:-0800
TZOFFSETTO:-0700
TZNAME:PDT
DTSTART:20150308T100000
END:DAYLIGHT
BEGIN:STANDARD
TZOFFSETFROM:-0700
TZOFFSETTO:-0800
TZNAME:PST
DTSTART:20151101T090000
END:STANDARD
BEGIN:DAYLIGHT
TZOFFSETFROM:-0800
TZOFFSETTO:-0700
TZNAME:PDT
DTSTART:20160313T100000
END:DAYLIGHT
BEGIN:STANDARD
TZOFFSETFROM:-0700
TZOFFSETTO:-0800
TZNAME:PST
DTSTART:20161106T090000
END:STANDARD
END:VTIMEZONE
BEGIN:VEVENT
DTSTART;TZID=America/Los_Angeles:20150819T173000
DTEND;TZID=America/Los_Angeles:20150819T193000
DTSTAMP:20260425T115615
CREATED:20150803T193945Z
LAST-MODIFIED:20150803T193945Z
UID:10003291-1440005400-1440012600@downtownglendale.com
SUMMARY:Glendale Chamber of Commerce After Hours Business Mixer at Tam O'Shanter
DESCRIPTION:
URL:https://downtownglendale.com/event/glendale-chamber-of-commerce-after-hours-business-mixer-at-tam-oshanter/
LOCATION:Tam O’Shanter\, 2980 Los Feliz Blvd.\, Los Angeles\, CA\, 90039\, United States
ORGANIZER;CN="Glendale Chamber of Commerce":MAILTO:info@glendalechamber.com
GEO:34.1256455;-118.2644102
X-APPLE-STRUCTURED-LOCATION;VALUE=URI;X-ADDRESS=Tam O’Shanter 2980 Los Feliz Blvd. Los Angeles CA 90039 United States;X-APPLE-RADIUS=500;X-TITLE=2980 Los Feliz Blvd.:geo:-118.2644102,34.1256455
END:VEVENT
END:VCALENDAR