BEGIN:VCALENDAR
VERSION:2.0
PRODID:-//Downtown Glendale - ECPv6.15.20//NONSGML v1.0//EN
CALSCALE:GREGORIAN
METHOD:PUBLISH
X-WR-CALNAME:Downtown Glendale
X-ORIGINAL-URL:https://downtownglendale.com
X-WR-CALDESC:Events for Downtown Glendale
REFRESH-INTERVAL;VALUE=DURATION:PT1H
X-Robots-Tag:noindex
X-PUBLISHED-TTL:PT1H
BEGIN:VTIMEZONE
TZID:America/Los_Angeles
BEGIN:DAYLIGHT
TZOFFSETFROM:-0800
TZOFFSETTO:-0700
TZNAME:PDT
DTSTART:20150308T100000
END:DAYLIGHT
BEGIN:STANDARD
TZOFFSETFROM:-0700
TZOFFSETTO:-0800
TZNAME:PST
DTSTART:20151101T090000
END:STANDARD
BEGIN:DAYLIGHT
TZOFFSETFROM:-0800
TZOFFSETTO:-0700
TZNAME:PDT
DTSTART:20160313T100000
END:DAYLIGHT
BEGIN:STANDARD
TZOFFSETFROM:-0700
TZOFFSETTO:-0800
TZNAME:PST
DTSTART:20161106T090000
END:STANDARD
BEGIN:DAYLIGHT
TZOFFSETFROM:-0800
TZOFFSETTO:-0700
TZNAME:PDT
DTSTART:20170312T100000
END:DAYLIGHT
BEGIN:STANDARD
TZOFFSETFROM:-0700
TZOFFSETTO:-0800
TZNAME:PST
DTSTART:20171105T090000
END:STANDARD
BEGIN:DAYLIGHT
TZOFFSETFROM:-0800
TZOFFSETTO:-0700
TZNAME:PDT
DTSTART:20180311T100000
END:DAYLIGHT
BEGIN:STANDARD
TZOFFSETFROM:-0700
TZOFFSETTO:-0800
TZNAME:PST
DTSTART:20181104T090000
END:STANDARD
END:VTIMEZONE
BEGIN:VEVENT
DTSTART;TZID=America/Los_Angeles:20170412T110000
DTEND;TZID=America/Los_Angeles:20170412T120000
DTSTAMP:20260425T070133
CREATED:20170803T204611Z
LAST-MODIFIED:20170803T204611Z
UID:10003785-1491994800-1491998400@downtownglendale.com
SUMMARY:Kids Yoga on the Green
DESCRIPTION:Please join us for a fun filled Kids Yoga class on The Green with Heather Mendoza. Recommended for 3-6 year olds\, but parents are always welcome to join in on the fun! \nWednesdays\, 11-11:45 a.m.
URL:https://downtownglendale.com/event/kids-yoga-green/2017-04-12/
LOCATION:The Americana at Brand\, 889 Americana Way\, Glendale\, CA\, 91210\, United States
GEO:34.1445873;-118.2576743
X-APPLE-STRUCTURED-LOCATION;VALUE=URI;X-ADDRESS=The Americana at Brand 889 Americana Way Glendale CA 91210 United States;X-APPLE-RADIUS=500;X-TITLE=889 Americana Way:geo:-118.2576743,34.1445873
END:VEVENT
BEGIN:VEVENT
DTSTART;TZID=America/Los_Angeles:20170406T110000
DTEND;TZID=America/Los_Angeles:20170406T120000
DTSTAMP:20260425T070133
CREATED:20170803T202055Z
LAST-MODIFIED:20170803T202055Z
UID:10003732-1491476400-1491480000@downtownglendale.com
SUMMARY:Yoga on the Green
DESCRIPTION:Join us for Yoga on The Green classes at The Americana at Brand on Thursdays from 11 a.m. – 12 p.m.! \nClasses are free and open to the public. \nMeet on The Green.
URL:https://downtownglendale.com/event/yoga-on-the-green/2017-04-06/
LOCATION:The Americana at Brand\, 889 Americana Way\, Glendale\, CA\, 91210\, United States
GEO:34.1445873;-118.2576743
X-APPLE-STRUCTURED-LOCATION;VALUE=URI;X-ADDRESS=The Americana at Brand 889 Americana Way Glendale CA 91210 United States;X-APPLE-RADIUS=500;X-TITLE=889 Americana Way:geo:-118.2576743,34.1445873
END:VEVENT
BEGIN:VEVENT
DTSTART;TZID=America/Los_Angeles:20170405T110000
DTEND;TZID=America/Los_Angeles:20170405T120000
DTSTAMP:20260425T070133
CREATED:20170803T204611Z
LAST-MODIFIED:20170803T204611Z
UID:10003784-1491390000-1491393600@downtownglendale.com
SUMMARY:Kids Yoga on the Green
DESCRIPTION:Please join us for a fun filled Kids Yoga class on The Green with Heather Mendoza. Recommended for 3-6 year olds\, but parents are always welcome to join in on the fun! \nWednesdays\, 11-11:45 a.m.
URL:https://downtownglendale.com/event/kids-yoga-green/2017-04-05/
LOCATION:The Americana at Brand\, 889 Americana Way\, Glendale\, CA\, 91210\, United States
GEO:34.1445873;-118.2576743
X-APPLE-STRUCTURED-LOCATION;VALUE=URI;X-ADDRESS=The Americana at Brand 889 Americana Way Glendale CA 91210 United States;X-APPLE-RADIUS=500;X-TITLE=889 Americana Way:geo:-118.2576743,34.1445873
END:VEVENT
BEGIN:VEVENT
DTSTART;TZID=America/Los_Angeles:20170330T110000
DTEND;TZID=America/Los_Angeles:20170330T120000
DTSTAMP:20260425T070133
CREATED:20170803T202055Z
LAST-MODIFIED:20170803T202055Z
UID:10003731-1490871600-1490875200@downtownglendale.com
SUMMARY:Yoga on the Green
DESCRIPTION:Join us for Yoga on The Green classes at The Americana at Brand on Thursdays from 11 a.m. – 12 p.m.! \nClasses are free and open to the public. \nMeet on The Green.
URL:https://downtownglendale.com/event/yoga-on-the-green/2017-03-30/
LOCATION:The Americana at Brand\, 889 Americana Way\, Glendale\, CA\, 91210\, United States
GEO:34.1445873;-118.2576743
X-APPLE-STRUCTURED-LOCATION;VALUE=URI;X-ADDRESS=The Americana at Brand 889 Americana Way Glendale CA 91210 United States;X-APPLE-RADIUS=500;X-TITLE=889 Americana Way:geo:-118.2576743,34.1445873
END:VEVENT
BEGIN:VEVENT
DTSTART;TZID=America/Los_Angeles:20170329T110000
DTEND;TZID=America/Los_Angeles:20170329T120000
DTSTAMP:20260425T070133
CREATED:20170803T204611Z
LAST-MODIFIED:20170803T204611Z
UID:10003783-1490785200-1490788800@downtownglendale.com
SUMMARY:Kids Yoga on the Green
DESCRIPTION:Please join us for a fun filled Kids Yoga class on The Green with Heather Mendoza. Recommended for 3-6 year olds\, but parents are always welcome to join in on the fun! \nWednesdays\, 11-11:45 a.m.
URL:https://downtownglendale.com/event/kids-yoga-green/2017-03-29/
LOCATION:The Americana at Brand\, 889 Americana Way\, Glendale\, CA\, 91210\, United States
GEO:34.1445873;-118.2576743
X-APPLE-STRUCTURED-LOCATION;VALUE=URI;X-ADDRESS=The Americana at Brand 889 Americana Way Glendale CA 91210 United States;X-APPLE-RADIUS=500;X-TITLE=889 Americana Way:geo:-118.2576743,34.1445873
END:VEVENT
BEGIN:VEVENT
DTSTART;TZID=America/Los_Angeles:20170323T110000
DTEND;TZID=America/Los_Angeles:20170323T120000
DTSTAMP:20260425T070133
CREATED:20170803T202055Z
LAST-MODIFIED:20170803T202055Z
UID:10003730-1490266800-1490270400@downtownglendale.com
SUMMARY:Yoga on the Green
DESCRIPTION:Join us for Yoga on The Green classes at The Americana at Brand on Thursdays from 11 a.m. – 12 p.m.! \nClasses are free and open to the public. \nMeet on The Green.
URL:https://downtownglendale.com/event/yoga-on-the-green/2017-03-23/
LOCATION:The Americana at Brand\, 889 Americana Way\, Glendale\, CA\, 91210\, United States
GEO:34.1445873;-118.2576743
X-APPLE-STRUCTURED-LOCATION;VALUE=URI;X-ADDRESS=The Americana at Brand 889 Americana Way Glendale CA 91210 United States;X-APPLE-RADIUS=500;X-TITLE=889 Americana Way:geo:-118.2576743,34.1445873
END:VEVENT
BEGIN:VEVENT
DTSTART;TZID=America/Los_Angeles:20170322T110000
DTEND;TZID=America/Los_Angeles:20170322T120000
DTSTAMP:20260425T070133
CREATED:20170803T204611Z
LAST-MODIFIED:20170803T204611Z
UID:10003782-1490180400-1490184000@downtownglendale.com
SUMMARY:Kids Yoga on the Green
DESCRIPTION:Please join us for a fun filled Kids Yoga class on The Green with Heather Mendoza. Recommended for 3-6 year olds\, but parents are always welcome to join in on the fun! \nWednesdays\, 11-11:45 a.m.
URL:https://downtownglendale.com/event/kids-yoga-green/2017-03-22/
LOCATION:The Americana at Brand\, 889 Americana Way\, Glendale\, CA\, 91210\, United States
GEO:34.1445873;-118.2576743
X-APPLE-STRUCTURED-LOCATION;VALUE=URI;X-ADDRESS=The Americana at Brand 889 Americana Way Glendale CA 91210 United States;X-APPLE-RADIUS=500;X-TITLE=889 Americana Way:geo:-118.2576743,34.1445873
END:VEVENT
BEGIN:VEVENT
DTSTART;TZID=America/Los_Angeles:20170316T110000
DTEND;TZID=America/Los_Angeles:20170316T120000
DTSTAMP:20260425T070133
CREATED:20170803T202055Z
LAST-MODIFIED:20170803T202055Z
UID:10003729-1489662000-1489665600@downtownglendale.com
SUMMARY:Yoga on the Green
DESCRIPTION:Join us for Yoga on The Green classes at The Americana at Brand on Thursdays from 11 a.m. – 12 p.m.! \nClasses are free and open to the public. \nMeet on The Green.
URL:https://downtownglendale.com/event/yoga-on-the-green/2017-03-16/
LOCATION:The Americana at Brand\, 889 Americana Way\, Glendale\, CA\, 91210\, United States
GEO:34.1445873;-118.2576743
X-APPLE-STRUCTURED-LOCATION;VALUE=URI;X-ADDRESS=The Americana at Brand 889 Americana Way Glendale CA 91210 United States;X-APPLE-RADIUS=500;X-TITLE=889 Americana Way:geo:-118.2576743,34.1445873
END:VEVENT
BEGIN:VEVENT
DTSTART;TZID=America/Los_Angeles:20170315T110000
DTEND;TZID=America/Los_Angeles:20170315T120000
DTSTAMP:20260425T070133
CREATED:20170803T204611Z
LAST-MODIFIED:20170803T204611Z
UID:10003781-1489575600-1489579200@downtownglendale.com
SUMMARY:Kids Yoga on the Green
DESCRIPTION:Please join us for a fun filled Kids Yoga class on The Green with Heather Mendoza. Recommended for 3-6 year olds\, but parents are always welcome to join in on the fun! \nWednesdays\, 11-11:45 a.m.
URL:https://downtownglendale.com/event/kids-yoga-green/2017-03-15/
LOCATION:The Americana at Brand\, 889 Americana Way\, Glendale\, CA\, 91210\, United States
GEO:34.1445873;-118.2576743
X-APPLE-STRUCTURED-LOCATION;VALUE=URI;X-ADDRESS=The Americana at Brand 889 Americana Way Glendale CA 91210 United States;X-APPLE-RADIUS=500;X-TITLE=889 Americana Way:geo:-118.2576743,34.1445873
END:VEVENT
BEGIN:VEVENT
DTSTART;TZID=America/Los_Angeles:20170309T110000
DTEND;TZID=America/Los_Angeles:20170309T120000
DTSTAMP:20260425T070133
CREATED:20170803T202055Z
LAST-MODIFIED:20170803T202055Z
UID:10003728-1489057200-1489060800@downtownglendale.com
SUMMARY:Yoga on the Green
DESCRIPTION:Join us for Yoga on The Green classes at The Americana at Brand on Thursdays from 11 a.m. – 12 p.m.! \nClasses are free and open to the public. \nMeet on The Green.
URL:https://downtownglendale.com/event/yoga-on-the-green/2017-03-09/
LOCATION:The Americana at Brand\, 889 Americana Way\, Glendale\, CA\, 91210\, United States
GEO:34.1445873;-118.2576743
X-APPLE-STRUCTURED-LOCATION;VALUE=URI;X-ADDRESS=The Americana at Brand 889 Americana Way Glendale CA 91210 United States;X-APPLE-RADIUS=500;X-TITLE=889 Americana Way:geo:-118.2576743,34.1445873
END:VEVENT
BEGIN:VEVENT
DTSTART;TZID=America/Los_Angeles:20170308T110000
DTEND;TZID=America/Los_Angeles:20170308T120000
DTSTAMP:20260425T070133
CREATED:20170803T204611Z
LAST-MODIFIED:20170803T204611Z
UID:10003780-1488970800-1488974400@downtownglendale.com
SUMMARY:Kids Yoga on the Green
DESCRIPTION:Please join us for a fun filled Kids Yoga class on The Green with Heather Mendoza. Recommended for 3-6 year olds\, but parents are always welcome to join in on the fun! \nWednesdays\, 11-11:45 a.m.
URL:https://downtownglendale.com/event/kids-yoga-green/2017-03-08/
LOCATION:The Americana at Brand\, 889 Americana Way\, Glendale\, CA\, 91210\, United States
GEO:34.1445873;-118.2576743
X-APPLE-STRUCTURED-LOCATION;VALUE=URI;X-ADDRESS=The Americana at Brand 889 Americana Way Glendale CA 91210 United States;X-APPLE-RADIUS=500;X-TITLE=889 Americana Way:geo:-118.2576743,34.1445873
END:VEVENT
BEGIN:VEVENT
DTSTART;TZID=America/Los_Angeles:20170302T110000
DTEND;TZID=America/Los_Angeles:20170302T120000
DTSTAMP:20260425T070133
CREATED:20170803T202055Z
LAST-MODIFIED:20170803T202055Z
UID:10003727-1488452400-1488456000@downtownglendale.com
SUMMARY:Yoga on the Green
DESCRIPTION:Join us for Yoga on The Green classes at The Americana at Brand on Thursdays from 11 a.m. – 12 p.m.! \nClasses are free and open to the public. \nMeet on The Green.
URL:https://downtownglendale.com/event/yoga-on-the-green/2017-03-02/
LOCATION:The Americana at Brand\, 889 Americana Way\, Glendale\, CA\, 91210\, United States
GEO:34.1445873;-118.2576743
X-APPLE-STRUCTURED-LOCATION;VALUE=URI;X-ADDRESS=The Americana at Brand 889 Americana Way Glendale CA 91210 United States;X-APPLE-RADIUS=500;X-TITLE=889 Americana Way:geo:-118.2576743,34.1445873
END:VEVENT
BEGIN:VEVENT
DTSTART;TZID=America/Los_Angeles:20170301T110000
DTEND;TZID=America/Los_Angeles:20170301T120000
DTSTAMP:20260425T070133
CREATED:20170803T204611Z
LAST-MODIFIED:20170803T204611Z
UID:10003779-1488366000-1488369600@downtownglendale.com
SUMMARY:Kids Yoga on the Green
DESCRIPTION:Please join us for a fun filled Kids Yoga class on The Green with Heather Mendoza. Recommended for 3-6 year olds\, but parents are always welcome to join in on the fun! \nWednesdays\, 11-11:45 a.m.
URL:https://downtownglendale.com/event/kids-yoga-green/2017-03-01/
LOCATION:The Americana at Brand\, 889 Americana Way\, Glendale\, CA\, 91210\, United States
GEO:34.1445873;-118.2576743
X-APPLE-STRUCTURED-LOCATION;VALUE=URI;X-ADDRESS=The Americana at Brand 889 Americana Way Glendale CA 91210 United States;X-APPLE-RADIUS=500;X-TITLE=889 Americana Way:geo:-118.2576743,34.1445873
END:VEVENT
BEGIN:VEVENT
DTSTART;TZID=America/Los_Angeles:20170223T110000
DTEND;TZID=America/Los_Angeles:20170223T120000
DTSTAMP:20260425T070133
CREATED:20170803T202055Z
LAST-MODIFIED:20170803T202055Z
UID:10003726-1487847600-1487851200@downtownglendale.com
SUMMARY:Yoga on the Green
DESCRIPTION:Join us for Yoga on The Green classes at The Americana at Brand on Thursdays from 11 a.m. – 12 p.m.! \nClasses are free and open to the public. \nMeet on The Green.
URL:https://downtownglendale.com/event/yoga-on-the-green/2017-02-23/
LOCATION:The Americana at Brand\, 889 Americana Way\, Glendale\, CA\, 91210\, United States
GEO:34.1445873;-118.2576743
X-APPLE-STRUCTURED-LOCATION;VALUE=URI;X-ADDRESS=The Americana at Brand 889 Americana Way Glendale CA 91210 United States;X-APPLE-RADIUS=500;X-TITLE=889 Americana Way:geo:-118.2576743,34.1445873
END:VEVENT
BEGIN:VEVENT
DTSTART;TZID=America/Los_Angeles:20170222T110000
DTEND;TZID=America/Los_Angeles:20170222T120000
DTSTAMP:20260425T070133
CREATED:20170803T204611Z
LAST-MODIFIED:20170803T204611Z
UID:10003778-1487761200-1487764800@downtownglendale.com
SUMMARY:Kids Yoga on the Green
DESCRIPTION:Please join us for a fun filled Kids Yoga class on The Green with Heather Mendoza. Recommended for 3-6 year olds\, but parents are always welcome to join in on the fun! \nWednesdays\, 11-11:45 a.m.
URL:https://downtownglendale.com/event/kids-yoga-green/2017-02-22/
LOCATION:The Americana at Brand\, 889 Americana Way\, Glendale\, CA\, 91210\, United States
GEO:34.1445873;-118.2576743
X-APPLE-STRUCTURED-LOCATION;VALUE=URI;X-ADDRESS=The Americana at Brand 889 Americana Way Glendale CA 91210 United States;X-APPLE-RADIUS=500;X-TITLE=889 Americana Way:geo:-118.2576743,34.1445873
END:VEVENT
BEGIN:VEVENT
DTSTART;TZID=America/Los_Angeles:20170216T110000
DTEND;TZID=America/Los_Angeles:20170216T120000
DTSTAMP:20260425T070133
CREATED:20170803T202055Z
LAST-MODIFIED:20170803T202055Z
UID:10003725-1487242800-1487246400@downtownglendale.com
SUMMARY:Yoga on the Green
DESCRIPTION:Join us for Yoga on The Green classes at The Americana at Brand on Thursdays from 11 a.m. – 12 p.m.! \nClasses are free and open to the public. \nMeet on The Green.
URL:https://downtownglendale.com/event/yoga-on-the-green/2017-02-16/
LOCATION:The Americana at Brand\, 889 Americana Way\, Glendale\, CA\, 91210\, United States
GEO:34.1445873;-118.2576743
X-APPLE-STRUCTURED-LOCATION;VALUE=URI;X-ADDRESS=The Americana at Brand 889 Americana Way Glendale CA 91210 United States;X-APPLE-RADIUS=500;X-TITLE=889 Americana Way:geo:-118.2576743,34.1445873
END:VEVENT
BEGIN:VEVENT
DTSTART;TZID=America/Los_Angeles:20170215T110000
DTEND;TZID=America/Los_Angeles:20170215T120000
DTSTAMP:20260425T070133
CREATED:20170803T204611Z
LAST-MODIFIED:20170803T204611Z
UID:10003777-1487156400-1487160000@downtownglendale.com
SUMMARY:Kids Yoga on the Green
DESCRIPTION:Please join us for a fun filled Kids Yoga class on The Green with Heather Mendoza. Recommended for 3-6 year olds\, but parents are always welcome to join in on the fun! \nWednesdays\, 11-11:45 a.m.
URL:https://downtownglendale.com/event/kids-yoga-green/2017-02-15/
LOCATION:The Americana at Brand\, 889 Americana Way\, Glendale\, CA\, 91210\, United States
GEO:34.1445873;-118.2576743
X-APPLE-STRUCTURED-LOCATION;VALUE=URI;X-ADDRESS=The Americana at Brand 889 Americana Way Glendale CA 91210 United States;X-APPLE-RADIUS=500;X-TITLE=889 Americana Way:geo:-118.2576743,34.1445873
END:VEVENT
BEGIN:VEVENT
DTSTART;TZID=America/Los_Angeles:20170209T110000
DTEND;TZID=America/Los_Angeles:20170209T120000
DTSTAMP:20260425T070133
CREATED:20170803T202055Z
LAST-MODIFIED:20170803T202055Z
UID:10003724-1486638000-1486641600@downtownglendale.com
SUMMARY:Yoga on the Green
DESCRIPTION:Join us for Yoga on The Green classes at The Americana at Brand on Thursdays from 11 a.m. – 12 p.m.! \nClasses are free and open to the public. \nMeet on The Green.
URL:https://downtownglendale.com/event/yoga-on-the-green/2017-02-09/
LOCATION:The Americana at Brand\, 889 Americana Way\, Glendale\, CA\, 91210\, United States
GEO:34.1445873;-118.2576743
X-APPLE-STRUCTURED-LOCATION;VALUE=URI;X-ADDRESS=The Americana at Brand 889 Americana Way Glendale CA 91210 United States;X-APPLE-RADIUS=500;X-TITLE=889 Americana Way:geo:-118.2576743,34.1445873
END:VEVENT
BEGIN:VEVENT
DTSTART;TZID=America/Los_Angeles:20170208T110000
DTEND;TZID=America/Los_Angeles:20170208T120000
DTSTAMP:20260425T070133
CREATED:20170803T204611Z
LAST-MODIFIED:20170803T204611Z
UID:10003776-1486551600-1486555200@downtownglendale.com
SUMMARY:Kids Yoga on the Green
DESCRIPTION:Please join us for a fun filled Kids Yoga class on The Green with Heather Mendoza. Recommended for 3-6 year olds\, but parents are always welcome to join in on the fun! \nWednesdays\, 11-11:45 a.m.
URL:https://downtownglendale.com/event/kids-yoga-green/2017-02-08/
LOCATION:The Americana at Brand\, 889 Americana Way\, Glendale\, CA\, 91210\, United States
GEO:34.1445873;-118.2576743
X-APPLE-STRUCTURED-LOCATION;VALUE=URI;X-ADDRESS=The Americana at Brand 889 Americana Way Glendale CA 91210 United States;X-APPLE-RADIUS=500;X-TITLE=889 Americana Way:geo:-118.2576743,34.1445873
END:VEVENT
BEGIN:VEVENT
DTSTART;TZID=America/Los_Angeles:20170202T110000
DTEND;TZID=America/Los_Angeles:20170202T120000
DTSTAMP:20260425T070133
CREATED:20170803T202055Z
LAST-MODIFIED:20170803T202055Z
UID:10003723-1486033200-1486036800@downtownglendale.com
SUMMARY:Yoga on the Green
DESCRIPTION:Join us for Yoga on The Green classes at The Americana at Brand on Thursdays from 11 a.m. – 12 p.m.! \nClasses are free and open to the public. \nMeet on The Green.
URL:https://downtownglendale.com/event/yoga-on-the-green/2017-02-02/
LOCATION:The Americana at Brand\, 889 Americana Way\, Glendale\, CA\, 91210\, United States
GEO:34.1445873;-118.2576743
X-APPLE-STRUCTURED-LOCATION;VALUE=URI;X-ADDRESS=The Americana at Brand 889 Americana Way Glendale CA 91210 United States;X-APPLE-RADIUS=500;X-TITLE=889 Americana Way:geo:-118.2576743,34.1445873
END:VEVENT
BEGIN:VEVENT
DTSTART;TZID=America/Los_Angeles:20170201T110000
DTEND;TZID=America/Los_Angeles:20170201T120000
DTSTAMP:20260425T070133
CREATED:20170803T204611Z
LAST-MODIFIED:20170803T204611Z
UID:10003775-1485946800-1485950400@downtownglendale.com
SUMMARY:Kids Yoga on the Green
DESCRIPTION:Please join us for a fun filled Kids Yoga class on The Green with Heather Mendoza. Recommended for 3-6 year olds\, but parents are always welcome to join in on the fun! \nWednesdays\, 11-11:45 a.m.
URL:https://downtownglendale.com/event/kids-yoga-green/2017-02-01/
LOCATION:The Americana at Brand\, 889 Americana Way\, Glendale\, CA\, 91210\, United States
GEO:34.1445873;-118.2576743
X-APPLE-STRUCTURED-LOCATION;VALUE=URI;X-ADDRESS=The Americana at Brand 889 Americana Way Glendale CA 91210 United States;X-APPLE-RADIUS=500;X-TITLE=889 Americana Way:geo:-118.2576743,34.1445873
END:VEVENT
BEGIN:VEVENT
DTSTART;TZID=America/Los_Angeles:20170126T110000
DTEND;TZID=America/Los_Angeles:20170126T120000
DTSTAMP:20260425T070133
CREATED:20170803T202055Z
LAST-MODIFIED:20170803T202055Z
UID:10003722-1485428400-1485432000@downtownglendale.com
SUMMARY:Yoga on the Green
DESCRIPTION:Join us for Yoga on The Green classes at The Americana at Brand on Thursdays from 11 a.m. – 12 p.m.! \nClasses are free and open to the public. \nMeet on The Green.
URL:https://downtownglendale.com/event/yoga-on-the-green/2017-01-26/
LOCATION:The Americana at Brand\, 889 Americana Way\, Glendale\, CA\, 91210\, United States
GEO:34.1445873;-118.2576743
X-APPLE-STRUCTURED-LOCATION;VALUE=URI;X-ADDRESS=The Americana at Brand 889 Americana Way Glendale CA 91210 United States;X-APPLE-RADIUS=500;X-TITLE=889 Americana Way:geo:-118.2576743,34.1445873
END:VEVENT
BEGIN:VEVENT
DTSTART;TZID=America/Los_Angeles:20170125T110000
DTEND;TZID=America/Los_Angeles:20170125T120000
DTSTAMP:20260425T070133
CREATED:20170803T204611Z
LAST-MODIFIED:20170803T204611Z
UID:10003774-1485342000-1485345600@downtownglendale.com
SUMMARY:Kids Yoga on the Green
DESCRIPTION:Please join us for a fun filled Kids Yoga class on The Green with Heather Mendoza. Recommended for 3-6 year olds\, but parents are always welcome to join in on the fun! \nWednesdays\, 11-11:45 a.m.
URL:https://downtownglendale.com/event/kids-yoga-green/2017-01-25/
LOCATION:The Americana at Brand\, 889 Americana Way\, Glendale\, CA\, 91210\, United States
GEO:34.1445873;-118.2576743
X-APPLE-STRUCTURED-LOCATION;VALUE=URI;X-ADDRESS=The Americana at Brand 889 Americana Way Glendale CA 91210 United States;X-APPLE-RADIUS=500;X-TITLE=889 Americana Way:geo:-118.2576743,34.1445873
END:VEVENT
BEGIN:VEVENT
DTSTART;TZID=America/Los_Angeles:20170119T110000
DTEND;TZID=America/Los_Angeles:20170119T120000
DTSTAMP:20260425T070133
CREATED:20170803T202055Z
LAST-MODIFIED:20170803T202055Z
UID:10003721-1484823600-1484827200@downtownglendale.com
SUMMARY:Yoga on the Green
DESCRIPTION:Join us for Yoga on The Green classes at The Americana at Brand on Thursdays from 11 a.m. – 12 p.m.! \nClasses are free and open to the public. \nMeet on The Green.
URL:https://downtownglendale.com/event/yoga-on-the-green/2017-01-19/
LOCATION:The Americana at Brand\, 889 Americana Way\, Glendale\, CA\, 91210\, United States
GEO:34.1445873;-118.2576743
X-APPLE-STRUCTURED-LOCATION;VALUE=URI;X-ADDRESS=The Americana at Brand 889 Americana Way Glendale CA 91210 United States;X-APPLE-RADIUS=500;X-TITLE=889 Americana Way:geo:-118.2576743,34.1445873
END:VEVENT
BEGIN:VEVENT
DTSTART;TZID=America/Los_Angeles:20170118T110000
DTEND;TZID=America/Los_Angeles:20170118T120000
DTSTAMP:20260425T070133
CREATED:20170803T204611Z
LAST-MODIFIED:20170803T204611Z
UID:10003773-1484737200-1484740800@downtownglendale.com
SUMMARY:Kids Yoga on the Green
DESCRIPTION:Please join us for a fun filled Kids Yoga class on The Green with Heather Mendoza. Recommended for 3-6 year olds\, but parents are always welcome to join in on the fun! \nWednesdays\, 11-11:45 a.m.
URL:https://downtownglendale.com/event/kids-yoga-green/2017-01-18/
LOCATION:The Americana at Brand\, 889 Americana Way\, Glendale\, CA\, 91210\, United States
GEO:34.1445873;-118.2576743
X-APPLE-STRUCTURED-LOCATION;VALUE=URI;X-ADDRESS=The Americana at Brand 889 Americana Way Glendale CA 91210 United States;X-APPLE-RADIUS=500;X-TITLE=889 Americana Way:geo:-118.2576743,34.1445873
END:VEVENT
BEGIN:VEVENT
DTSTART;TZID=America/Los_Angeles:20170112T110000
DTEND;TZID=America/Los_Angeles:20170112T120000
DTSTAMP:20260425T070133
CREATED:20170803T202055Z
LAST-MODIFIED:20170803T202055Z
UID:10003720-1484218800-1484222400@downtownglendale.com
SUMMARY:Yoga on the Green
DESCRIPTION:Join us for Yoga on The Green classes at The Americana at Brand on Thursdays from 11 a.m. – 12 p.m.! \nClasses are free and open to the public. \nMeet on The Green.
URL:https://downtownglendale.com/event/yoga-on-the-green/2017-01-12/
LOCATION:The Americana at Brand\, 889 Americana Way\, Glendale\, CA\, 91210\, United States
GEO:34.1445873;-118.2576743
X-APPLE-STRUCTURED-LOCATION;VALUE=URI;X-ADDRESS=The Americana at Brand 889 Americana Way Glendale CA 91210 United States;X-APPLE-RADIUS=500;X-TITLE=889 Americana Way:geo:-118.2576743,34.1445873
END:VEVENT
BEGIN:VEVENT
DTSTART;TZID=America/Los_Angeles:20170111T110000
DTEND;TZID=America/Los_Angeles:20170111T120000
DTSTAMP:20260425T070133
CREATED:20170803T204611Z
LAST-MODIFIED:20170803T204611Z
UID:10003772-1484132400-1484136000@downtownglendale.com
SUMMARY:Kids Yoga on the Green
DESCRIPTION:Please join us for a fun filled Kids Yoga class on The Green with Heather Mendoza. Recommended for 3-6 year olds\, but parents are always welcome to join in on the fun! \nWednesdays\, 11-11:45 a.m.
URL:https://downtownglendale.com/event/kids-yoga-green/2017-01-11/
LOCATION:The Americana at Brand\, 889 Americana Way\, Glendale\, CA\, 91210\, United States
GEO:34.1445873;-118.2576743
X-APPLE-STRUCTURED-LOCATION;VALUE=URI;X-ADDRESS=The Americana at Brand 889 Americana Way Glendale CA 91210 United States;X-APPLE-RADIUS=500;X-TITLE=889 Americana Way:geo:-118.2576743,34.1445873
END:VEVENT
BEGIN:VEVENT
DTSTART;TZID=America/Los_Angeles:20170105T110000
DTEND;TZID=America/Los_Angeles:20170105T120000
DTSTAMP:20260425T070133
CREATED:20170803T202055Z
LAST-MODIFIED:20170803T202055Z
UID:10003719-1483614000-1483617600@downtownglendale.com
SUMMARY:Yoga on the Green
DESCRIPTION:Join us for Yoga on The Green classes at The Americana at Brand on Thursdays from 11 a.m. – 12 p.m.! \nClasses are free and open to the public. \nMeet on The Green.
URL:https://downtownglendale.com/event/yoga-on-the-green/2017-01-05/
LOCATION:The Americana at Brand\, 889 Americana Way\, Glendale\, CA\, 91210\, United States
GEO:34.1445873;-118.2576743
X-APPLE-STRUCTURED-LOCATION;VALUE=URI;X-ADDRESS=The Americana at Brand 889 Americana Way Glendale CA 91210 United States;X-APPLE-RADIUS=500;X-TITLE=889 Americana Way:geo:-118.2576743,34.1445873
END:VEVENT
BEGIN:VEVENT
DTSTART;TZID=America/Los_Angeles:20170104T110000
DTEND;TZID=America/Los_Angeles:20170104T120000
DTSTAMP:20260425T070133
CREATED:20170803T204611Z
LAST-MODIFIED:20170803T204611Z
UID:10003771-1483527600-1483531200@downtownglendale.com
SUMMARY:Kids Yoga on the Green
DESCRIPTION:Please join us for a fun filled Kids Yoga class on The Green with Heather Mendoza. Recommended for 3-6 year olds\, but parents are always welcome to join in on the fun! \nWednesdays\, 11-11:45 a.m.
URL:https://downtownglendale.com/event/kids-yoga-green/2017-01-04/
LOCATION:The Americana at Brand\, 889 Americana Way\, Glendale\, CA\, 91210\, United States
GEO:34.1445873;-118.2576743
X-APPLE-STRUCTURED-LOCATION;VALUE=URI;X-ADDRESS=The Americana at Brand 889 Americana Way Glendale CA 91210 United States;X-APPLE-RADIUS=500;X-TITLE=889 Americana Way:geo:-118.2576743,34.1445873
END:VEVENT
BEGIN:VEVENT
DTSTART;TZID=America/Los_Angeles:20161218T093000
DTEND;TZID=America/Los_Angeles:20161218T103000
DTSTAMP:20260425T070133
CREATED:20160104T075803Z
LAST-MODIFIED:20160104T075803Z
UID:10003451-1482053400-1482057000@downtownglendale.com
SUMMARY:Yoga on The Green with Lululemon Athletica
DESCRIPTION:Join us for Yoga on The Green classes with Lululemon Athletica at The Americana at Brand on Sundays from 9:30AM – 10:30AM and Thursdays from 11AM – 12PM! \nClasses are free and open to the public. \nMeet on The Green.
URL:https://downtownglendale.com/event/yoga-on-the-green-with-lululemon-athletica-3/2016-12-18/
LOCATION:The Americana at Brand\, 889 Americana Way\, Glendale\, CA\, 91210\, United States
GEO:34.1445873;-118.2576743
X-APPLE-STRUCTURED-LOCATION;VALUE=URI;X-ADDRESS=The Americana at Brand 889 Americana Way Glendale CA 91210 United States;X-APPLE-RADIUS=500;X-TITLE=889 Americana Way:geo:-118.2576743,34.1445873
END:VEVENT
END:VCALENDAR