BEGIN:VCALENDAR
VERSION:2.0
PRODID:-//Downtown Glendale - ECPv6.15.20//NONSGML v1.0//EN
CALSCALE:GREGORIAN
METHOD:PUBLISH
X-WR-CALNAME:Downtown Glendale
X-ORIGINAL-URL:https://downtownglendale.com
X-WR-CALDESC:Events for Downtown Glendale
REFRESH-INTERVAL;VALUE=DURATION:PT1H
X-Robots-Tag:noindex
X-PUBLISHED-TTL:PT1H
BEGIN:VTIMEZONE
TZID:America/Los_Angeles
BEGIN:DAYLIGHT
TZOFFSETFROM:-0800
TZOFFSETTO:-0700
TZNAME:PDT
DTSTART:20150308T100000
END:DAYLIGHT
BEGIN:STANDARD
TZOFFSETFROM:-0700
TZOFFSETTO:-0800
TZNAME:PST
DTSTART:20151101T090000
END:STANDARD
BEGIN:DAYLIGHT
TZOFFSETFROM:-0800
TZOFFSETTO:-0700
TZNAME:PDT
DTSTART:20160313T100000
END:DAYLIGHT
BEGIN:STANDARD
TZOFFSETFROM:-0700
TZOFFSETTO:-0800
TZNAME:PST
DTSTART:20161106T090000
END:STANDARD
BEGIN:DAYLIGHT
TZOFFSETFROM:-0800
TZOFFSETTO:-0700
TZNAME:PDT
DTSTART:20170312T100000
END:DAYLIGHT
BEGIN:STANDARD
TZOFFSETFROM:-0700
TZOFFSETTO:-0800
TZNAME:PST
DTSTART:20171105T090000
END:STANDARD
END:VTIMEZONE
BEGIN:VEVENT
DTSTART;TZID=America/Los_Angeles:20161013T110000
DTEND;TZID=America/Los_Angeles:20161013T120000
DTSTAMP:20260425T163354
CREATED:20160104T080035Z
LAST-MODIFIED:20160104T080035Z
UID:10003492-1476356400-1476360000@downtownglendale.com
SUMMARY:Yoga on The Green with Lululemon Athletica
DESCRIPTION:Join us for Yoga on The Green classes with Lululemon Athletica at The Americana at Brand on Sundays from 9:30AM – 10:30AM and Thursdays from 11AM – 12PM! \nClasses are free and open to the public. \nMeet on The Green.
URL:https://downtownglendale.com/event/yoga-on-the-green-with-lululemon-athletica-4/2016-10-13/
LOCATION:The Americana at Brand\, 889 Americana Way\, Glendale\, CA\, 91210\, United States
GEO:34.1445873;-118.2576743
X-APPLE-STRUCTURED-LOCATION;VALUE=URI;X-ADDRESS=The Americana at Brand 889 Americana Way Glendale CA 91210 United States;X-APPLE-RADIUS=500;X-TITLE=889 Americana Way:geo:-118.2576743,34.1445873
END:VEVENT
BEGIN:VEVENT
DTSTART;TZID=America/Los_Angeles:20161009T093000
DTEND;TZID=America/Los_Angeles:20161009T103000
DTSTAMP:20260425T163354
CREATED:20160104T075803Z
LAST-MODIFIED:20160104T075803Z
UID:10003441-1476005400-1476009000@downtownglendale.com
SUMMARY:Yoga on The Green with Lululemon Athletica
DESCRIPTION:Join us for Yoga on The Green classes with Lululemon Athletica at The Americana at Brand on Sundays from 9:30AM – 10:30AM and Thursdays from 11AM – 12PM! \nClasses are free and open to the public. \nMeet on The Green.
URL:https://downtownglendale.com/event/yoga-on-the-green-with-lululemon-athletica-3/2016-10-09/
LOCATION:The Americana at Brand\, 889 Americana Way\, Glendale\, CA\, 91210\, United States
GEO:34.1445873;-118.2576743
X-APPLE-STRUCTURED-LOCATION;VALUE=URI;X-ADDRESS=The Americana at Brand 889 Americana Way Glendale CA 91210 United States;X-APPLE-RADIUS=500;X-TITLE=889 Americana Way:geo:-118.2576743,34.1445873
END:VEVENT
BEGIN:VEVENT
DTSTART;TZID=America/Los_Angeles:20161006T110000
DTEND;TZID=America/Los_Angeles:20161006T120000
DTSTAMP:20260425T163354
CREATED:20160104T080035Z
LAST-MODIFIED:20160104T080035Z
UID:10003491-1475751600-1475755200@downtownglendale.com
SUMMARY:Yoga on The Green with Lululemon Athletica
DESCRIPTION:Join us for Yoga on The Green classes with Lululemon Athletica at The Americana at Brand on Sundays from 9:30AM – 10:30AM and Thursdays from 11AM – 12PM! \nClasses are free and open to the public. \nMeet on The Green.
URL:https://downtownglendale.com/event/yoga-on-the-green-with-lululemon-athletica-4/2016-10-06/
LOCATION:The Americana at Brand\, 889 Americana Way\, Glendale\, CA\, 91210\, United States
GEO:34.1445873;-118.2576743
X-APPLE-STRUCTURED-LOCATION;VALUE=URI;X-ADDRESS=The Americana at Brand 889 Americana Way Glendale CA 91210 United States;X-APPLE-RADIUS=500;X-TITLE=889 Americana Way:geo:-118.2576743,34.1445873
END:VEVENT
BEGIN:VEVENT
DTSTART;TZID=America/Los_Angeles:20161002T093000
DTEND;TZID=America/Los_Angeles:20161002T103000
DTSTAMP:20260425T163354
CREATED:20160104T075803Z
LAST-MODIFIED:20160104T075803Z
UID:10003440-1475400600-1475404200@downtownglendale.com
SUMMARY:Yoga on The Green with Lululemon Athletica
DESCRIPTION:Join us for Yoga on The Green classes with Lululemon Athletica at The Americana at Brand on Sundays from 9:30AM – 10:30AM and Thursdays from 11AM – 12PM! \nClasses are free and open to the public. \nMeet on The Green.
URL:https://downtownglendale.com/event/yoga-on-the-green-with-lululemon-athletica-3/2016-10-02/
LOCATION:The Americana at Brand\, 889 Americana Way\, Glendale\, CA\, 91210\, United States
GEO:34.1445873;-118.2576743
X-APPLE-STRUCTURED-LOCATION;VALUE=URI;X-ADDRESS=The Americana at Brand 889 Americana Way Glendale CA 91210 United States;X-APPLE-RADIUS=500;X-TITLE=889 Americana Way:geo:-118.2576743,34.1445873
END:VEVENT
BEGIN:VEVENT
DTSTART;TZID=America/Los_Angeles:20160929T110000
DTEND;TZID=America/Los_Angeles:20160929T120000
DTSTAMP:20260425T163354
CREATED:20160104T080035Z
LAST-MODIFIED:20160104T080035Z
UID:10003490-1475146800-1475150400@downtownglendale.com
SUMMARY:Yoga on The Green with Lululemon Athletica
DESCRIPTION:Join us for Yoga on The Green classes with Lululemon Athletica at The Americana at Brand on Sundays from 9:30AM – 10:30AM and Thursdays from 11AM – 12PM! \nClasses are free and open to the public. \nMeet on The Green.
URL:https://downtownglendale.com/event/yoga-on-the-green-with-lululemon-athletica-4/2016-09-29/
LOCATION:The Americana at Brand\, 889 Americana Way\, Glendale\, CA\, 91210\, United States
GEO:34.1445873;-118.2576743
X-APPLE-STRUCTURED-LOCATION;VALUE=URI;X-ADDRESS=The Americana at Brand 889 Americana Way Glendale CA 91210 United States;X-APPLE-RADIUS=500;X-TITLE=889 Americana Way:geo:-118.2576743,34.1445873
END:VEVENT
BEGIN:VEVENT
DTSTART;TZID=America/Los_Angeles:20160925T093000
DTEND;TZID=America/Los_Angeles:20160925T103000
DTSTAMP:20260425T163354
CREATED:20160104T075803Z
LAST-MODIFIED:20160104T075803Z
UID:10003439-1474795800-1474799400@downtownglendale.com
SUMMARY:Yoga on The Green with Lululemon Athletica
DESCRIPTION:Join us for Yoga on The Green classes with Lululemon Athletica at The Americana at Brand on Sundays from 9:30AM – 10:30AM and Thursdays from 11AM – 12PM! \nClasses are free and open to the public. \nMeet on The Green.
URL:https://downtownglendale.com/event/yoga-on-the-green-with-lululemon-athletica-3/2016-09-25/
LOCATION:The Americana at Brand\, 889 Americana Way\, Glendale\, CA\, 91210\, United States
GEO:34.1445873;-118.2576743
X-APPLE-STRUCTURED-LOCATION;VALUE=URI;X-ADDRESS=The Americana at Brand 889 Americana Way Glendale CA 91210 United States;X-APPLE-RADIUS=500;X-TITLE=889 Americana Way:geo:-118.2576743,34.1445873
END:VEVENT
BEGIN:VEVENT
DTSTART;TZID=America/Los_Angeles:20160922T110000
DTEND;TZID=America/Los_Angeles:20160922T120000
DTSTAMP:20260425T163354
CREATED:20160104T080035Z
LAST-MODIFIED:20160104T080035Z
UID:10003489-1474542000-1474545600@downtownglendale.com
SUMMARY:Yoga on The Green with Lululemon Athletica
DESCRIPTION:Join us for Yoga on The Green classes with Lululemon Athletica at The Americana at Brand on Sundays from 9:30AM – 10:30AM and Thursdays from 11AM – 12PM! \nClasses are free and open to the public. \nMeet on The Green.
URL:https://downtownglendale.com/event/yoga-on-the-green-with-lululemon-athletica-4/2016-09-22/
LOCATION:The Americana at Brand\, 889 Americana Way\, Glendale\, CA\, 91210\, United States
GEO:34.1445873;-118.2576743
X-APPLE-STRUCTURED-LOCATION;VALUE=URI;X-ADDRESS=The Americana at Brand 889 Americana Way Glendale CA 91210 United States;X-APPLE-RADIUS=500;X-TITLE=889 Americana Way:geo:-118.2576743,34.1445873
END:VEVENT
BEGIN:VEVENT
DTSTART;TZID=America/Los_Angeles:20160918T093000
DTEND;TZID=America/Los_Angeles:20160918T103000
DTSTAMP:20260425T163354
CREATED:20160104T075803Z
LAST-MODIFIED:20160104T075803Z
UID:10003438-1474191000-1474194600@downtownglendale.com
SUMMARY:Yoga on The Green with Lululemon Athletica
DESCRIPTION:Join us for Yoga on The Green classes with Lululemon Athletica at The Americana at Brand on Sundays from 9:30AM – 10:30AM and Thursdays from 11AM – 12PM! \nClasses are free and open to the public. \nMeet on The Green.
URL:https://downtownglendale.com/event/yoga-on-the-green-with-lululemon-athletica-3/2016-09-18/
LOCATION:The Americana at Brand\, 889 Americana Way\, Glendale\, CA\, 91210\, United States
GEO:34.1445873;-118.2576743
X-APPLE-STRUCTURED-LOCATION;VALUE=URI;X-ADDRESS=The Americana at Brand 889 Americana Way Glendale CA 91210 United States;X-APPLE-RADIUS=500;X-TITLE=889 Americana Way:geo:-118.2576743,34.1445873
END:VEVENT
BEGIN:VEVENT
DTSTART;TZID=America/Los_Angeles:20160915T110000
DTEND;TZID=America/Los_Angeles:20160915T120000
DTSTAMP:20260425T163354
CREATED:20160104T080035Z
LAST-MODIFIED:20160104T080035Z
UID:10003488-1473937200-1473940800@downtownglendale.com
SUMMARY:Yoga on The Green with Lululemon Athletica
DESCRIPTION:Join us for Yoga on The Green classes with Lululemon Athletica at The Americana at Brand on Sundays from 9:30AM – 10:30AM and Thursdays from 11AM – 12PM! \nClasses are free and open to the public. \nMeet on The Green.
URL:https://downtownglendale.com/event/yoga-on-the-green-with-lululemon-athletica-4/2016-09-15/
LOCATION:The Americana at Brand\, 889 Americana Way\, Glendale\, CA\, 91210\, United States
GEO:34.1445873;-118.2576743
X-APPLE-STRUCTURED-LOCATION;VALUE=URI;X-ADDRESS=The Americana at Brand 889 Americana Way Glendale CA 91210 United States;X-APPLE-RADIUS=500;X-TITLE=889 Americana Way:geo:-118.2576743,34.1445873
END:VEVENT
BEGIN:VEVENT
DTSTART;TZID=America/Los_Angeles:20160911T093000
DTEND;TZID=America/Los_Angeles:20160911T103000
DTSTAMP:20260425T163354
CREATED:20160104T075803Z
LAST-MODIFIED:20160104T075803Z
UID:10003437-1473586200-1473589800@downtownglendale.com
SUMMARY:Yoga on The Green with Lululemon Athletica
DESCRIPTION:Join us for Yoga on The Green classes with Lululemon Athletica at The Americana at Brand on Sundays from 9:30AM – 10:30AM and Thursdays from 11AM – 12PM! \nClasses are free and open to the public. \nMeet on The Green.
URL:https://downtownglendale.com/event/yoga-on-the-green-with-lululemon-athletica-3/2016-09-11/
LOCATION:The Americana at Brand\, 889 Americana Way\, Glendale\, CA\, 91210\, United States
GEO:34.1445873;-118.2576743
X-APPLE-STRUCTURED-LOCATION;VALUE=URI;X-ADDRESS=The Americana at Brand 889 Americana Way Glendale CA 91210 United States;X-APPLE-RADIUS=500;X-TITLE=889 Americana Way:geo:-118.2576743,34.1445873
END:VEVENT
BEGIN:VEVENT
DTSTART;TZID=America/Los_Angeles:20160908T110000
DTEND;TZID=America/Los_Angeles:20160908T120000
DTSTAMP:20260425T163354
CREATED:20160104T080035Z
LAST-MODIFIED:20160104T080035Z
UID:10003487-1473332400-1473336000@downtownglendale.com
SUMMARY:Yoga on The Green with Lululemon Athletica
DESCRIPTION:Join us for Yoga on The Green classes with Lululemon Athletica at The Americana at Brand on Sundays from 9:30AM – 10:30AM and Thursdays from 11AM – 12PM! \nClasses are free and open to the public. \nMeet on The Green.
URL:https://downtownglendale.com/event/yoga-on-the-green-with-lululemon-athletica-4/2016-09-08/
LOCATION:The Americana at Brand\, 889 Americana Way\, Glendale\, CA\, 91210\, United States
GEO:34.1445873;-118.2576743
X-APPLE-STRUCTURED-LOCATION;VALUE=URI;X-ADDRESS=The Americana at Brand 889 Americana Way Glendale CA 91210 United States;X-APPLE-RADIUS=500;X-TITLE=889 Americana Way:geo:-118.2576743,34.1445873
END:VEVENT
BEGIN:VEVENT
DTSTART;TZID=America/Los_Angeles:20160904T093000
DTEND;TZID=America/Los_Angeles:20160904T103000
DTSTAMP:20260425T163354
CREATED:20160104T075803Z
LAST-MODIFIED:20160104T075803Z
UID:10003436-1472981400-1472985000@downtownglendale.com
SUMMARY:Yoga on The Green with Lululemon Athletica
DESCRIPTION:Join us for Yoga on The Green classes with Lululemon Athletica at The Americana at Brand on Sundays from 9:30AM – 10:30AM and Thursdays from 11AM – 12PM! \nClasses are free and open to the public. \nMeet on The Green.
URL:https://downtownglendale.com/event/yoga-on-the-green-with-lululemon-athletica-3/2016-09-04/
LOCATION:The Americana at Brand\, 889 Americana Way\, Glendale\, CA\, 91210\, United States
GEO:34.1445873;-118.2576743
X-APPLE-STRUCTURED-LOCATION;VALUE=URI;X-ADDRESS=The Americana at Brand 889 Americana Way Glendale CA 91210 United States;X-APPLE-RADIUS=500;X-TITLE=889 Americana Way:geo:-118.2576743,34.1445873
END:VEVENT
BEGIN:VEVENT
DTSTART;TZID=America/Los_Angeles:20160901T110000
DTEND;TZID=America/Los_Angeles:20160901T120000
DTSTAMP:20260425T163354
CREATED:20160104T080035Z
LAST-MODIFIED:20160104T080035Z
UID:10003486-1472727600-1472731200@downtownglendale.com
SUMMARY:Yoga on The Green with Lululemon Athletica
DESCRIPTION:Join us for Yoga on The Green classes with Lululemon Athletica at The Americana at Brand on Sundays from 9:30AM – 10:30AM and Thursdays from 11AM – 12PM! \nClasses are free and open to the public. \nMeet on The Green.
URL:https://downtownglendale.com/event/yoga-on-the-green-with-lululemon-athletica-4/2016-09-01/
LOCATION:The Americana at Brand\, 889 Americana Way\, Glendale\, CA\, 91210\, United States
GEO:34.1445873;-118.2576743
X-APPLE-STRUCTURED-LOCATION;VALUE=URI;X-ADDRESS=The Americana at Brand 889 Americana Way Glendale CA 91210 United States;X-APPLE-RADIUS=500;X-TITLE=889 Americana Way:geo:-118.2576743,34.1445873
END:VEVENT
BEGIN:VEVENT
DTSTART;TZID=America/Los_Angeles:20160828T093000
DTEND;TZID=America/Los_Angeles:20160828T103000
DTSTAMP:20260425T163354
CREATED:20160104T075803Z
LAST-MODIFIED:20160104T075803Z
UID:10003435-1472376600-1472380200@downtownglendale.com
SUMMARY:Yoga on The Green with Lululemon Athletica
DESCRIPTION:Join us for Yoga on The Green classes with Lululemon Athletica at The Americana at Brand on Sundays from 9:30AM – 10:30AM and Thursdays from 11AM – 12PM! \nClasses are free and open to the public. \nMeet on The Green.
URL:https://downtownglendale.com/event/yoga-on-the-green-with-lululemon-athletica-3/2016-08-28/
LOCATION:The Americana at Brand\, 889 Americana Way\, Glendale\, CA\, 91210\, United States
GEO:34.1445873;-118.2576743
X-APPLE-STRUCTURED-LOCATION;VALUE=URI;X-ADDRESS=The Americana at Brand 889 Americana Way Glendale CA 91210 United States;X-APPLE-RADIUS=500;X-TITLE=889 Americana Way:geo:-118.2576743,34.1445873
END:VEVENT
BEGIN:VEVENT
DTSTART;TZID=America/Los_Angeles:20160825T110000
DTEND;TZID=America/Los_Angeles:20160825T120000
DTSTAMP:20260425T163354
CREATED:20160104T080035Z
LAST-MODIFIED:20160104T080035Z
UID:10003485-1472122800-1472126400@downtownglendale.com
SUMMARY:Yoga on The Green with Lululemon Athletica
DESCRIPTION:Join us for Yoga on The Green classes with Lululemon Athletica at The Americana at Brand on Sundays from 9:30AM – 10:30AM and Thursdays from 11AM – 12PM! \nClasses are free and open to the public. \nMeet on The Green.
URL:https://downtownglendale.com/event/yoga-on-the-green-with-lululemon-athletica-4/2016-08-25/
LOCATION:The Americana at Brand\, 889 Americana Way\, Glendale\, CA\, 91210\, United States
GEO:34.1445873;-118.2576743
X-APPLE-STRUCTURED-LOCATION;VALUE=URI;X-ADDRESS=The Americana at Brand 889 Americana Way Glendale CA 91210 United States;X-APPLE-RADIUS=500;X-TITLE=889 Americana Way:geo:-118.2576743,34.1445873
END:VEVENT
BEGIN:VEVENT
DTSTART;TZID=America/Los_Angeles:20160821T093000
DTEND;TZID=America/Los_Angeles:20160821T103000
DTSTAMP:20260425T163354
CREATED:20160104T075803Z
LAST-MODIFIED:20160104T075803Z
UID:10003434-1471771800-1471775400@downtownglendale.com
SUMMARY:Yoga on The Green with Lululemon Athletica
DESCRIPTION:Join us for Yoga on The Green classes with Lululemon Athletica at The Americana at Brand on Sundays from 9:30AM – 10:30AM and Thursdays from 11AM – 12PM! \nClasses are free and open to the public. \nMeet on The Green.
URL:https://downtownglendale.com/event/yoga-on-the-green-with-lululemon-athletica-3/2016-08-21/
LOCATION:The Americana at Brand\, 889 Americana Way\, Glendale\, CA\, 91210\, United States
GEO:34.1445873;-118.2576743
X-APPLE-STRUCTURED-LOCATION;VALUE=URI;X-ADDRESS=The Americana at Brand 889 Americana Way Glendale CA 91210 United States;X-APPLE-RADIUS=500;X-TITLE=889 Americana Way:geo:-118.2576743,34.1445873
END:VEVENT
BEGIN:VEVENT
DTSTART;TZID=America/Los_Angeles:20160818T110000
DTEND;TZID=America/Los_Angeles:20160818T120000
DTSTAMP:20260425T163354
CREATED:20160104T080035Z
LAST-MODIFIED:20160104T080035Z
UID:10003484-1471518000-1471521600@downtownglendale.com
SUMMARY:Yoga on The Green with Lululemon Athletica
DESCRIPTION:Join us for Yoga on The Green classes with Lululemon Athletica at The Americana at Brand on Sundays from 9:30AM – 10:30AM and Thursdays from 11AM – 12PM! \nClasses are free and open to the public. \nMeet on The Green.
URL:https://downtownglendale.com/event/yoga-on-the-green-with-lululemon-athletica-4/2016-08-18/
LOCATION:The Americana at Brand\, 889 Americana Way\, Glendale\, CA\, 91210\, United States
GEO:34.1445873;-118.2576743
X-APPLE-STRUCTURED-LOCATION;VALUE=URI;X-ADDRESS=The Americana at Brand 889 Americana Way Glendale CA 91210 United States;X-APPLE-RADIUS=500;X-TITLE=889 Americana Way:geo:-118.2576743,34.1445873
END:VEVENT
BEGIN:VEVENT
DTSTART;TZID=America/Los_Angeles:20160814T093000
DTEND;TZID=America/Los_Angeles:20160814T103000
DTSTAMP:20260425T163354
CREATED:20160104T075803Z
LAST-MODIFIED:20160104T075803Z
UID:10003433-1471167000-1471170600@downtownglendale.com
SUMMARY:Yoga on The Green with Lululemon Athletica
DESCRIPTION:Join us for Yoga on The Green classes with Lululemon Athletica at The Americana at Brand on Sundays from 9:30AM – 10:30AM and Thursdays from 11AM – 12PM! \nClasses are free and open to the public. \nMeet on The Green.
URL:https://downtownglendale.com/event/yoga-on-the-green-with-lululemon-athletica-3/2016-08-14/
LOCATION:The Americana at Brand\, 889 Americana Way\, Glendale\, CA\, 91210\, United States
GEO:34.1445873;-118.2576743
X-APPLE-STRUCTURED-LOCATION;VALUE=URI;X-ADDRESS=The Americana at Brand 889 Americana Way Glendale CA 91210 United States;X-APPLE-RADIUS=500;X-TITLE=889 Americana Way:geo:-118.2576743,34.1445873
END:VEVENT
BEGIN:VEVENT
DTSTART;TZID=America/Los_Angeles:20160811T110000
DTEND;TZID=America/Los_Angeles:20160811T120000
DTSTAMP:20260425T163354
CREATED:20160104T080035Z
LAST-MODIFIED:20160104T080035Z
UID:10003483-1470913200-1470916800@downtownglendale.com
SUMMARY:Yoga on The Green with Lululemon Athletica
DESCRIPTION:Join us for Yoga on The Green classes with Lululemon Athletica at The Americana at Brand on Sundays from 9:30AM – 10:30AM and Thursdays from 11AM – 12PM! \nClasses are free and open to the public. \nMeet on The Green.
URL:https://downtownglendale.com/event/yoga-on-the-green-with-lululemon-athletica-4/2016-08-11/
LOCATION:The Americana at Brand\, 889 Americana Way\, Glendale\, CA\, 91210\, United States
GEO:34.1445873;-118.2576743
X-APPLE-STRUCTURED-LOCATION;VALUE=URI;X-ADDRESS=The Americana at Brand 889 Americana Way Glendale CA 91210 United States;X-APPLE-RADIUS=500;X-TITLE=889 Americana Way:geo:-118.2576743,34.1445873
END:VEVENT
BEGIN:VEVENT
DTSTART;TZID=America/Los_Angeles:20160807T093000
DTEND;TZID=America/Los_Angeles:20160807T103000
DTSTAMP:20260425T163354
CREATED:20160104T075803Z
LAST-MODIFIED:20160104T075803Z
UID:10003432-1470562200-1470565800@downtownglendale.com
SUMMARY:Yoga on The Green with Lululemon Athletica
DESCRIPTION:Join us for Yoga on The Green classes with Lululemon Athletica at The Americana at Brand on Sundays from 9:30AM – 10:30AM and Thursdays from 11AM – 12PM! \nClasses are free and open to the public. \nMeet on The Green.
URL:https://downtownglendale.com/event/yoga-on-the-green-with-lululemon-athletica-3/2016-08-07/
LOCATION:The Americana at Brand\, 889 Americana Way\, Glendale\, CA\, 91210\, United States
GEO:34.1445873;-118.2576743
X-APPLE-STRUCTURED-LOCATION;VALUE=URI;X-ADDRESS=The Americana at Brand 889 Americana Way Glendale CA 91210 United States;X-APPLE-RADIUS=500;X-TITLE=889 Americana Way:geo:-118.2576743,34.1445873
END:VEVENT
BEGIN:VEVENT
DTSTART;TZID=America/Los_Angeles:20160804T110000
DTEND;TZID=America/Los_Angeles:20160804T120000
DTSTAMP:20260425T163354
CREATED:20160104T080035Z
LAST-MODIFIED:20160104T080035Z
UID:10003482-1470308400-1470312000@downtownglendale.com
SUMMARY:Yoga on The Green with Lululemon Athletica
DESCRIPTION:Join us for Yoga on The Green classes with Lululemon Athletica at The Americana at Brand on Sundays from 9:30AM – 10:30AM and Thursdays from 11AM – 12PM! \nClasses are free and open to the public. \nMeet on The Green.
URL:https://downtownglendale.com/event/yoga-on-the-green-with-lululemon-athletica-4/2016-08-04/
LOCATION:The Americana at Brand\, 889 Americana Way\, Glendale\, CA\, 91210\, United States
GEO:34.1445873;-118.2576743
X-APPLE-STRUCTURED-LOCATION;VALUE=URI;X-ADDRESS=The Americana at Brand 889 Americana Way Glendale CA 91210 United States;X-APPLE-RADIUS=500;X-TITLE=889 Americana Way:geo:-118.2576743,34.1445873
END:VEVENT
BEGIN:VEVENT
DTSTART;TZID=America/Los_Angeles:20160731T093000
DTEND;TZID=America/Los_Angeles:20160731T103000
DTSTAMP:20260425T163354
CREATED:20160104T075803Z
LAST-MODIFIED:20160104T075803Z
UID:10003431-1469957400-1469961000@downtownglendale.com
SUMMARY:Yoga on The Green with Lululemon Athletica
DESCRIPTION:Join us for Yoga on The Green classes with Lululemon Athletica at The Americana at Brand on Sundays from 9:30AM – 10:30AM and Thursdays from 11AM – 12PM! \nClasses are free and open to the public. \nMeet on The Green.
URL:https://downtownglendale.com/event/yoga-on-the-green-with-lululemon-athletica-3/2016-07-31/
LOCATION:The Americana at Brand\, 889 Americana Way\, Glendale\, CA\, 91210\, United States
GEO:34.1445873;-118.2576743
X-APPLE-STRUCTURED-LOCATION;VALUE=URI;X-ADDRESS=The Americana at Brand 889 Americana Way Glendale CA 91210 United States;X-APPLE-RADIUS=500;X-TITLE=889 Americana Way:geo:-118.2576743,34.1445873
END:VEVENT
BEGIN:VEVENT
DTSTART;TZID=America/Los_Angeles:20160728T110000
DTEND;TZID=America/Los_Angeles:20160728T120000
DTSTAMP:20260425T163354
CREATED:20160104T080035Z
LAST-MODIFIED:20160104T080035Z
UID:10003481-1469703600-1469707200@downtownglendale.com
SUMMARY:Yoga on The Green with Lululemon Athletica
DESCRIPTION:Join us for Yoga on The Green classes with Lululemon Athletica at The Americana at Brand on Sundays from 9:30AM – 10:30AM and Thursdays from 11AM – 12PM! \nClasses are free and open to the public. \nMeet on The Green.
URL:https://downtownglendale.com/event/yoga-on-the-green-with-lululemon-athletica-4/2016-07-28/
LOCATION:The Americana at Brand\, 889 Americana Way\, Glendale\, CA\, 91210\, United States
GEO:34.1445873;-118.2576743
X-APPLE-STRUCTURED-LOCATION;VALUE=URI;X-ADDRESS=The Americana at Brand 889 Americana Way Glendale CA 91210 United States;X-APPLE-RADIUS=500;X-TITLE=889 Americana Way:geo:-118.2576743,34.1445873
END:VEVENT
BEGIN:VEVENT
DTSTART;TZID=America/Los_Angeles:20160724T093000
DTEND;TZID=America/Los_Angeles:20160724T103000
DTSTAMP:20260425T163354
CREATED:20160104T075803Z
LAST-MODIFIED:20160104T075803Z
UID:10003430-1469352600-1469356200@downtownglendale.com
SUMMARY:Yoga on The Green with Lululemon Athletica
DESCRIPTION:Join us for Yoga on The Green classes with Lululemon Athletica at The Americana at Brand on Sundays from 9:30AM – 10:30AM and Thursdays from 11AM – 12PM! \nClasses are free and open to the public. \nMeet on The Green.
URL:https://downtownglendale.com/event/yoga-on-the-green-with-lululemon-athletica-3/2016-07-24/
LOCATION:The Americana at Brand\, 889 Americana Way\, Glendale\, CA\, 91210\, United States
GEO:34.1445873;-118.2576743
X-APPLE-STRUCTURED-LOCATION;VALUE=URI;X-ADDRESS=The Americana at Brand 889 Americana Way Glendale CA 91210 United States;X-APPLE-RADIUS=500;X-TITLE=889 Americana Way:geo:-118.2576743,34.1445873
END:VEVENT
BEGIN:VEVENT
DTSTART;TZID=America/Los_Angeles:20160721T110000
DTEND;TZID=America/Los_Angeles:20160721T120000
DTSTAMP:20260425T163354
CREATED:20160104T080035Z
LAST-MODIFIED:20160104T080035Z
UID:10003480-1469098800-1469102400@downtownglendale.com
SUMMARY:Yoga on The Green with Lululemon Athletica
DESCRIPTION:Join us for Yoga on The Green classes with Lululemon Athletica at The Americana at Brand on Sundays from 9:30AM – 10:30AM and Thursdays from 11AM – 12PM! \nClasses are free and open to the public. \nMeet on The Green.
URL:https://downtownglendale.com/event/yoga-on-the-green-with-lululemon-athletica-4/2016-07-21/
LOCATION:The Americana at Brand\, 889 Americana Way\, Glendale\, CA\, 91210\, United States
GEO:34.1445873;-118.2576743
X-APPLE-STRUCTURED-LOCATION;VALUE=URI;X-ADDRESS=The Americana at Brand 889 Americana Way Glendale CA 91210 United States;X-APPLE-RADIUS=500;X-TITLE=889 Americana Way:geo:-118.2576743,34.1445873
END:VEVENT
BEGIN:VEVENT
DTSTART;TZID=America/Los_Angeles:20160717T093000
DTEND;TZID=America/Los_Angeles:20160717T103000
DTSTAMP:20260425T163354
CREATED:20160104T075803Z
LAST-MODIFIED:20160104T075803Z
UID:10003429-1468747800-1468751400@downtownglendale.com
SUMMARY:Yoga on The Green with Lululemon Athletica
DESCRIPTION:Join us for Yoga on The Green classes with Lululemon Athletica at The Americana at Brand on Sundays from 9:30AM – 10:30AM and Thursdays from 11AM – 12PM! \nClasses are free and open to the public. \nMeet on The Green.
URL:https://downtownglendale.com/event/yoga-on-the-green-with-lululemon-athletica-3/2016-07-17/
LOCATION:The Americana at Brand\, 889 Americana Way\, Glendale\, CA\, 91210\, United States
GEO:34.1445873;-118.2576743
X-APPLE-STRUCTURED-LOCATION;VALUE=URI;X-ADDRESS=The Americana at Brand 889 Americana Way Glendale CA 91210 United States;X-APPLE-RADIUS=500;X-TITLE=889 Americana Way:geo:-118.2576743,34.1445873
END:VEVENT
BEGIN:VEVENT
DTSTART;TZID=America/Los_Angeles:20160714T110000
DTEND;TZID=America/Los_Angeles:20160714T120000
DTSTAMP:20260425T163354
CREATED:20160104T080035Z
LAST-MODIFIED:20160104T080035Z
UID:10003479-1468494000-1468497600@downtownglendale.com
SUMMARY:Yoga on The Green with Lululemon Athletica
DESCRIPTION:Join us for Yoga on The Green classes with Lululemon Athletica at The Americana at Brand on Sundays from 9:30AM – 10:30AM and Thursdays from 11AM – 12PM! \nClasses are free and open to the public. \nMeet on The Green.
URL:https://downtownglendale.com/event/yoga-on-the-green-with-lululemon-athletica-4/2016-07-14/
LOCATION:The Americana at Brand\, 889 Americana Way\, Glendale\, CA\, 91210\, United States
GEO:34.1445873;-118.2576743
X-APPLE-STRUCTURED-LOCATION;VALUE=URI;X-ADDRESS=The Americana at Brand 889 Americana Way Glendale CA 91210 United States;X-APPLE-RADIUS=500;X-TITLE=889 Americana Way:geo:-118.2576743,34.1445873
END:VEVENT
BEGIN:VEVENT
DTSTART;TZID=America/Los_Angeles:20160710T093000
DTEND;TZID=America/Los_Angeles:20160710T103000
DTSTAMP:20260425T163354
CREATED:20160104T075803Z
LAST-MODIFIED:20160104T075803Z
UID:10003428-1468143000-1468146600@downtownglendale.com
SUMMARY:Yoga on The Green with Lululemon Athletica
DESCRIPTION:Join us for Yoga on The Green classes with Lululemon Athletica at The Americana at Brand on Sundays from 9:30AM – 10:30AM and Thursdays from 11AM – 12PM! \nClasses are free and open to the public. \nMeet on The Green.
URL:https://downtownglendale.com/event/yoga-on-the-green-with-lululemon-athletica-3/2016-07-10/
LOCATION:The Americana at Brand\, 889 Americana Way\, Glendale\, CA\, 91210\, United States
GEO:34.1445873;-118.2576743
X-APPLE-STRUCTURED-LOCATION;VALUE=URI;X-ADDRESS=The Americana at Brand 889 Americana Way Glendale CA 91210 United States;X-APPLE-RADIUS=500;X-TITLE=889 Americana Way:geo:-118.2576743,34.1445873
END:VEVENT
BEGIN:VEVENT
DTSTART;TZID=America/Los_Angeles:20160707T110000
DTEND;TZID=America/Los_Angeles:20160707T120000
DTSTAMP:20260425T163354
CREATED:20160104T080035Z
LAST-MODIFIED:20160104T080035Z
UID:10003478-1467889200-1467892800@downtownglendale.com
SUMMARY:Yoga on The Green with Lululemon Athletica
DESCRIPTION:Join us for Yoga on The Green classes with Lululemon Athletica at The Americana at Brand on Sundays from 9:30AM – 10:30AM and Thursdays from 11AM – 12PM! \nClasses are free and open to the public. \nMeet on The Green.
URL:https://downtownglendale.com/event/yoga-on-the-green-with-lululemon-athletica-4/2016-07-07/
LOCATION:The Americana at Brand\, 889 Americana Way\, Glendale\, CA\, 91210\, United States
GEO:34.1445873;-118.2576743
X-APPLE-STRUCTURED-LOCATION;VALUE=URI;X-ADDRESS=The Americana at Brand 889 Americana Way Glendale CA 91210 United States;X-APPLE-RADIUS=500;X-TITLE=889 Americana Way:geo:-118.2576743,34.1445873
END:VEVENT
BEGIN:VEVENT
DTSTART;TZID=America/Los_Angeles:20160703T093000
DTEND;TZID=America/Los_Angeles:20160703T103000
DTSTAMP:20260425T163354
CREATED:20160104T075803Z
LAST-MODIFIED:20160104T075803Z
UID:10003427-1467538200-1467541800@downtownglendale.com
SUMMARY:Yoga on The Green with Lululemon Athletica
DESCRIPTION:Join us for Yoga on The Green classes with Lululemon Athletica at The Americana at Brand on Sundays from 9:30AM – 10:30AM and Thursdays from 11AM – 12PM! \nClasses are free and open to the public. \nMeet on The Green.
URL:https://downtownglendale.com/event/yoga-on-the-green-with-lululemon-athletica-3/2016-07-03/
LOCATION:The Americana at Brand\, 889 Americana Way\, Glendale\, CA\, 91210\, United States
GEO:34.1445873;-118.2576743
X-APPLE-STRUCTURED-LOCATION;VALUE=URI;X-ADDRESS=The Americana at Brand 889 Americana Way Glendale CA 91210 United States;X-APPLE-RADIUS=500;X-TITLE=889 Americana Way:geo:-118.2576743,34.1445873
END:VEVENT
END:VCALENDAR