BEGIN:VCALENDAR
VERSION:2.0
PRODID:-//Downtown Glendale - ECPv6.15.20//NONSGML v1.0//EN
CALSCALE:GREGORIAN
METHOD:PUBLISH
X-ORIGINAL-URL:https://downtownglendale.com
X-WR-CALDESC:Events for Downtown Glendale
REFRESH-INTERVAL;VALUE=DURATION:PT1H
X-Robots-Tag:noindex
X-PUBLISHED-TTL:PT1H
BEGIN:VTIMEZONE
TZID:America/Los_Angeles
BEGIN:DAYLIGHT
TZOFFSETFROM:-0800
TZOFFSETTO:-0700
TZNAME:PDT
DTSTART:20160313T100000
END:DAYLIGHT
BEGIN:STANDARD
TZOFFSETFROM:-0700
TZOFFSETTO:-0800
TZNAME:PST
DTSTART:20161106T090000
END:STANDARD
BEGIN:DAYLIGHT
TZOFFSETFROM:-0800
TZOFFSETTO:-0700
TZNAME:PDT
DTSTART:20170312T100000
END:DAYLIGHT
BEGIN:STANDARD
TZOFFSETFROM:-0700
TZOFFSETTO:-0800
TZNAME:PST
DTSTART:20171105T090000
END:STANDARD
BEGIN:DAYLIGHT
TZOFFSETFROM:-0800
TZOFFSETTO:-0700
TZNAME:PDT
DTSTART:20180311T100000
END:DAYLIGHT
BEGIN:STANDARD
TZOFFSETFROM:-0700
TZOFFSETTO:-0800
TZNAME:PST
DTSTART:20181104T090000
END:STANDARD
BEGIN:DAYLIGHT
TZOFFSETFROM:-0800
TZOFFSETTO:-0700
TZNAME:PDT
DTSTART:20190310T100000
END:DAYLIGHT
BEGIN:STANDARD
TZOFFSETFROM:-0700
TZOFFSETTO:-0800
TZNAME:PST
DTSTART:20191103T090000
END:STANDARD
END:VTIMEZONE
BEGIN:VEVENT
DTSTART;TZID=America/Los_Angeles:20180929T180000
DTEND;TZID=America/Los_Angeles:20180929T210000
DTSTAMP:20260424T163130
CREATED:20180925T154935Z
LAST-MODIFIED:20180925T154935Z
UID:10003391-1538244000-1538254800@downtownglendale.com
SUMMARY:Music on The Green: Black Market Reverie\, Presented by Capital One
DESCRIPTION:Starting Friday\, September 7th and continuing every weekend through Sunday\, September 30th\, Capital One invites you to Music on The Green – a fun\, free\, family friendly concert in the park featuring a variety of Jazz\, R&B\, Americana and Blues artists.  To learn more about each artist and when they perform\, see the schedule and links below. \nFridays & Saturdays: 6:00PM – 9:00PM\nSundays: 5:00PM – 8:00PM
URL:https://downtownglendale.com/event/music-on-the-green-black-market-reverie-presented-by-capital-one/
LOCATION:The Americana at Brand\, 889 Americana Way\, Glendale\, CA\, 91210\, United States
GEO:34.1445873;-118.2576743
X-APPLE-STRUCTURED-LOCATION;VALUE=URI;X-ADDRESS=The Americana at Brand 889 Americana Way Glendale CA 91210 United States;X-APPLE-RADIUS=500;X-TITLE=889 Americana Way:geo:-118.2576743,34.1445873
END:VEVENT
BEGIN:VEVENT
DTSTART;TZID=America/Los_Angeles:20180928T180000
DTEND;TZID=America/Los_Angeles:20180928T210000
DTSTAMP:20260424T163130
CREATED:20180925T154825Z
LAST-MODIFIED:20180925T154825Z
UID:10003390-1538157600-1538168400@downtownglendale.com
SUMMARY:Music on The Green: Dave Damiani Quartet\, Presented by Capital One
DESCRIPTION:Starting Friday\, September 7th and continuing every weekend through Sunday\, September 30th\, Capital One invites you to Music on The Green – a fun\, free\, family friendly concert in the park featuring a variety of Jazz\, R&B\, Americana and Blues artists.  To learn more about each artist and when they perform\, see the schedule and links below. \nFridays & Saturdays: 6:00PM – 9:00PM\nSundays: 5:00PM – 8:00PM
URL:https://downtownglendale.com/event/music-on-the-green-dave-damiani-quartet-presented-by-capital-one/
LOCATION:The Americana at Brand\, 889 Americana Way\, Glendale\, CA\, 91210\, United States
GEO:34.1445873;-118.2576743
X-APPLE-STRUCTURED-LOCATION;VALUE=URI;X-ADDRESS=The Americana at Brand 889 Americana Way Glendale CA 91210 United States;X-APPLE-RADIUS=500;X-TITLE=889 Americana Way:geo:-118.2576743,34.1445873
END:VEVENT
BEGIN:VEVENT
DTSTART;TZID=America/Los_Angeles:20180527T170000
DTEND;TZID=America/Los_Angeles:20180527T200000
DTSTAMP:20260424T163130
CREATED:20180510T080339Z
LAST-MODIFIED:20180510T080339Z
UID:10003944-1527440400-1527451200@downtownglendale.com
SUMMARY:The Americana at Brand Celebrating 10 Golden Years: Live Jazz on The Green
DESCRIPTION:We’re celebrating 10 years of the best shopping\, dining and entertainment with live music on The Green every Saturday and Sunday throughout the month of May!
URL:https://downtownglendale.com/event/the-americana-at-brand-celebrating-10-golden-years-live-jazz-on-the-green-8/
LOCATION:The Americana at Brand\, 889 Americana Way\, Glendale\, CA\, 91210\, United States
GEO:34.1445873;-118.2576743
X-APPLE-STRUCTURED-LOCATION;VALUE=URI;X-ADDRESS=The Americana at Brand 889 Americana Way Glendale CA 91210 United States;X-APPLE-RADIUS=500;X-TITLE=889 Americana Way:geo:-118.2576743,34.1445873
END:VEVENT
BEGIN:VEVENT
DTSTART;TZID=America/Los_Angeles:20180526T170000
DTEND;TZID=America/Los_Angeles:20180526T200000
DTSTAMP:20260424T163130
CREATED:20180510T080209Z
LAST-MODIFIED:20180510T080209Z
UID:10003943-1527354000-1527364800@downtownglendale.com
SUMMARY:The Americana at Brand Celebrating 10 Golden Years: Live Jazz on The Green
DESCRIPTION:We’re celebrating 10 years of the best shopping\, dining and entertainment with live music on The Green every Saturday and Sunday throughout the month of May!
URL:https://downtownglendale.com/event/the-americana-at-brand-celebrating-10-golden-years-live-jazz-on-the-green-7/
LOCATION:The Americana at Brand\, 889 Americana Way\, Glendale\, CA\, 91210\, United States
GEO:34.1445873;-118.2576743
X-APPLE-STRUCTURED-LOCATION;VALUE=URI;X-ADDRESS=The Americana at Brand 889 Americana Way Glendale CA 91210 United States;X-APPLE-RADIUS=500;X-TITLE=889 Americana Way:geo:-118.2576743,34.1445873
END:VEVENT
BEGIN:VEVENT
DTSTART;TZID=America/Los_Angeles:20180520T170000
DTEND;TZID=America/Los_Angeles:20180520T200000
DTSTAMP:20260424T163130
CREATED:20180510T080044Z
LAST-MODIFIED:20180510T080044Z
UID:10003942-1526835600-1526846400@downtownglendale.com
SUMMARY:The Americana at Brand Celebrating 10 Golden Years: Live Jazz on The Green
DESCRIPTION:We’re celebrating 10 years of the best shopping\, dining and entertainment with live music on The Green every Saturday and Sunday throughout the month of May!
URL:https://downtownglendale.com/event/the-americana-at-brand-celebrating-10-golden-years-live-jazz-on-the-green-6/
LOCATION:The Americana at Brand\, 889 Americana Way\, Glendale\, CA\, 91210\, United States
GEO:34.1445873;-118.2576743
X-APPLE-STRUCTURED-LOCATION;VALUE=URI;X-ADDRESS=The Americana at Brand 889 Americana Way Glendale CA 91210 United States;X-APPLE-RADIUS=500;X-TITLE=889 Americana Way:geo:-118.2576743,34.1445873
END:VEVENT
BEGIN:VEVENT
DTSTART;TZID=America/Los_Angeles:20180519T170000
DTEND;TZID=America/Los_Angeles:20180519T200000
DTSTAMP:20260424T163130
CREATED:20180510T075923Z
LAST-MODIFIED:20180510T075923Z
UID:10003941-1526749200-1526760000@downtownglendale.com
SUMMARY:The Americana at Brand Celebrating 10 Golden Years: Live Jazz on The Green
DESCRIPTION:We’re celebrating 10 years of the best shopping\, dining and entertainment with live music on The Green every Saturday and Sunday throughout the month of May!
URL:https://downtownglendale.com/event/the-americana-at-brand-celebrating-10-golden-years-live-jazz-on-the-green-5/
LOCATION:The Americana at Brand\, 889 Americana Way\, Glendale\, CA\, 91210\, United States
GEO:34.1445873;-118.2576743
X-APPLE-STRUCTURED-LOCATION;VALUE=URI;X-ADDRESS=The Americana at Brand 889 Americana Way Glendale CA 91210 United States;X-APPLE-RADIUS=500;X-TITLE=889 Americana Way:geo:-118.2576743,34.1445873
END:VEVENT
BEGIN:VEVENT
DTSTART;TZID=America/Los_Angeles:20180513T170000
DTEND;TZID=America/Los_Angeles:20180513T200000
DTSTAMP:20260424T163130
CREATED:20180510T075751Z
LAST-MODIFIED:20180510T075751Z
UID:10003940-1526230800-1526241600@downtownglendale.com
SUMMARY:The Americana at Brand Celebrating 10 Golden Years: Live Jazz on The Green
DESCRIPTION:We’re celebrating 10 years of the best shopping\, dining and entertainment with live music on The Green every Saturday and Sunday throughout the month of May!
URL:https://downtownglendale.com/event/the-americana-at-brand-celebrating-10-golden-years-live-jazz-on-the-green-4/
LOCATION:The Americana at Brand\, 889 Americana Way\, Glendale\, CA\, 91210\, United States
GEO:34.1445873;-118.2576743
X-APPLE-STRUCTURED-LOCATION;VALUE=URI;X-ADDRESS=The Americana at Brand 889 Americana Way Glendale CA 91210 United States;X-APPLE-RADIUS=500;X-TITLE=889 Americana Way:geo:-118.2576743,34.1445873
END:VEVENT
BEGIN:VEVENT
DTSTART;TZID=America/Los_Angeles:20180512T170000
DTEND;TZID=America/Los_Angeles:20180512T200000
DTSTAMP:20260424T163130
CREATED:20180510T075626Z
LAST-MODIFIED:20180510T075626Z
UID:10003939-1526144400-1526155200@downtownglendale.com
SUMMARY:The Americana at Brand Celebrating 10 Golden Years: Live Jazz on The Green
DESCRIPTION:We’re celebrating 10 years of the best shopping\, dining and entertainment with live music on The Green every Saturday and Sunday throughout the month of May!
URL:https://downtownglendale.com/event/the-americana-at-brand-celebrating-10-golden-years-live-jazz-on-the-green-3/
LOCATION:The Americana at Brand\, 889 Americana Way\, Glendale\, CA\, 91210\, United States
GEO:34.1445873;-118.2576743
X-APPLE-STRUCTURED-LOCATION;VALUE=URI;X-ADDRESS=The Americana at Brand 889 Americana Way Glendale CA 91210 United States;X-APPLE-RADIUS=500;X-TITLE=889 Americana Way:geo:-118.2576743,34.1445873
END:VEVENT
BEGIN:VEVENT
DTSTART;TZID=America/Los_Angeles:20180506T170000
DTEND;TZID=America/Los_Angeles:20180506T200000
DTSTAMP:20260424T163130
CREATED:20180510T075451Z
LAST-MODIFIED:20180510T075451Z
UID:10003938-1525626000-1525636800@downtownglendale.com
SUMMARY:The Americana at Brand Celebrating 10 Golden Years: Live Jazz on The Green
DESCRIPTION:We’re celebrating 10 years of the best shopping\, dining and entertainment with live music on The Green every Saturday and Sunday throughout the month of May!
URL:https://downtownglendale.com/event/the-americana-at-brand-celebrating-10-golden-years-live-jazz-on-the-green-2/
LOCATION:The Americana at Brand\, 889 Americana Way\, Glendale\, CA\, 91210\, United States
GEO:34.1445873;-118.2576743
X-APPLE-STRUCTURED-LOCATION;VALUE=URI;X-ADDRESS=The Americana at Brand 889 Americana Way Glendale CA 91210 United States;X-APPLE-RADIUS=500;X-TITLE=889 Americana Way:geo:-118.2576743,34.1445873
END:VEVENT
BEGIN:VEVENT
DTSTART;TZID=America/Los_Angeles:20180505T170000
DTEND;TZID=America/Los_Angeles:20180505T200000
DTSTAMP:20260424T163130
CREATED:20180510T075324Z
LAST-MODIFIED:20180510T075324Z
UID:10003937-1525539600-1525550400@downtownglendale.com
SUMMARY:The Americana at Brand Celebrating 10 Golden Years: Live Jazz on The Green
DESCRIPTION:We’re celebrating 10 years of the best shopping\, dining and entertainment with live music on The Green every Saturday and Sunday throughout the month of May!
URL:https://downtownglendale.com/event/the-americana-at-brand-celebrating-10-golden-years-live-jazz-on-the-green/
LOCATION:The Americana at Brand\, 889 Americana Way\, Glendale\, CA\, 91210\, United States
GEO:34.1445873;-118.2576743
X-APPLE-STRUCTURED-LOCATION;VALUE=URI;X-ADDRESS=The Americana at Brand 889 Americana Way Glendale CA 91210 United States;X-APPLE-RADIUS=500;X-TITLE=889 Americana Way:geo:-118.2576743,34.1445873
END:VEVENT
BEGIN:VEVENT
DTSTART;TZID=America/Los_Angeles:20180315T160000
DTEND;TZID=America/Los_Angeles:20180315T210000
DTSTAMP:20260424T163130
CREATED:20180301T064856Z
LAST-MODIFIED:20180301T064856Z
UID:10003925-1521129600-1521147600@downtownglendale.com
SUMMARY:Third Thursdays on Brand
DESCRIPTION:Join us for Third Thursdays outside the Museum of Neon Art on Brand Blvd! The series kicks off March 15\, from 4 – 9PM. Come out to enjoy live music by local musicians\, discover handmade goods by artisans\, dine and drink at your favorite 252 South Brand Blvd eateries\, and more! Presented by Artisanal LA and Glendale Arts.
URL:https://downtownglendale.com/event/third-thursdays-brand/
LOCATION:The Americana at Brand\, 889 Americana Way\, Glendale\, CA\, 91210\, United States
GEO:34.1445873;-118.2576743
X-APPLE-STRUCTURED-LOCATION;VALUE=URI;X-ADDRESS=The Americana at Brand 889 Americana Way Glendale CA 91210 United States;X-APPLE-RADIUS=500;X-TITLE=889 Americana Way:geo:-118.2576743,34.1445873
END:VEVENT
BEGIN:VEVENT
DTSTART;TZID=America/Los_Angeles:20180304T160000
DTEND;TZID=America/Los_Angeles:20180304T210000
DTSTAMP:20260424T163130
CREATED:20180301T064704Z
LAST-MODIFIED:20180301T064704Z
UID:10003924-1520179200-1520197200@downtownglendale.com
SUMMARY:Samsung Presents: The Oscars Viewing Party
DESCRIPTION:Experience the biggest night in Hollywood at the Galaxy Studio on Sunday\, March 4\, beginning at 4PM on The Green. Galaxy owners will have front row viewing!
URL:https://downtownglendale.com/event/samsung-presents-oscars-viewing-party/
LOCATION:The Americana at Brand\, 889 Americana Way\, Glendale\, CA\, 91210\, United States
GEO:34.1445873;-118.2576743
X-APPLE-STRUCTURED-LOCATION;VALUE=URI;X-ADDRESS=The Americana at Brand 889 Americana Way Glendale CA 91210 United States;X-APPLE-RADIUS=500;X-TITLE=889 Americana Way:geo:-118.2576743,34.1445873
END:VEVENT
BEGIN:VEVENT
DTSTART;VALUE=DATE:20180226
DTEND;VALUE=DATE:20180317
DTSTAMP:20260424T163130
CREATED:20180301T064422Z
LAST-MODIFIED:20180301T064422Z
UID:10003923-1519603200-1521244799@downtownglendale.com
SUMMARY:The Americana at Brand Date Night
DESCRIPTION:Enjoy an ultimate night out at The Americana at Brand. Purchase a Date Night Package for $35 a person and enjoy dinner and a movie for two\, plus valet parking.
URL:https://downtownglendale.com/event/americana-brand-date-night/
LOCATION:The Americana at Brand\, 889 Americana Way\, Glendale\, CA\, 91210\, United States
GEO:34.1445873;-118.2576743
X-APPLE-STRUCTURED-LOCATION;VALUE=URI;X-ADDRESS=The Americana at Brand 889 Americana Way Glendale CA 91210 United States;X-APPLE-RADIUS=500;X-TITLE=889 Americana Way:geo:-118.2576743,34.1445873
END:VEVENT
BEGIN:VEVENT
DTSTART;TZID=America/Los_Angeles:20171228T110000
DTEND;TZID=America/Los_Angeles:20171228T120000
DTSTAMP:20260424T163130
CREATED:20170803T202055Z
LAST-MODIFIED:20170803T202055Z
UID:10003770-1514458800-1514462400@downtownglendale.com
SUMMARY:Yoga on the Green
DESCRIPTION:Join us for Yoga on The Green classes at The Americana at Brand on Thursdays from 11 a.m. – 12 p.m.! \nClasses are free and open to the public. \nMeet on The Green.
URL:https://downtownglendale.com/event/yoga-on-the-green/2017-12-28/
LOCATION:The Americana at Brand\, 889 Americana Way\, Glendale\, CA\, 91210\, United States
GEO:34.1445873;-118.2576743
X-APPLE-STRUCTURED-LOCATION;VALUE=URI;X-ADDRESS=The Americana at Brand 889 Americana Way Glendale CA 91210 United States;X-APPLE-RADIUS=500;X-TITLE=889 Americana Way:geo:-118.2576743,34.1445873
END:VEVENT
BEGIN:VEVENT
DTSTART;TZID=America/Los_Angeles:20171227T110000
DTEND;TZID=America/Los_Angeles:20171227T120000
DTSTAMP:20260424T163130
CREATED:20170803T204611Z
LAST-MODIFIED:20170803T204611Z
UID:10003822-1514372400-1514376000@downtownglendale.com
SUMMARY:Kids Yoga on the Green
DESCRIPTION:Please join us for a fun filled Kids Yoga class on The Green with Heather Mendoza. Recommended for 3-6 year olds\, but parents are always welcome to join in on the fun! \nWednesdays\, 11-11:45 a.m.
URL:https://downtownglendale.com/event/kids-yoga-green/2017-12-27/
LOCATION:The Americana at Brand\, 889 Americana Way\, Glendale\, CA\, 91210\, United States
GEO:34.1445873;-118.2576743
X-APPLE-STRUCTURED-LOCATION;VALUE=URI;X-ADDRESS=The Americana at Brand 889 Americana Way Glendale CA 91210 United States;X-APPLE-RADIUS=500;X-TITLE=889 Americana Way:geo:-118.2576743,34.1445873
END:VEVENT
BEGIN:VEVENT
DTSTART;TZID=America/Los_Angeles:20171221T110000
DTEND;TZID=America/Los_Angeles:20171221T120000
DTSTAMP:20260424T163130
CREATED:20170803T202055Z
LAST-MODIFIED:20170803T202055Z
UID:10003769-1513854000-1513857600@downtownglendale.com
SUMMARY:Yoga on the Green
DESCRIPTION:Join us for Yoga on The Green classes at The Americana at Brand on Thursdays from 11 a.m. – 12 p.m.! \nClasses are free and open to the public. \nMeet on The Green.
URL:https://downtownglendale.com/event/yoga-on-the-green/2017-12-21/
LOCATION:The Americana at Brand\, 889 Americana Way\, Glendale\, CA\, 91210\, United States
GEO:34.1445873;-118.2576743
X-APPLE-STRUCTURED-LOCATION;VALUE=URI;X-ADDRESS=The Americana at Brand 889 Americana Way Glendale CA 91210 United States;X-APPLE-RADIUS=500;X-TITLE=889 Americana Way:geo:-118.2576743,34.1445873
END:VEVENT
BEGIN:VEVENT
DTSTART;TZID=America/Los_Angeles:20171220T110000
DTEND;TZID=America/Los_Angeles:20171220T120000
DTSTAMP:20260424T163130
CREATED:20170803T204611Z
LAST-MODIFIED:20170803T204611Z
UID:10003821-1513767600-1513771200@downtownglendale.com
SUMMARY:Kids Yoga on the Green
DESCRIPTION:Please join us for a fun filled Kids Yoga class on The Green with Heather Mendoza. Recommended for 3-6 year olds\, but parents are always welcome to join in on the fun! \nWednesdays\, 11-11:45 a.m.
URL:https://downtownglendale.com/event/kids-yoga-green/2017-12-20/
LOCATION:The Americana at Brand\, 889 Americana Way\, Glendale\, CA\, 91210\, United States
GEO:34.1445873;-118.2576743
X-APPLE-STRUCTURED-LOCATION;VALUE=URI;X-ADDRESS=The Americana at Brand 889 Americana Way Glendale CA 91210 United States;X-APPLE-RADIUS=500;X-TITLE=889 Americana Way:geo:-118.2576743,34.1445873
END:VEVENT
BEGIN:VEVENT
DTSTART;TZID=America/Los_Angeles:20171214T110000
DTEND;TZID=America/Los_Angeles:20171214T120000
DTSTAMP:20260424T163130
CREATED:20170803T202055Z
LAST-MODIFIED:20170803T202055Z
UID:10003768-1513249200-1513252800@downtownglendale.com
SUMMARY:Yoga on the Green
DESCRIPTION:Join us for Yoga on The Green classes at The Americana at Brand on Thursdays from 11 a.m. – 12 p.m.! \nClasses are free and open to the public. \nMeet on The Green.
URL:https://downtownglendale.com/event/yoga-on-the-green/2017-12-14/
LOCATION:The Americana at Brand\, 889 Americana Way\, Glendale\, CA\, 91210\, United States
GEO:34.1445873;-118.2576743
X-APPLE-STRUCTURED-LOCATION;VALUE=URI;X-ADDRESS=The Americana at Brand 889 Americana Way Glendale CA 91210 United States;X-APPLE-RADIUS=500;X-TITLE=889 Americana Way:geo:-118.2576743,34.1445873
END:VEVENT
BEGIN:VEVENT
DTSTART;TZID=America/Los_Angeles:20171213T110000
DTEND;TZID=America/Los_Angeles:20171213T120000
DTSTAMP:20260424T163130
CREATED:20170803T204611Z
LAST-MODIFIED:20170803T204611Z
UID:10003820-1513162800-1513166400@downtownglendale.com
SUMMARY:Kids Yoga on the Green
DESCRIPTION:Please join us for a fun filled Kids Yoga class on The Green with Heather Mendoza. Recommended for 3-6 year olds\, but parents are always welcome to join in on the fun! \nWednesdays\, 11-11:45 a.m.
URL:https://downtownglendale.com/event/kids-yoga-green/2017-12-13/
LOCATION:The Americana at Brand\, 889 Americana Way\, Glendale\, CA\, 91210\, United States
GEO:34.1445873;-118.2576743
X-APPLE-STRUCTURED-LOCATION;VALUE=URI;X-ADDRESS=The Americana at Brand 889 Americana Way Glendale CA 91210 United States;X-APPLE-RADIUS=500;X-TITLE=889 Americana Way:geo:-118.2576743,34.1445873
END:VEVENT
BEGIN:VEVENT
DTSTART;TZID=America/Los_Angeles:20171207T110000
DTEND;TZID=America/Los_Angeles:20171207T120000
DTSTAMP:20260424T163130
CREATED:20170803T202055Z
LAST-MODIFIED:20170803T202055Z
UID:10003767-1512644400-1512648000@downtownglendale.com
SUMMARY:Yoga on the Green
DESCRIPTION:Join us for Yoga on The Green classes at The Americana at Brand on Thursdays from 11 a.m. – 12 p.m.! \nClasses are free and open to the public. \nMeet on The Green.
URL:https://downtownglendale.com/event/yoga-on-the-green/2017-12-07/
LOCATION:The Americana at Brand\, 889 Americana Way\, Glendale\, CA\, 91210\, United States
GEO:34.1445873;-118.2576743
X-APPLE-STRUCTURED-LOCATION;VALUE=URI;X-ADDRESS=The Americana at Brand 889 Americana Way Glendale CA 91210 United States;X-APPLE-RADIUS=500;X-TITLE=889 Americana Way:geo:-118.2576743,34.1445873
END:VEVENT
BEGIN:VEVENT
DTSTART;TZID=America/Los_Angeles:20171206T110000
DTEND;TZID=America/Los_Angeles:20171206T120000
DTSTAMP:20260424T163130
CREATED:20170803T204611Z
LAST-MODIFIED:20170803T204611Z
UID:10003819-1512558000-1512561600@downtownglendale.com
SUMMARY:Kids Yoga on the Green
DESCRIPTION:Please join us for a fun filled Kids Yoga class on The Green with Heather Mendoza. Recommended for 3-6 year olds\, but parents are always welcome to join in on the fun! \nWednesdays\, 11-11:45 a.m.
URL:https://downtownglendale.com/event/kids-yoga-green/2017-12-06/
LOCATION:The Americana at Brand\, 889 Americana Way\, Glendale\, CA\, 91210\, United States
GEO:34.1445873;-118.2576743
X-APPLE-STRUCTURED-LOCATION;VALUE=URI;X-ADDRESS=The Americana at Brand 889 Americana Way Glendale CA 91210 United States;X-APPLE-RADIUS=500;X-TITLE=889 Americana Way:geo:-118.2576743,34.1445873
END:VEVENT
BEGIN:VEVENT
DTSTART;TZID=America/Los_Angeles:20171130T110000
DTEND;TZID=America/Los_Angeles:20171130T120000
DTSTAMP:20260424T163130
CREATED:20170803T202055Z
LAST-MODIFIED:20170803T202055Z
UID:10003766-1512039600-1512043200@downtownglendale.com
SUMMARY:Yoga on the Green
DESCRIPTION:Join us for Yoga on The Green classes at The Americana at Brand on Thursdays from 11 a.m. – 12 p.m.! \nClasses are free and open to the public. \nMeet on The Green.
URL:https://downtownglendale.com/event/yoga-on-the-green/2017-11-30/
LOCATION:The Americana at Brand\, 889 Americana Way\, Glendale\, CA\, 91210\, United States
GEO:34.1445873;-118.2576743
X-APPLE-STRUCTURED-LOCATION;VALUE=URI;X-ADDRESS=The Americana at Brand 889 Americana Way Glendale CA 91210 United States;X-APPLE-RADIUS=500;X-TITLE=889 Americana Way:geo:-118.2576743,34.1445873
END:VEVENT
BEGIN:VEVENT
DTSTART;TZID=America/Los_Angeles:20171129T110000
DTEND;TZID=America/Los_Angeles:20171129T120000
DTSTAMP:20260424T163130
CREATED:20170803T204611Z
LAST-MODIFIED:20170803T204611Z
UID:10003818-1511953200-1511956800@downtownglendale.com
SUMMARY:Kids Yoga on the Green
DESCRIPTION:Please join us for a fun filled Kids Yoga class on The Green with Heather Mendoza. Recommended for 3-6 year olds\, but parents are always welcome to join in on the fun! \nWednesdays\, 11-11:45 a.m.
URL:https://downtownglendale.com/event/kids-yoga-green/2017-11-29/
LOCATION:The Americana at Brand\, 889 Americana Way\, Glendale\, CA\, 91210\, United States
GEO:34.1445873;-118.2576743
X-APPLE-STRUCTURED-LOCATION;VALUE=URI;X-ADDRESS=The Americana at Brand 889 Americana Way Glendale CA 91210 United States;X-APPLE-RADIUS=500;X-TITLE=889 Americana Way:geo:-118.2576743,34.1445873
END:VEVENT
BEGIN:VEVENT
DTSTART;TZID=America/Los_Angeles:20171123T110000
DTEND;TZID=America/Los_Angeles:20171123T120000
DTSTAMP:20260424T163130
CREATED:20170803T202055Z
LAST-MODIFIED:20170803T202055Z
UID:10003765-1511434800-1511438400@downtownglendale.com
SUMMARY:Yoga on the Green
DESCRIPTION:Join us for Yoga on The Green classes at The Americana at Brand on Thursdays from 11 a.m. – 12 p.m.! \nClasses are free and open to the public. \nMeet on The Green.
URL:https://downtownglendale.com/event/yoga-on-the-green/2017-11-23/
LOCATION:The Americana at Brand\, 889 Americana Way\, Glendale\, CA\, 91210\, United States
GEO:34.1445873;-118.2576743
X-APPLE-STRUCTURED-LOCATION;VALUE=URI;X-ADDRESS=The Americana at Brand 889 Americana Way Glendale CA 91210 United States;X-APPLE-RADIUS=500;X-TITLE=889 Americana Way:geo:-118.2576743,34.1445873
END:VEVENT
BEGIN:VEVENT
DTSTART;TZID=America/Los_Angeles:20171122T110000
DTEND;TZID=America/Los_Angeles:20171122T120000
DTSTAMP:20260424T163130
CREATED:20170803T204611Z
LAST-MODIFIED:20170803T204611Z
UID:10003817-1511348400-1511352000@downtownglendale.com
SUMMARY:Kids Yoga on the Green
DESCRIPTION:Please join us for a fun filled Kids Yoga class on The Green with Heather Mendoza. Recommended for 3-6 year olds\, but parents are always welcome to join in on the fun! \nWednesdays\, 11-11:45 a.m.
URL:https://downtownglendale.com/event/kids-yoga-green/2017-11-22/
LOCATION:The Americana at Brand\, 889 Americana Way\, Glendale\, CA\, 91210\, United States
GEO:34.1445873;-118.2576743
X-APPLE-STRUCTURED-LOCATION;VALUE=URI;X-ADDRESS=The Americana at Brand 889 Americana Way Glendale CA 91210 United States;X-APPLE-RADIUS=500;X-TITLE=889 Americana Way:geo:-118.2576743,34.1445873
END:VEVENT
BEGIN:VEVENT
DTSTART;TZID=America/Los_Angeles:20171116T110000
DTEND;TZID=America/Los_Angeles:20171116T120000
DTSTAMP:20260424T163130
CREATED:20170803T202055Z
LAST-MODIFIED:20170803T202055Z
UID:10003764-1510830000-1510833600@downtownglendale.com
SUMMARY:Yoga on the Green
DESCRIPTION:Join us for Yoga on The Green classes at The Americana at Brand on Thursdays from 11 a.m. – 12 p.m.! \nClasses are free and open to the public. \nMeet on The Green.
URL:https://downtownglendale.com/event/yoga-on-the-green/2017-11-16/
LOCATION:The Americana at Brand\, 889 Americana Way\, Glendale\, CA\, 91210\, United States
GEO:34.1445873;-118.2576743
X-APPLE-STRUCTURED-LOCATION;VALUE=URI;X-ADDRESS=The Americana at Brand 889 Americana Way Glendale CA 91210 United States;X-APPLE-RADIUS=500;X-TITLE=889 Americana Way:geo:-118.2576743,34.1445873
END:VEVENT
BEGIN:VEVENT
DTSTART;TZID=America/Los_Angeles:20171115T110000
DTEND;TZID=America/Los_Angeles:20171115T120000
DTSTAMP:20260424T163130
CREATED:20170803T204611Z
LAST-MODIFIED:20170803T204611Z
UID:10003816-1510743600-1510747200@downtownglendale.com
SUMMARY:Kids Yoga on the Green
DESCRIPTION:Please join us for a fun filled Kids Yoga class on The Green with Heather Mendoza. Recommended for 3-6 year olds\, but parents are always welcome to join in on the fun! \nWednesdays\, 11-11:45 a.m.
URL:https://downtownglendale.com/event/kids-yoga-green/2017-11-15/
LOCATION:The Americana at Brand\, 889 Americana Way\, Glendale\, CA\, 91210\, United States
GEO:34.1445873;-118.2576743
X-APPLE-STRUCTURED-LOCATION;VALUE=URI;X-ADDRESS=The Americana at Brand 889 Americana Way Glendale CA 91210 United States;X-APPLE-RADIUS=500;X-TITLE=889 Americana Way:geo:-118.2576743,34.1445873
END:VEVENT
BEGIN:VEVENT
DTSTART;TZID=America/Los_Angeles:20171109T110000
DTEND;TZID=America/Los_Angeles:20171109T120000
DTSTAMP:20260424T163130
CREATED:20170803T202055Z
LAST-MODIFIED:20170803T202055Z
UID:10003763-1510225200-1510228800@downtownglendale.com
SUMMARY:Yoga on the Green
DESCRIPTION:Join us for Yoga on The Green classes at The Americana at Brand on Thursdays from 11 a.m. – 12 p.m.! \nClasses are free and open to the public. \nMeet on The Green.
URL:https://downtownglendale.com/event/yoga-on-the-green/2017-11-09/
LOCATION:The Americana at Brand\, 889 Americana Way\, Glendale\, CA\, 91210\, United States
GEO:34.1445873;-118.2576743
X-APPLE-STRUCTURED-LOCATION;VALUE=URI;X-ADDRESS=The Americana at Brand 889 Americana Way Glendale CA 91210 United States;X-APPLE-RADIUS=500;X-TITLE=889 Americana Way:geo:-118.2576743,34.1445873
END:VEVENT
BEGIN:VEVENT
DTSTART;TZID=America/Los_Angeles:20171108T110000
DTEND;TZID=America/Los_Angeles:20171108T120000
DTSTAMP:20260424T163130
CREATED:20170803T204611Z
LAST-MODIFIED:20170803T204611Z
UID:10003815-1510138800-1510142400@downtownglendale.com
SUMMARY:Kids Yoga on the Green
DESCRIPTION:Please join us for a fun filled Kids Yoga class on The Green with Heather Mendoza. Recommended for 3-6 year olds\, but parents are always welcome to join in on the fun! \nWednesdays\, 11-11:45 a.m.
URL:https://downtownglendale.com/event/kids-yoga-green/2017-11-08/
LOCATION:The Americana at Brand\, 889 Americana Way\, Glendale\, CA\, 91210\, United States
GEO:34.1445873;-118.2576743
X-APPLE-STRUCTURED-LOCATION;VALUE=URI;X-ADDRESS=The Americana at Brand 889 Americana Way Glendale CA 91210 United States;X-APPLE-RADIUS=500;X-TITLE=889 Americana Way:geo:-118.2576743,34.1445873
END:VEVENT
BEGIN:VEVENT
DTSTART;TZID=America/Los_Angeles:20171102T110000
DTEND;TZID=America/Los_Angeles:20171102T120000
DTSTAMP:20260424T163130
CREATED:20170803T202055Z
LAST-MODIFIED:20170803T202055Z
UID:10003762-1509620400-1509624000@downtownglendale.com
SUMMARY:Yoga on the Green
DESCRIPTION:Join us for Yoga on The Green classes at The Americana at Brand on Thursdays from 11 a.m. – 12 p.m.! \nClasses are free and open to the public. \nMeet on The Green.
URL:https://downtownglendale.com/event/yoga-on-the-green/2017-11-02/
LOCATION:The Americana at Brand\, 889 Americana Way\, Glendale\, CA\, 91210\, United States
GEO:34.1445873;-118.2576743
X-APPLE-STRUCTURED-LOCATION;VALUE=URI;X-ADDRESS=The Americana at Brand 889 Americana Way Glendale CA 91210 United States;X-APPLE-RADIUS=500;X-TITLE=889 Americana Way:geo:-118.2576743,34.1445873
END:VEVENT
END:VCALENDAR