BEGIN:VCALENDAR
VERSION:2.0
PRODID:-//Downtown Glendale - ECPv6.15.20//NONSGML v1.0//EN
CALSCALE:GREGORIAN
METHOD:PUBLISH
X-WR-CALNAME:Downtown Glendale
X-ORIGINAL-URL:https://downtownglendale.com
X-WR-CALDESC:Events for Downtown Glendale
REFRESH-INTERVAL;VALUE=DURATION:PT1H
X-Robots-Tag:noindex
X-PUBLISHED-TTL:PT1H
BEGIN:VTIMEZONE
TZID:America/Los_Angeles
BEGIN:DAYLIGHT
TZOFFSETFROM:-0800
TZOFFSETTO:-0700
TZNAME:PDT
DTSTART:20120311T100000
END:DAYLIGHT
BEGIN:STANDARD
TZOFFSETFROM:-0700
TZOFFSETTO:-0800
TZNAME:PST
DTSTART:20121104T090000
END:STANDARD
BEGIN:DAYLIGHT
TZOFFSETFROM:-0800
TZOFFSETTO:-0700
TZNAME:PDT
DTSTART:20130310T100000
END:DAYLIGHT
BEGIN:STANDARD
TZOFFSETFROM:-0700
TZOFFSETTO:-0800
TZNAME:PST
DTSTART:20131103T090000
END:STANDARD
BEGIN:DAYLIGHT
TZOFFSETFROM:-0800
TZOFFSETTO:-0700
TZNAME:PDT
DTSTART:20140309T100000
END:DAYLIGHT
BEGIN:STANDARD
TZOFFSETFROM:-0700
TZOFFSETTO:-0800
TZNAME:PST
DTSTART:20141102T090000
END:STANDARD
BEGIN:DAYLIGHT
TZOFFSETFROM:-0800
TZOFFSETTO:-0700
TZNAME:PDT
DTSTART:20150308T100000
END:DAYLIGHT
BEGIN:STANDARD
TZOFFSETFROM:-0700
TZOFFSETTO:-0800
TZNAME:PST
DTSTART:20151101T090000
END:STANDARD
BEGIN:DAYLIGHT
TZOFFSETFROM:-0800
TZOFFSETTO:-0700
TZNAME:PDT
DTSTART:20160313T100000
END:DAYLIGHT
BEGIN:STANDARD
TZOFFSETFROM:-0700
TZOFFSETTO:-0800
TZNAME:PST
DTSTART:20161106T090000
END:STANDARD
END:VTIMEZONE
BEGIN:VEVENT
DTSTART;TZID=America/Los_Angeles:20151105T183000
DTEND;TZID=America/Los_Angeles:20151105T183000
DTSTAMP:20260420T025442
CREATED:20151102T085431Z
LAST-MODIFIED:20151102T085431Z
UID:10003304-1446748200-1446748200@downtownglendale.com
SUMMARY:YMCA of Glendale Inaugural Gala Fundraiser
DESCRIPTION:On Nov. 5th\, an elegant\, evening gala will be held to celebrate the completion of Phase I of the transformation of the YMCA of Glendale into a state-of-the-art and contemporary facility\, as well as the organization’s transformational impact on the health and well-being of not only its membership but the overall community. \nThemed A Night of Stories: Celebrating 96 Years of Building Community … And a Foundation for the Future\, this will be the first of an annual fundraiser. Highlighting the event in the Y’s gymnasium—which will be transformed for this magical evening (business/cocktail attire)—will be a sit-down dinner; bar offerings; a Broadway review with live music; and more. \nTickets $100.00 • Contact Arnella Putzel • aputzel@glenymca.org • 818.696.2591
URL:https://downtownglendale.com/event/ymca-of-glendale-inaugural-gala-fundraiser/
LOCATION:YMCA of Glendale\, 735 E. Lexington Dr. \, Glendale\, CA\, 91206\, United States
GEO:34.1520439;-118.245727
X-APPLE-STRUCTURED-LOCATION;VALUE=URI;X-ADDRESS=YMCA of Glendale 735 E. Lexington Dr.  Glendale CA 91206 United States;X-APPLE-RADIUS=500;X-TITLE=735 E. Lexington Dr.:geo:-118.245727,34.1520439
END:VEVENT
BEGIN:VEVENT
DTSTART;TZID=America/Los_Angeles:20131218T173000
DTEND;TZID=America/Los_Angeles:20131218T193000
DTSTAMP:20260420T025442
CREATED:20131125T201127Z
LAST-MODIFIED:20131125T201127Z
UID:10002996-1387387800-1387395000@downtownglendale.com
SUMMARY:Glendale Chamber of Commerce - After Hours Business Mixer @ YWCA Glendale
DESCRIPTION:Members: $10 \nNon-Members: $20
URL:https://downtownglendale.com/event/glendale-chamber-of-commerce-after-hours-business-mixer-ywca-glendale/
LOCATION:YMCA of Glendale\, 735 E. Lexington Dr. \, Glendale\, CA\, 91206\, United States
ORGANIZER;CN="Glendale Chamber of Commerce":MAILTO:info@glendalechamber.com
GEO:34.1520439;-118.245727
X-APPLE-STRUCTURED-LOCATION;VALUE=URI;X-ADDRESS=YMCA of Glendale 735 E. Lexington Dr.  Glendale CA 91206 United States;X-APPLE-RADIUS=500;X-TITLE=735 E. Lexington Dr.:geo:-118.245727,34.1520439
END:VEVENT
END:VCALENDAR